| Back to Multiple platform build/check report for BioC 3.7 |
|
This page was generated on 2018-10-17 08:29:38 -0400 (Wed, 17 Oct 2018).
| Package 1130/1561 | Hostname | OS / Arch | INSTALL | BUILD | CHECK | BUILD BIN | ||||||
| proFIA 1.6.0 Alexis Delabriere
| malbec2 | Linux (Ubuntu 16.04.1 LTS) / x86_64 | OK | OK | [ OK ] | |||||||
| tokay2 | Windows Server 2012 R2 Standard / x64 | OK | OK | OK | OK | |||||||
| merida2 | OS X 10.11.6 El Capitan / x86_64 | OK | OK | OK | OK |
| Package: proFIA |
| Version: 1.6.0 |
| Command: /home/biocbuild/bbs-3.7-bioc/R/bin/R CMD check --install=check:proFIA.install-out.txt --library=/home/biocbuild/bbs-3.7-bioc/R/library --no-vignettes --timings proFIA_1.6.0.tar.gz |
| StartedAt: 2018-10-16 02:50:08 -0400 (Tue, 16 Oct 2018) |
| EndedAt: 2018-10-16 02:54:46 -0400 (Tue, 16 Oct 2018) |
| EllapsedTime: 278.2 seconds |
| RetCode: 0 |
| Status: OK |
| CheckDir: proFIA.Rcheck |
| Warnings: 0 |
##############################################################################
##############################################################################
###
### Running command:
###
### /home/biocbuild/bbs-3.7-bioc/R/bin/R CMD check --install=check:proFIA.install-out.txt --library=/home/biocbuild/bbs-3.7-bioc/R/library --no-vignettes --timings proFIA_1.6.0.tar.gz
###
##############################################################################
##############################################################################
* using log directory ‘/home/biocbuild/bbs-3.7-bioc/meat/proFIA.Rcheck’
* using R version 3.5.1 Patched (2018-07-12 r74967)
* using platform: x86_64-pc-linux-gnu (64-bit)
* using session charset: UTF-8
* using option ‘--no-vignettes’
* checking for file ‘proFIA/DESCRIPTION’ ... OK
* checking extension type ... Package
* this is package ‘proFIA’ version ‘1.6.0’
* checking package namespace information ... OK
* checking package dependencies ... OK
* checking if this is a source package ... OK
* checking if there is a namespace ... OK
* checking for hidden files and directories ... NOTE
Found the following hidden files and directories:
.BBSoptions
These were most likely included in error. See section ‘Package
structure’ in the ‘Writing R Extensions’ manual.
* checking for portable file names ... OK
* checking for sufficient/correct file permissions ... OK
* checking whether package ‘proFIA’ can be installed ... OK
* checking installed package size ... OK
* checking package directory ... OK
* checking ‘build’ directory ... OK
* checking DESCRIPTION meta-information ... OK
* checking top-level files ... OK
* checking for left-over files ... OK
* checking index information ... OK
* checking package subdirectories ... OK
* checking R files for non-ASCII characters ... OK
* checking R files for syntax errors ... OK
* checking whether the package can be loaded ... OK
* checking whether the package can be loaded with stated dependencies ... OK
* checking whether the package can be unloaded cleanly ... OK
* checking whether the namespace can be loaded with stated dependencies ... OK
* checking whether the namespace can be unloaded cleanly ... OK
* checking dependencies in R code ... OK
* checking S3 generic/method consistency ... OK
* checking replacement functions ... OK
* checking foreign function calls ... OK
* checking R code for possible problems ... OK
* checking Rd files ... OK
* checking Rd metadata ... OK
* checking Rd cross-references ... OK
* checking for missing documentation entries ... OK
* checking for code/documentation mismatches ... OK
* checking Rd \usage sections ... OK
* checking Rd contents ... OK
* checking for unstated dependencies in examples ... OK
* checking line endings in C/C++/Fortran sources/headers ... OK
* checking compiled code ... NOTE
Note: information on .o files is not available
* checking files in ‘vignettes’ ... OK
* checking examples ... OK
Examples with CPU or elapsed time > 5s
user system elapsed
proFIAset 74.164 1.532 75.787
impute.FIA-proFIAset-method 13.132 0.008 13.148
impute.randomForest-proFIAset-method 12.552 0.000 12.560
findFIASignal 10.904 0.240 11.159
plotFlowgrams-proFIAset-method 5.524 0.024 5.615
estimateNoiseMS 4.940 0.264 5.448
* checking for unstated dependencies in ‘tests’ ... OK
* checking tests ...
Running ‘runTests.R’
OK
* checking for unstated dependencies in vignettes ... OK
* checking package vignettes in ‘inst/doc’ ... OK
* checking running R code from vignettes ... SKIPPED
* checking re-building of vignette outputs ... SKIPPED
* checking PDF version of manual ... OK
* DONE
Status: 2 NOTEs
See
‘/home/biocbuild/bbs-3.7-bioc/meat/proFIA.Rcheck/00check.log’
for details.
proFIA.Rcheck/00install.out
############################################################################## ############################################################################## ### ### Running command: ### ### /home/biocbuild/bbs-3.7-bioc/R/bin/R CMD INSTALL proFIA ### ############################################################################## ############################################################################## * installing to library ‘/home/biocbuild/bbs-3.7-bioc/R/library’ * installing *source* package ‘proFIA’ ... ** libs gcc -I"/home/biocbuild/bbs-3.7-bioc/R/include" -DNDEBUG -I/usr/local/include -fpic -g -O2 -Wall -c FIABandsExtractionCentroid.c -o FIABandsExtractionCentroid.o gcc -I"/home/biocbuild/bbs-3.7-bioc/R/include" -DNDEBUG -I/usr/local/include -fpic -g -O2 -Wall -c UtilFunc.c -o UtilFunc.o gcc -I"/home/biocbuild/bbs-3.7-bioc/R/include" -DNDEBUG -I/usr/local/include -fpic -g -O2 -Wall -c fastMatchPpm.c -o fastMatchPpm.o gcc -shared -L/home/biocbuild/bbs-3.7-bioc/R/lib -L/usr/local/lib -o proFIA.so FIABandsExtractionCentroid.o UtilFunc.o fastMatchPpm.o -L/home/biocbuild/bbs-3.7-bioc/R/lib -lR installing to /home/biocbuild/bbs-3.7-bioc/R/library/proFIA/libs ** R ** inst ** byte-compile and prepare package for lazy loading ** help *** installing help indices ** building package indices ** installing vignettes ** testing if installed package can be loaded * DONE (proFIA)
proFIA.Rcheck/tests/runTests.Rout
R version 3.5.1 Patched (2018-07-12 r74967) -- "Feather Spray"
Copyright (C) 2018 The R Foundation for Statistical Computing
Platform: x86_64-pc-linux-gnu (64-bit)
R is free software and comes with ABSOLUTELY NO WARRANTY.
You are welcome to redistribute it under certain conditions.
Type 'license()' or 'licence()' for distribution details.
R is a collaborative project with many contributors.
Type 'contributors()' for more information and
'citation()' on how to cite R or R packages in publications.
Type 'demo()' for some demos, 'help()' for on-line help, or
'help.start()' for an HTML browser interface to help.
Type 'q()' to quit R.
> BiocGenerics:::testPackage("proFIA")
Attaching package: 'BiocGenerics'
The following objects are masked from 'package:parallel':
clusterApply, clusterApplyLB, clusterCall, clusterEvalQ,
clusterExport, clusterMap, parApply, parCapply, parLapply,
parLapplyLB, parRapply, parSapply, parSapplyLB
The following objects are masked from 'package:stats':
IQR, mad, sd, var, xtabs
The following objects are masked from 'package:base':
Filter, Find, Map, Position, Reduce, anyDuplicated, append,
as.data.frame, basename, cbind, colMeans, colSums, colnames,
dirname, do.call, duplicated, eval, evalq, get, grep, grepl,
intersect, is.unsorted, lapply, lengths, mapply, match, mget,
order, paste, pmax, pmax.int, pmin, pmin.int, rank, rbind,
rowMeans, rowSums, rownames, sapply, setdiff, sort, table, tapply,
union, unique, unsplit, which, which.max, which.min
Welcome to Bioconductor
Vignettes contain introductory material; view with
'browseVignettes()'. To cite Bioconductor, see
'citation("Biobase")', and for packages 'citation("pkgname")'.
This is MSnbase version 2.6.4
Visit https://lgatto.github.io/MSnbase/ to get started.
Attaching package: 'MSnbase'
The following object is masked from 'package:stats':
smooth
The following object is masked from 'package:base':
trimws
This is xcms version 3.2.0
Attaching package: 'xcms'
The following object is masked from 'package:stats':
sigma
Loading required package: plasFIA
A mass interval of 0.0153m/z will be used for the density estimation.
0 :0 10 :29 20 :54 30 :78 30 :105 40 :141 50 :174 60 :196 70 :208 80 :215 90 :219
219 groups have been done .
RUNIT TEST PROTOCOL -- Tue Oct 16 02:54:43 2018
***********************************************
Number of test functions: 5
Number of errors: 0
Number of failures: 0
1 Test Suite :
proFIA RUnit Tests - 5 test functions, 0 errors, 0 failures
Number of test functions: 5
Number of errors: 0
Number of failures: 0
>
> proc.time()
user system elapsed
8.008 0.192 8.796
proFIA.Rcheck/proFIA-Ex.timings
| name | user | system | elapsed | |
| acquisitionDirectory | 0.060 | 0.000 | 0.115 | |
| analyzeAcquisitionFIA | 0.012 | 0.000 | 0.010 | |
| determiningInjectionZone | 0.936 | 0.012 | 0.979 | |
| determiningSizePeak.Geom | 0.972 | 0.000 | 0.975 | |
| estimateNoiseMS | 4.940 | 0.264 | 5.448 | |
| exportDataMatrix-proFIAset-method | 0.016 | 0.000 | 0.014 | |
| exportExpressionSet-proFIAset-method | 0.064 | 0.000 | 0.062 | |
| exportPeakTable-proFIAset-method | 0.016 | 0.000 | 0.018 | |
| exportSampleMetadata-proFIAset-method | 0.016 | 0.000 | 0.016 | |
| exportVariableMetadata-proFIAset-method | 0.016 | 0.000 | 0.017 | |
| findBandsFIA | 1.272 | 0.136 | 1.412 | |
| findFIASignal | 10.904 | 0.240 | 11.159 | |
| findMzGroup-proFIAset-method | 0.032 | 0.000 | 0.044 | |
| getInjectionPeak | 2.472 | 0.096 | 2.571 | |
| group.FIA-proFIAset-method | 2.228 | 0.000 | 2.231 | |
| impute.FIA-proFIAset-method | 13.132 | 0.008 | 13.148 | |
| impute.KNN_TN-proFIAset-method | 0.8 | 0.0 | 0.8 | |
| impute.randomForest-proFIAset-method | 12.552 | 0.000 | 12.560 | |
| makeDataMatrix-proFIAset-method | 0.020 | 0.000 | 0.021 | |
| peaksGroup-proFIAset-method | 0.044 | 0.000 | 0.041 | |
| plot | 1.056 | 0.000 | 1.057 | |
| plotFlowgrams-proFIAset-method | 5.524 | 0.024 | 5.615 | |
| plotNoise | 0.200 | 0.000 | 0.201 | |
| plotRaw-proFIAset-method | 1.876 | 0.008 | 1.883 | |
| plotSamplePeaks-proFIAset-method | 0.02 | 0.00 | 0.02 | |
| proFIAset | 74.164 | 1.532 | 75.787 | |