| Back to Multiple platform build/check report for BioC 3.7 |
|
This page was generated on 2018-10-17 08:33:01 -0400 (Wed, 17 Oct 2018).
| Package 1118/1561 | Hostname | OS / Arch | INSTALL | BUILD | CHECK | BUILD BIN | ||||||
| ppiStats 1.46.0 Bioconductor Package Maintainer
| malbec2 | Linux (Ubuntu 16.04.1 LTS) / x86_64 | OK | OK | OK | |||||||
| tokay2 | Windows Server 2012 R2 Standard / x64 | [ OK ] | OK | OK | OK | |||||||
| merida2 | OS X 10.11.6 El Capitan / x86_64 | OK | OK | OK | OK |
| Package: ppiStats |
| Version: 1.46.0 |
| Command: C:\cygwin\bin\curl.exe -O https://malbec2.bioconductor.org/BBS/3.7/bioc/src/contrib/ppiStats_1.46.0.tar.gz && rm -rf ppiStats.buildbin-libdir && mkdir ppiStats.buildbin-libdir && C:\Users\biocbuild\bbs-3.7-bioc\R\bin\R.exe CMD INSTALL --merge-multiarch --build --library=ppiStats.buildbin-libdir ppiStats_1.46.0.tar.gz && C:\Users\biocbuild\bbs-3.7-bioc\R\bin\R.exe CMD INSTALL ppiStats_1.46.0.zip && rm ppiStats_1.46.0.tar.gz ppiStats_1.46.0.zip |
| StartedAt: 2018-10-16 19:49:29 -0400 (Tue, 16 Oct 2018) |
| EndedAt: 2018-10-16 19:50:27 -0400 (Tue, 16 Oct 2018) |
| EllapsedTime: 58.1 seconds |
| RetCode: 0 |
| Status: OK |
##############################################################################
##############################################################################
###
### Running command:
###
### C:\cygwin\bin\curl.exe -O https://malbec2.bioconductor.org/BBS/3.7/bioc/src/contrib/ppiStats_1.46.0.tar.gz && rm -rf ppiStats.buildbin-libdir && mkdir ppiStats.buildbin-libdir && C:\Users\biocbuild\bbs-3.7-bioc\R\bin\R.exe CMD INSTALL --merge-multiarch --build --library=ppiStats.buildbin-libdir ppiStats_1.46.0.tar.gz && C:\Users\biocbuild\bbs-3.7-bioc\R\bin\R.exe CMD INSTALL ppiStats_1.46.0.zip && rm ppiStats_1.46.0.tar.gz ppiStats_1.46.0.zip
###
##############################################################################
##############################################################################
% Total % Received % Xferd Average Speed Time Time Time Current
Dload Upload Total Spent Left Speed
0 0 0 0 0 0 0 0 --:--:-- --:--:-- --:--:-- 0
100 1017k 100 1017k 0 0 16.3M 0 --:--:-- --:--:-- --:--:-- 18.3M
install for i386
* installing *source* package 'ppiStats' ...
** R
** inst
** byte-compile and prepare package for lazy loading
No methods found in package 'Biobase' for request: 'listlen' when loading 'RpsiXML'
No methods found in package 'annotate' for requests: 'pubmed', 'buildPubMedAbst' when loading 'RpsiXML'
** help
*** installing help indices
converting help for package 'ppiStats'
finding HTML links ... done
assessSymmetry html
bpMatrix html
calcInOutDegStats html
createSummaryTables html
degreeEstimates html
estErrProbMethodOfMoments html
estimateCCMErrorRates html
estimatePPIErrorRates html
findAdjacent html
genBPGraph html
hgParams html
hgTests html
idProteinErrorType html
idProteinType html
inOutScatterCharts html
nullDistDoublyTestedEdges html
separateExptBySize html
twPERM html
viabilityCharts html
** building package indices
** installing vignettes
** testing if installed package can be loaded
No methods found in package 'Biobase' for request: 'listlen' when loading 'RpsiXML'
No methods found in package 'annotate' for requests: 'pubmed', 'buildPubMedAbst' when loading 'RpsiXML'
In R CMD INSTALL
install for x64
* installing *source* package 'ppiStats' ...
** testing if installed package can be loaded
No methods found in package 'Biobase' for request: 'listlen' when loading 'RpsiXML'
No methods found in package 'annotate' for requests: 'pubmed', 'buildPubMedAbst' when loading 'RpsiXML'
* MD5 sums
packaged installation of 'ppiStats' as ppiStats_1.46.0.zip
* DONE (ppiStats)
In R CMD INSTALL
In R CMD INSTALL
* installing to library 'C:/Users/biocbuild/bbs-3.7-bioc/R/library'
package 'ppiStats' successfully unpacked and MD5 sums checked
In R CMD INSTALL