| Back to Multiple platform build/check report for BioC 3.7 |
|
This page was generated on 2018-10-17 08:39:20 -0400 (Wed, 17 Oct 2018).
| Package 1112/1561 | Hostname | OS / Arch | INSTALL | BUILD | CHECK | BUILD BIN | ||||||
| polyester 1.16.0 Jack Fu
| malbec2 | Linux (Ubuntu 16.04.1 LTS) / x86_64 | OK | OK | OK | |||||||
| tokay2 | Windows Server 2012 R2 Standard / x64 | [ OK ] | OK | OK | OK | |||||||
| merida2 | OS X 10.11.6 El Capitan / x86_64 | OK | OK | OK | OK |
| Package: polyester |
| Version: 1.16.0 |
| Command: C:\cygwin\bin\curl.exe -O https://malbec2.bioconductor.org/BBS/3.7/bioc/src/contrib/polyester_1.16.0.tar.gz && rm -rf polyester.buildbin-libdir && mkdir polyester.buildbin-libdir && C:\Users\biocbuild\bbs-3.7-bioc\R\bin\R.exe CMD INSTALL --merge-multiarch --build --library=polyester.buildbin-libdir polyester_1.16.0.tar.gz && C:\Users\biocbuild\bbs-3.7-bioc\R\bin\R.exe CMD INSTALL polyester_1.16.0.zip && rm polyester_1.16.0.tar.gz polyester_1.16.0.zip |
| StartedAt: 2018-10-16 19:49:47 -0400 (Tue, 16 Oct 2018) |
| EndedAt: 2018-10-16 19:51:07 -0400 (Tue, 16 Oct 2018) |
| EllapsedTime: 79.8 seconds |
| RetCode: 0 |
| Status: OK |
##############################################################################
##############################################################################
###
### Running command:
###
### C:\cygwin\bin\curl.exe -O https://malbec2.bioconductor.org/BBS/3.7/bioc/src/contrib/polyester_1.16.0.tar.gz && rm -rf polyester.buildbin-libdir && mkdir polyester.buildbin-libdir && C:\Users\biocbuild\bbs-3.7-bioc\R\bin\R.exe CMD INSTALL --merge-multiarch --build --library=polyester.buildbin-libdir polyester_1.16.0.tar.gz && C:\Users\biocbuild\bbs-3.7-bioc\R\bin\R.exe CMD INSTALL polyester_1.16.0.zip && rm polyester_1.16.0.tar.gz polyester_1.16.0.zip
###
##############################################################################
##############################################################################
% Total % Received % Xferd Average Speed Time Time Time Current
Dload Upload Total Spent Left Speed
0 0 0 0 0 0 0 0 --:--:-- --:--:-- --:--:-- 0
100 1876k 100 1876k 0 0 21.5M 0 --:--:-- --:--:-- --:--:-- 23.2M
install for i386
* installing *source* package 'polyester' ...
** R
** data
** inst
** byte-compile and prepare package for lazy loading
** help
*** installing help indices
converting help for package 'polyester'
finding HTML links ... done
NB html
add_error html
add_gc_bias html
add_platform_error html
cdnaf html
count_transcripts html
create_read_numbers html
empirical_density html
finding level-2 HTML links ... done
fpkm_to_counts html
generate_fragments html
getAttributeField html
get_params html
get_reads html
gtf_dataframe html
loessfit1 html
loessfit2 html
loessfit3 html
loessfit4 html
loessfit5 html
loessfit6 html
loessfit7 html
model1 html
model2 html
model3 html
model4 html
model5 html
model6 html
model7 html
polyester html
reverse_complement html
rnaf html
seq_gtf html
simulate_experiment html
simulate_experiment_countmat html
simulate_experiment_empirical html
write_reads html
** building package indices
** installing vignettes
** testing if installed package can be loaded
In R CMD INSTALL
install for x64
* installing *source* package 'polyester' ...
** testing if installed package can be loaded
* MD5 sums
packaged installation of 'polyester' as polyester_1.16.0.zip
* DONE (polyester)
In R CMD INSTALL
In R CMD INSTALL
* installing to library 'C:/Users/biocbuild/bbs-3.7-bioc/R/library'
package 'polyester' successfully unpacked and MD5 sums checked
In R CMD INSTALL