| Back to Multiple platform build/check report for BioC 3.7 |
|
This page was generated on 2018-10-17 08:45:35 -0400 (Wed, 17 Oct 2018).
| Package 1108/1561 | Hostname | OS / Arch | INSTALL | BUILD | CHECK | BUILD BIN | ||||||
| plyranges 1.0.3 Stuart Lee
| malbec2 | Linux (Ubuntu 16.04.1 LTS) / x86_64 | OK | OK | OK | |||||||
| tokay2 | Windows Server 2012 R2 Standard / x64 | [ OK ] | OK | WARNINGS | OK | |||||||
| merida2 | OS X 10.11.6 El Capitan / x86_64 | OK | OK | OK | OK |
| Package: plyranges |
| Version: 1.0.3 |
| Command: C:\cygwin\bin\curl.exe -O https://malbec2.bioconductor.org/BBS/3.7/bioc/src/contrib/plyranges_1.0.3.tar.gz && rm -rf plyranges.buildbin-libdir && mkdir plyranges.buildbin-libdir && C:\Users\biocbuild\bbs-3.7-bioc\R\bin\R.exe CMD INSTALL --merge-multiarch --build --library=plyranges.buildbin-libdir plyranges_1.0.3.tar.gz && C:\Users\biocbuild\bbs-3.7-bioc\R\bin\R.exe CMD INSTALL plyranges_1.0.3.zip && rm plyranges_1.0.3.tar.gz plyranges_1.0.3.zip |
| StartedAt: 2018-10-16 19:54:43 -0400 (Tue, 16 Oct 2018) |
| EndedAt: 2018-10-16 19:56:07 -0400 (Tue, 16 Oct 2018) |
| EllapsedTime: 83.4 seconds |
| RetCode: 0 |
| Status: OK |
##############################################################################
##############################################################################
###
### Running command:
###
### C:\cygwin\bin\curl.exe -O https://malbec2.bioconductor.org/BBS/3.7/bioc/src/contrib/plyranges_1.0.3.tar.gz && rm -rf plyranges.buildbin-libdir && mkdir plyranges.buildbin-libdir && C:\Users\biocbuild\bbs-3.7-bioc\R\bin\R.exe CMD INSTALL --merge-multiarch --build --library=plyranges.buildbin-libdir plyranges_1.0.3.tar.gz && C:\Users\biocbuild\bbs-3.7-bioc\R\bin\R.exe CMD INSTALL plyranges_1.0.3.zip && rm plyranges_1.0.3.tar.gz plyranges_1.0.3.zip
###
##############################################################################
##############################################################################
% Total % Received % Xferd Average Speed Time Time Time Current
Dload Upload Total Spent Left Speed
0 0 0 0 0 0 0 0 --:--:-- --:--:-- --:--:-- 0
100 434k 100 434k 0 0 6837k 0 --:--:-- --:--:-- --:--:-- 7751k
install for i386
* installing *source* package 'plyranges' ...
** R
** inst
** byte-compile and prepare package for lazy loading
** help
*** installing help indices
converting help for package 'plyranges'
finding HTML links ... done
as_ranges html
finding level-2 HTML links ... done
Rd warning: C:/Users/biocbuild/bbs-3.7-bioc/tmpdir/RtmpcLfsda/R.INSTALL102c267f2617/plyranges/man/as_ranges.Rd:32: file link 'Rle' in package 'S4Vectors' does not exist and so has been treated as a topic
Rd warning: C:/Users/biocbuild/bbs-3.7-bioc/tmpdir/RtmpcLfsda/R.INSTALL102c267f2617/plyranges/man/as_ranges.Rd:32: file link 'RleList' in package 'IRanges' does not exist and so has been treated as a topic
compute_coverage html
Rd warning: C:/Users/biocbuild/bbs-3.7-bioc/tmpdir/RtmpcLfsda/R.INSTALL102c267f2617/plyranges/man/compute_coverage.Rd:37: file link 'coverage' in package 'IRanges' does not exist and so has been treated as a topic
Rd warning: C:/Users/biocbuild/bbs-3.7-bioc/tmpdir/RtmpcLfsda/R.INSTALL102c267f2617/plyranges/man/compute_coverage.Rd:37: file link 'coverage' in package 'GenomicRanges' does not exist and so has been treated as a topic
element-setops html
filter-ranges html
flank-ranges html
Rd warning: C:/Users/biocbuild/bbs-3.7-bioc/tmpdir/RtmpcLfsda/R.INSTALL102c267f2617/plyranges/man/flank-ranges.Rd:59: file link 'flank' in package 'GenomicRanges' does not exist and so has been treated as a topic
group_by-ranges html
io-bam-read html
io-bed-read html
Rd warning: C:/Users/biocbuild/bbs-3.7-bioc/tmpdir/RtmpcLfsda/R.INSTALL102c267f2617/plyranges/man/io-bed-read.Rd:75: file link 'BEDFile' in package 'rtracklayer' does not exist and so has been treated as a topic
io-bed-write html
Rd warning: C:/Users/biocbuild/bbs-3.7-bioc/tmpdir/RtmpcLfsda/R.INSTALL102c267f2617/plyranges/man/io-bed-write.Rd:57: file link 'BEDFile' in package 'rtracklayer' does not exist and so has been treated as a topic
io-bigwig-read html
io-bigwig-write html
io-gff-read html
Rd warning: C:/Users/biocbuild/bbs-3.7-bioc/tmpdir/RtmpcLfsda/R.INSTALL102c267f2617/plyranges/man/io-gff-read.Rd:57: file link 'GFFFile' in package 'rtracklayer' does not exist and so has been treated as a topic
io-gff-write html
Rd warning: C:/Users/biocbuild/bbs-3.7-bioc/tmpdir/RtmpcLfsda/R.INSTALL102c267f2617/plyranges/man/io-gff-write.Rd:44: file link 'GFFFile' in package 'rtracklayer' does not exist and so has been treated as a topic
io-wig-read html
Rd warning: C:/Users/biocbuild/bbs-3.7-bioc/tmpdir/RtmpcLfsda/R.INSTALL102c267f2617/plyranges/man/io-wig-read.Rd:36: file link 'WIGFile' in package 'rtracklayer' does not exist and so has been treated as a topic
io-wig-write html
Rd warning: C:/Users/biocbuild/bbs-3.7-bioc/tmpdir/RtmpcLfsda/R.INSTALL102c267f2617/plyranges/man/io-wig-write.Rd:23: file link 'WIGFile' in package 'rtracklayer' does not exist and so has been treated as a topic
mutate-ranges html
n html
overlap-joins html
overscope_ranges html
Rd warning: C:/Users/biocbuild/bbs-3.7-bioc/tmpdir/RtmpcLfsda/R.INSTALL102c267f2617/plyranges/man/overscope_ranges.Rd:24: file link 'new_data_mask' in package 'rlang' does not exist and so has been treated as a topic
plyranges-package html
ranges-anchor html
ranges-arrange html
ranges-bind html
ranges-chop html
ranges-class html
ranges-construct html
Rd warning: C:/Users/biocbuild/bbs-3.7-bioc/tmpdir/RtmpcLfsda/R.INSTALL102c267f2617/plyranges/man/ranges-construct.Rd:50: file link 'GRanges' in package 'GenomicRanges' does not exist and so has been treated as a topic
ranges-count-overlaps html
ranges-deferred html
ranges-disjoin html
ranges-filter-overlaps html
Rd warning: C:/Users/biocbuild/bbs-3.7-bioc/tmpdir/RtmpcLfsda/R.INSTALL102c267f2617/plyranges/man/ranges-filter-overlaps.Rd:60: file link 'subsetByOverlaps' in package 'IRanges' does not exist and so has been treated as a topic
ranges-follow html
ranges-info html
ranges-interweave html
ranges-nearest html
ranges-overlaps-self html
ranges-overlaps html
Rd warning: C:/Users/biocbuild/bbs-3.7-bioc/tmpdir/RtmpcLfsda/R.INSTALL102c267f2617/plyranges/man/ranges-overlaps.Rd:122: file link 'findOverlaps' in package 'GenomicRanges' does not exist and so has been treated as a topic
Rd warning: C:/Users/biocbuild/bbs-3.7-bioc/tmpdir/RtmpcLfsda/R.INSTALL102c267f2617/plyranges/man/ranges-overlaps.Rd:122: file link 'findOverlaps' in package 'IRanges' does not exist and so has been treated as a topic
ranges-pairs html
ranges-precede html
ranges-reduce html
ranges-select html
ranges-setops html
ranges-setters html
ranges-summarise html
Rd warning: C:/Users/biocbuild/bbs-3.7-bioc/tmpdir/RtmpcLfsda/R.INSTALL102c267f2617/plyranges/man/ranges-summarise.Rd:15: file link 'DataFrame' in package 'S4Vectors' does not exist and so has been treated as a topic
ranges-tile html
Rd warning: C:/Users/biocbuild/bbs-3.7-bioc/tmpdir/RtmpcLfsda/R.INSTALL102c267f2617/plyranges/man/ranges-tile.Rd:52: file link 'tile' in package 'IRanges' does not exist and so has been treated as a topic
Rd warning: C:/Users/biocbuild/bbs-3.7-bioc/tmpdir/RtmpcLfsda/R.INSTALL102c267f2617/plyranges/man/ranges-tile.Rd:52: file link 'tile' in package 'GenomicRanges' does not exist and so has been treated as a topic
Rd warning: C:/Users/biocbuild/bbs-3.7-bioc/tmpdir/RtmpcLfsda/R.INSTALL102c267f2617/plyranges/man/ranges-tile.Rd:54: file link 'slidingWindows' in package 'IRanges' does not exist and so has been treated as a topic
Rd warning: C:/Users/biocbuild/bbs-3.7-bioc/tmpdir/RtmpcLfsda/R.INSTALL102c267f2617/plyranges/man/ranges-tile.Rd:54: file link 'slidingWindows' in package 'GenomicRanges' does not exist and so has been treated as a topic
ranges-unnest html
reexports html
Rd warning: C:/Users/biocbuild/bbs-3.7-bioc/tmpdir/RtmpcLfsda/R.INSTALL102c267f2617/plyranges/man/reexports.Rd:45: file link 'ungroup' in package 'dplyr' does not exist and so has been treated as a topic
Rd warning: C:/Users/biocbuild/bbs-3.7-bioc/tmpdir/RtmpcLfsda/R.INSTALL102c267f2617/plyranges/man/reexports.Rd:45: file link 'group_vars' in package 'dplyr' does not exist and so has been treated as a topic
Rd warning: C:/Users/biocbuild/bbs-3.7-bioc/tmpdir/RtmpcLfsda/R.INSTALL102c267f2617/plyranges/man/reexports.Rd:45: file link 'summarize' in package 'dplyr' does not exist and so has been treated as a topic
Rd warning: C:/Users/biocbuild/bbs-3.7-bioc/tmpdir/RtmpcLfsda/R.INSTALL102c267f2617/plyranges/man/reexports.Rd:47: file link '%>%' in package 'magrittr' does not exist and so has been treated as a topic
Rd warning: C:/Users/biocbuild/bbs-3.7-bioc/tmpdir/RtmpcLfsda/R.INSTALL102c267f2617/plyranges/man/reexports.Rd:49: file link 'enquo' in package 'rlang' does not exist and so has been treated as a topic
Rd warning: C:/Users/biocbuild/bbs-3.7-bioc/tmpdir/RtmpcLfsda/R.INSTALL102c267f2617/plyranges/man/reexports.Rd:49: file link 'quos' in package 'rlang' does not exist and so has been treated as a topic
Rd warning: C:/Users/biocbuild/bbs-3.7-bioc/tmpdir/RtmpcLfsda/R.INSTALL102c267f2617/plyranges/man/reexports.Rd:49: file link 'UQS' in package 'rlang' does not exist and so has been treated as a topic
Rd warning: C:/Users/biocbuild/bbs-3.7-bioc/tmpdir/RtmpcLfsda/R.INSTALL102c267f2617/plyranges/man/reexports.Rd:49: file link 'UQ' in package 'rlang' does not exist and so has been treated as a topic
shift-ranges html
Rd warning: C:/Users/biocbuild/bbs-3.7-bioc/tmpdir/RtmpcLfsda/R.INSTALL102c267f2617/plyranges/man/shift-ranges.Rd:49: file link 'shift' in package 'IRanges' does not exist and so has been treated as a topic
stretch html
** building package indices
** installing vignettes
** testing if installed package can be loaded
In R CMD INSTALL
install for x64
* installing *source* package 'plyranges' ...
** testing if installed package can be loaded
* MD5 sums
packaged installation of 'plyranges' as plyranges_1.0.3.zip
* DONE (plyranges)
In R CMD INSTALL
In R CMD INSTALL
* installing to library 'C:/Users/biocbuild/bbs-3.7-bioc/R/library'
package 'plyranges' successfully unpacked and MD5 sums checked
In R CMD INSTALL