| Back to Multiple platform build/check report for BioC 3.7 |
|
This page was generated on 2018-10-17 08:22:15 -0400 (Wed, 17 Oct 2018).
| Package 1107/1561 | Hostname | OS / Arch | INSTALL | BUILD | CHECK | BUILD BIN | ||||||
| plw 1.40.0 Magnus Astrand
| malbec2 | Linux (Ubuntu 16.04.1 LTS) / x86_64 | [ OK ] | OK | OK | |||||||
| tokay2 | Windows Server 2012 R2 Standard / x64 | OK | OK | OK | OK | |||||||
| merida2 | OS X 10.11.6 El Capitan / x86_64 | OK | OK | OK | OK |
| Package: plw |
| Version: 1.40.0 |
| Command: /home/biocbuild/bbs-3.7-bioc/R/bin/R CMD INSTALL plw |
| StartedAt: 2018-10-15 18:08:08 -0400 (Mon, 15 Oct 2018) |
| EndedAt: 2018-10-15 18:08:13 -0400 (Mon, 15 Oct 2018) |
| EllapsedTime: 5.0 seconds |
| RetCode: 0 |
| Status: OK |
##############################################################################
##############################################################################
###
### Running command:
###
### /home/biocbuild/bbs-3.7-bioc/R/bin/R CMD INSTALL plw
###
##############################################################################
##############################################################################
* installing to library ‘/home/biocbuild/bbs-3.7-bioc/R/library’
* installing *source* package ‘plw’ ...
** libs
gcc -I"/home/biocbuild/bbs-3.7-bioc/R/include" -DNDEBUG -I/usr/local/include -fpic -g -O2 -Wall -c SpecialFunctions.c -o SpecialFunctions.o
SpecialFunctions.c: In function ‘getPosteriorProbsAndSigmaHatStrata0’:
SpecialFunctions.c:154:20: warning: variable ‘s2’ set but not used [-Wunused-but-set-variable]
double kk,C,s0,s1,s2,temp0,aa;
^
SpecialFunctions.c:154:17: warning: variable ‘s1’ set but not used [-Wunused-but-set-variable]
double kk,C,s0,s1,s2,temp0,aa;
^
SpecialFunctions.c:154:14: warning: variable ‘s0’ set but not used [-Wunused-but-set-variable]
double kk,C,s0,s1,s2,temp0,aa;
^
gcc -I"/home/biocbuild/bbs-3.7-bioc/R/include" -DNDEBUG -I/usr/local/include -fpic -g -O2 -Wall -c SpecialOptim.c -o SpecialOptim.o
gcc -shared -L/home/biocbuild/bbs-3.7-bioc/R/lib -L/usr/local/lib -o plw.so SpecialFunctions.o SpecialOptim.o -L/home/biocbuild/bbs-3.7-bioc/R/lib -lR
installing to /home/biocbuild/bbs-3.7-bioc/R/library/plw/libs
** R
** data
** inst
** byte-compile and prepare package for lazy loading
** help
*** installing help indices
** building package indices
** installing vignettes
** testing if installed package can be loaded
* DONE (plw)