| Back to Multiple platform build/check report for BioC 3.7 |
|
This page was generated on 2018-10-17 08:32:24 -0400 (Wed, 17 Oct 2018).
| Package 1103/1561 | Hostname | OS / Arch | INSTALL | BUILD | CHECK | BUILD BIN | ||||||
| plgem 1.52.0 Norman Pavelka
| malbec2 | Linux (Ubuntu 16.04.1 LTS) / x86_64 | OK | OK | OK | |||||||
| tokay2 | Windows Server 2012 R2 Standard / x64 | [ OK ] | OK | OK | OK | |||||||
| merida2 | OS X 10.11.6 El Capitan / x86_64 | OK | OK | OK | OK |
| Package: plgem |
| Version: 1.52.0 |
| Command: C:\cygwin\bin\curl.exe -O https://malbec2.bioconductor.org/BBS/3.7/bioc/src/contrib/plgem_1.52.0.tar.gz && rm -rf plgem.buildbin-libdir && mkdir plgem.buildbin-libdir && C:\Users\biocbuild\bbs-3.7-bioc\R\bin\R.exe CMD INSTALL --merge-multiarch --build --library=plgem.buildbin-libdir plgem_1.52.0.tar.gz && C:\Users\biocbuild\bbs-3.7-bioc\R\bin\R.exe CMD INSTALL plgem_1.52.0.zip && rm plgem_1.52.0.tar.gz plgem_1.52.0.zip |
| StartedAt: 2018-10-16 18:47:50 -0400 (Tue, 16 Oct 2018) |
| EndedAt: 2018-10-16 18:48:36 -0400 (Tue, 16 Oct 2018) |
| EllapsedTime: 45.8 seconds |
| RetCode: 0 |
| Status: OK |
##############################################################################
##############################################################################
###
### Running command:
###
### C:\cygwin\bin\curl.exe -O https://malbec2.bioconductor.org/BBS/3.7/bioc/src/contrib/plgem_1.52.0.tar.gz && rm -rf plgem.buildbin-libdir && mkdir plgem.buildbin-libdir && C:\Users\biocbuild\bbs-3.7-bioc\R\bin\R.exe CMD INSTALL --merge-multiarch --build --library=plgem.buildbin-libdir plgem_1.52.0.tar.gz && C:\Users\biocbuild\bbs-3.7-bioc\R\bin\R.exe CMD INSTALL plgem_1.52.0.zip && rm plgem_1.52.0.tar.gz plgem_1.52.0.zip
###
##############################################################################
##############################################################################
% Total % Received % Xferd Average Speed Time Time Time Current
Dload Upload Total Spent Left Speed
0 0 0 0 0 0 0 0 --:--:-- --:--:-- --:--:-- 0
100 158k 100 158k 0 0 3237k 0 --:--:-- --:--:-- --:--:-- 3780k
install for i386
* installing *source* package 'plgem' ...
** R
** data
** inst
** byte-compile and prepare package for lazy loading
** help
*** installing help indices
converting help for package 'plgem'
finding HTML links ... done
LPSeset html
plgem.deg html
plgem.fit html
plgem.obsStn html
plgem.pValue html
plgem.resampledStn html
plgem.write.summary html
run.plgem html
setGpar html
** building package indices
** installing vignettes
** testing if installed package can be loaded
In R CMD INSTALL
install for x64
* installing *source* package 'plgem' ...
** testing if installed package can be loaded
* MD5 sums
packaged installation of 'plgem' as plgem_1.52.0.zip
* DONE (plgem)
In R CMD INSTALL
In R CMD INSTALL
* installing to library 'C:/Users/biocbuild/bbs-3.7-bioc/R/library'
package 'plgem' successfully unpacked and MD5 sums checked
In R CMD INSTALL