| Back to Multiple platform build/check report for BioC 3.7 |
|
This page was generated on 2018-10-17 08:50:15 -0400 (Wed, 17 Oct 2018).
| Package 1092/1561 | Hostname | OS / Arch | INSTALL | BUILD | CHECK | BUILD BIN | ||||||
| phyloseq 1.24.2 Paul J. McMurdie
| malbec2 | Linux (Ubuntu 16.04.1 LTS) / x86_64 | OK | OK | OK | |||||||
| tokay2 | Windows Server 2012 R2 Standard / x64 | OK | OK | WARNINGS | OK | |||||||
| merida2 | OS X 10.11.6 El Capitan / x86_64 | OK | OK | [ OK ] | OK |
| Package: phyloseq |
| Version: 1.24.2 |
| Command: /Library/Frameworks/R.framework/Versions/Current/Resources/bin/R CMD check --install=check:phyloseq.install-out.txt --library=/Library/Frameworks/R.framework/Versions/Current/Resources/library --no-vignettes --timings phyloseq_1.24.2.tar.gz |
| StartedAt: 2018-10-16 23:14:19 -0400 (Tue, 16 Oct 2018) |
| EndedAt: 2018-10-16 23:20:16 -0400 (Tue, 16 Oct 2018) |
| EllapsedTime: 356.8 seconds |
| RetCode: 0 |
| Status: OK |
| CheckDir: phyloseq.Rcheck |
| Warnings: 0 |
##############################################################################
##############################################################################
###
### Running command:
###
### /Library/Frameworks/R.framework/Versions/Current/Resources/bin/R CMD check --install=check:phyloseq.install-out.txt --library=/Library/Frameworks/R.framework/Versions/Current/Resources/library --no-vignettes --timings phyloseq_1.24.2.tar.gz
###
##############################################################################
##############################################################################
* using log directory ‘/Users/biocbuild/bbs-3.7-bioc/meat/phyloseq.Rcheck’
* using R version 3.5.1 Patched (2018-07-12 r74967)
* using platform: x86_64-apple-darwin15.6.0 (64-bit)
* using session charset: UTF-8
* using option ‘--no-vignettes’
* checking for file ‘phyloseq/DESCRIPTION’ ... OK
* this is package ‘phyloseq’ version ‘1.24.2’
* checking package namespace information ... OK
* checking package dependencies ... OK
* checking if this is a source package ... OK
* checking if there is a namespace ... OK
* checking for hidden files and directories ... NOTE
Found the following hidden files and directories:
.travis.yml
These were most likely included in error. See section ‘Package
structure’ in the ‘Writing R Extensions’ manual.
* checking for portable file names ... OK
* checking for sufficient/correct file permissions ... OK
* checking whether package ‘phyloseq’ can be installed ... OK
* checking installed package size ... OK
* checking package directory ... OK
* checking ‘build’ directory ... OK
* checking DESCRIPTION meta-information ... OK
* checking top-level files ... OK
* checking for left-over files ... OK
* checking index information ... OK
* checking package subdirectories ... OK
* checking R files for non-ASCII characters ... OK
* checking R files for syntax errors ... OK
* checking whether the package can be loaded ... OK
* checking whether the package can be loaded with stated dependencies ... OK
* checking whether the package can be unloaded cleanly ... OK
* checking whether the namespace can be loaded with stated dependencies ... OK
* checking whether the namespace can be unloaded cleanly ... OK
* checking dependencies in R code ... OK
* checking S3 generic/method consistency ... OK
* checking replacement functions ... OK
* checking foreign function calls ... OK
* checking R code for possible problems ... NOTE
DPCoA: no visible global function definition for ‘as.dist’
chunkReOrder: no visible global function definition for ‘tail’
chunkReOrder: no visible global function definition for ‘head’
export_env_file: no visible global function definition for
‘write.table’
export_mothur_dist: no visible global function definition for ‘as.dist’
export_mothur_dist: no visible global function definition for
‘write.table’
fastUniFrac: no visible global function definition for ‘combn’
fastUniFrac: no visible global function definition for ‘as.dist’
import_RDP_otu: no visible global function definition for ‘read.table’
import_env_file: no visible global function definition for ‘read.table’
import_mothur_constaxonomy: no visible global function definition for
‘read.table’
import_mothur_dist: no visible global function definition for ‘as.dist’
import_mothur_groups: no visible global function definition for
‘read.table’
import_mothur_shared: no visible global function definition for
‘read.table’
import_qiime_otu_tax: no visible global function definition for ‘:=’
import_qiime_otu_tax: no visible binding for global variable ‘Consensus
Lineage’
import_qiime_otu_tax: no visible binding for global variable ‘#OTU ID’
import_qiime_sample_data: no visible global function definition for
‘read.table’
import_uparse: no visible global function definition for ‘:=’
import_uparse: no visible binding for global variable ‘count’
import_uparse: no visible binding for global variable ‘queryString’
import_uparse: no visible binding for global variable ‘queryID’
import_uparse: no visible binding for global variable ‘Classification’
import_uparse: no visible global function definition for
‘dcast.data.table’
import_uparse: no visible binding for global variable ‘OTULabel’
import_usearch_uc: no visible global function definition for ‘:=’
import_usearch_uc: no visible binding for global variable ‘read’
microbio_me_qiime: no visible global function definition for
‘download.file’
microbio_me_qiime: no visible global function definition for ‘unzip’
microbio_me_qiime: no visible global function definition for ‘untar’
nodeplotboot : <anonymous>: no visible global function definition for
‘complete.cases’
nodeplotboot : <anonymous>: no visible binding for global variable ‘x’
nodeplotboot : <anonymous>: no visible binding for global variable ‘y’
nodeplotdefault : <anonymous>: no visible binding for global variable
‘x’
nodeplotdefault : <anonymous>: no visible binding for global variable
‘y’
nodeplotdefault : <anonymous>: no visible binding for global variable
‘label’
ordinate: no visible global function definition for ‘as.formula’
plot_clusgap: no visible binding for global variable ‘k’
plot_clusgap: no visible binding for global variable ‘gap’
plot_clusgap: no visible binding for global variable ‘SE.sim’
plot_heatmap: no visible global function definition for
‘capture.output’
plot_heatmap: no visible binding for global variable ‘Sample’
plot_heatmap: no visible binding for global variable ‘OTU’
plot_heatmap: no visible binding for global variable ‘Abundance’
plot_net : vertex_layout: no visible binding for global variable ‘x’
plot_net : link_layout: no visible binding for global variable ‘x’
plot_net : link_layout: no visible binding for global variable ‘y’
plot_net: no visible binding for global variable ‘x’
plot_net: no visible binding for global variable ‘y’
plot_net: no visible binding for global variable ‘xend’
plot_net: no visible binding for global variable ‘yend’
plot_network: no visible binding for global variable ‘x’
plot_network: no visible binding for global variable ‘y’
plot_richness: no visible binding for global variable ‘value’
plot_richness: no visible binding for global variable ‘se’
plot_scree: no visible binding for global variable ‘axis’
plot_scree: no visible binding for global variable ‘eigenvalue’
plot_tree: no visible binding for global variable ‘xleft’
plot_tree: no visible binding for global variable ‘xright’
plot_tree: no visible binding for global variable ‘y’
plot_tree: no visible binding for global variable ‘x’
plot_tree: no visible binding for global variable ‘vmin’
plot_tree: no visible binding for global variable ‘vmax’
plot_tree: no visible binding for global variable ‘OTU’
plot_tree: no visible binding for global variable ‘label’
plot_tree: no visible binding for global variable ‘Abundance’
plot_tree: no visible binding for global variable ‘Sample’
plot_tree: no visible global function definition for ‘:=’
plot_tree: no visible binding for global variable ‘h.adj.index’
plot_tree: no visible binding for global variable ‘xdodge’
plot_tree: no visible binding for global variable ‘xfartiplab’
plot_tree: no visible binding for global variable ‘.SD’
rp.joint.fill: no visible global function definition for ‘relevel’
tip_glom: no visible global function definition for ‘as.dist’
tip_glom: no visible global function definition for ‘cutree’
tip_glom: no visible global function definition for ‘as.hclust’
tree_layout: no visible global function definition for ‘:=’
tree_layout: no visible binding for global variable ‘OTU’
tree_layout: no visible binding for global variable ‘V2’
tree_layout: no visible binding for global variable ‘xleft’
tree_layout: no visible binding for global variable ‘V1’
tree_layout: no visible binding for global variable ‘xright’
tree_layout: no visible binding for global variable ‘y’
tree_layout: no visible binding for global variable ‘x’
tree_layout: no visible binding for global variable ‘label’
tree_layout: no visible global function definition for ‘J’
tree_layout: no visible binding for global variable ‘vmin’
tree_layout: no visible binding for global variable ‘vmax’
JSD,matrix: no visible global function definition for ‘combn’
JSD,matrix: no visible binding for global variable ‘i’
JSD,matrix: no visible global function definition for ‘as.dist’
capscale.phyloseq,phyloseq-formula-character: no visible global
function definition for ‘as.formula’
capscale.phyloseq,phyloseq-formula-dist: no visible global function
definition for ‘as.formula’
cca.phyloseq,phyloseq-formula: no visible global function definition
for ‘as.formula’
distance,phyloseq-character: no visible global function definition for
‘as.dist’
merge_phyloseq_pair,sample_data-sample_data : <anonymous>: no visible
binding for global variable ‘X0’
merge_samples,sample_data: no visible global function definition for
‘aggregate’
plot_phyloseq,phyloseq: no visible binding for global variable
‘esophagus’
Undefined global functions or variables:
#OTU ID .SD := Abundance Classification Consensus Lineage J OTU
OTULabel SE.sim Sample V1 V2 X0 aggregate as.dist as.formula
as.hclust axis capture.output combn complete.cases count cutree
dcast.data.table download.file eigenvalue esophagus gap h.adj.index
head i k label queryID queryString read read.table relevel se tail
untar unzip value vmax vmin write.table x xdodge xend xfartiplab
xleft xright y yend
Consider adding
importFrom("graphics", "axis")
importFrom("stats", "aggregate", "as.dist", "as.formula", "as.hclust",
"complete.cases", "cutree", "relevel")
importFrom("utils", "capture.output", "combn", "download.file", "head",
"read.table", "tail", "untar", "unzip", "write.table")
to your NAMESPACE file.
* checking Rd files ... OK
* checking Rd metadata ... OK
* checking Rd cross-references ... OK
* checking for missing documentation entries ... OK
* checking for code/documentation mismatches ... OK
* checking Rd \usage sections ... OK
* checking Rd contents ... OK
* checking for unstated dependencies in examples ... OK
* checking contents of ‘data’ directory ... OK
* checking data for non-ASCII characters ... OK
* checking data for ASCII and uncompressed saves ... OK
* checking installed files from ‘inst/doc’ ... OK
* checking files in ‘vignettes’ ... OK
* checking examples ... OK
Examples with CPU or elapsed time > 5s
user system elapsed
plot_net 8.31 3.037 6.085
plot_heatmap 8.21 0.249 8.515
* checking for unstated dependencies in ‘tests’ ... OK
* checking tests ...
Running ‘testthat-phyloseq.R’
OK
* checking for unstated dependencies in vignettes ... OK
* checking package vignettes in ‘inst/doc’ ... OK
* checking running R code from vignettes ... SKIPPED
* checking re-building of vignette outputs ... SKIPPED
* checking PDF version of manual ... OK
* DONE
Status: 2 NOTEs
See
‘/Users/biocbuild/bbs-3.7-bioc/meat/phyloseq.Rcheck/00check.log’
for details.
phyloseq.Rcheck/00install.out
############################################################################## ############################################################################## ### ### Running command: ### ### /Library/Frameworks/R.framework/Versions/Current/Resources/bin/R CMD INSTALL phyloseq ### ############################################################################## ############################################################################## * installing to library ‘/Library/Frameworks/R.framework/Versions/3.5/Resources/library’ * installing *source* package ‘phyloseq’ ... ** R ** data ** inst ** byte-compile and prepare package for lazy loading ** help *** installing help indices ** building package indices ** installing vignettes ‘phyloseq-FAQ.Rmd’ using ‘UTF-8’ ‘phyloseq-analysis.Rmd’ ‘phyloseq-basics.Rmd’ ‘phyloseq-mixture-models.Rmd’ ** testing if installed package can be loaded * DONE (phyloseq)
phyloseq.Rcheck/tests/testthat-phyloseq.Rout
R version 3.5.1 Patched (2018-07-12 r74967) -- "Feather Spray"
Copyright (C) 2018 The R Foundation for Statistical Computing
Platform: x86_64-apple-darwin15.6.0 (64-bit)
R is free software and comes with ABSOLUTELY NO WARRANTY.
You are welcome to redistribute it under certain conditions.
Type 'license()' or 'licence()' for distribution details.
R is a collaborative project with many contributors.
Type 'contributors()' for more information and
'citation()' on how to cite R or R packages in publications.
Type 'demo()' for some demos, 'help()' for on-line help, or
'help.start()' for an HTML browser interface to help.
Type 'q()' to quit R.
> library("testthat")
> packageVersion("phyloseq")
[1] '1.24.2'
> # As suggested for opt-out option on testing by users, recommended by CRAN
> # http://adv-r.had.co.nz/Testing.html
> # Previously, best practice was to put all test files in inst/tests and ensure that R CMD check ran them by putting the following code in tests/test-all.R:
> # library(testthat)
> # library(yourpackage)
> # test_package("yourpackage")
> # Now, recommended practice is to put your tests in tests/testthat, and ensure R CMD check runs them by putting the following code in tests/test-all.R:
> # library(testthat)
> # test_check("yourpackage")
> # The advantage of this new structure is that the user has control over whether or not tests are installed using the –install-tests parameter to R CMD install, or INSTALL_opts = c(“–install-tests”) argument to install.packages(). I’m not sure why you wouldn’t want to install the tests, but now you have the flexibility as requested by CRAN maintainers.
> test_check("phyloseq")
Loading required package: phyloseq
Found biom-format file, now parsing it...
Done parsing biom...
Importing Sample Metdadata from mapping file...
Merging the imported objects...
Successfully merged, phyloseq-class created.
Returning...
Found biom-format file, now parsing it...
Done parsing biom...
Importing Sample Metdadata from mapping file...
Merging the imported objects...
Successfully merged, phyloseq-class created.
Returning...
Reading `ucfile` into memory and parsing into table
Initially read 100 entries.
... Now removing unassigned OTUs (* or NA)...
Removed 7 entries that had no OTU assignment.
A total of 93 will be assigned to the OTU table.
Processing otu/tax file...
Reading file into memory prior to parsing...
Detecting first header line...
Header is on line 2
Converting input file to a table...
Defining OTU table...
Parsing taxonomy table...
Processing phylogenetic tree...
/Library/Frameworks/R.framework/Versions/3.5/Resources/library/phyloseq/extdata/GP_tree_rand_short.newick.gz ...
Processing map file...
Processing otu/tax file...
Reading file into memory prior to parsing...
Detecting first header line...
Header is on line 2
Converting input file to a table...
Defining OTU table...
Parsing taxonomy table...
Processing phylogenetic tree...
/Library/Frameworks/R.framework/Versions/3.5/Resources/library/phyloseq/extdata/GP_tree_rand_short.newick.gz ...
Processing Reference Sequences...
══ testthat results ═══════════════════════════════════════════════════════════
OK: 613 SKIPPED: 0 FAILED: 0
>
> proc.time()
user system elapsed
96.896 6.233 100.082
phyloseq.Rcheck/phyloseq-Ex.timings
| name | user | system | elapsed | |
| DPCoA | 3.590 | 0.288 | 3.895 | |
| JSD | 0.002 | 0.000 | 0.002 | |
| UniFrac-methods | 0.124 | 0.005 | 0.130 | |
| access | 0.002 | 0.000 | 0.001 | |
| assign-otu_table | 0.002 | 0.000 | 0.003 | |
| assign-phy_tree | 0.052 | 0.003 | 0.055 | |
| assign-sample_data | 0.215 | 0.024 | 0.262 | |
| assign-sample_names | 0.011 | 0.002 | 0.013 | |
| assign-tax_table | 0.003 | 0.000 | 0.003 | |
| assign-taxa_are_rows | 0.003 | 0.001 | 0.004 | |
| assign-taxa_names | 0.012 | 0.003 | 0.015 | |
| build_tax_table | 0.017 | 0.001 | 0.018 | |
| capscale-phyloseq-methods | 1.187 | 0.063 | 1.254 | |
| cca-rda-phyloseq-methods | 0.001 | 0.000 | 0.002 | |
| chunkReOrder | 0.002 | 0.001 | 0.002 | |
| data-GlobalPatterns | 1.145 | 0.092 | 1.251 | |
| data-enterotype | 2.038 | 0.044 | 2.095 | |
| data-esophagus | 0.653 | 0.012 | 0.666 | |
| data-soilrep | 1.223 | 0.155 | 1.383 | |
| distance | 0.256 | 0.036 | 0.306 | |
| distanceMethodList | 0.002 | 0.000 | 0.003 | |
| envHash2otu_table | 0.002 | 0.000 | 0.003 | |
| estimate_richness | 0.037 | 0.003 | 0.040 | |
| export_env_file | 0.001 | 0.000 | 0.002 | |
| export_mothur_dist | 0.547 | 0.036 | 0.584 | |
| extract-methods | 0.012 | 0.002 | 0.014 | |
| filter_taxa | 1.310 | 0.059 | 1.376 | |
| filterfun_sample | 0.020 | 0.001 | 0.020 | |
| gapstat_ord | 2.426 | 0.054 | 2.504 | |
| genefilter_sample-methods | 0.001 | 0.000 | 0.002 | |
| get.component.classes | 0.000 | 0.000 | 0.001 | |
| get_sample-methods | 0.004 | 0.002 | 0.005 | |
| get_taxa-methods | 0.005 | 0.002 | 0.006 | |
| get_taxa_unique | 0.301 | 0.041 | 0.344 | |
| get_variable | 0.242 | 0.018 | 0.260 | |
| getslots.phyloseq | 0.232 | 0.033 | 0.266 | |
| import | 0.001 | 0.000 | 0.001 | |
| import_RDP_otu | 0.818 | 0.019 | 0.838 | |
| import_biom | 0.219 | 0.006 | 0.227 | |
| import_env_file | 0.001 | 0.000 | 0.002 | |
| import_mothur | 0.003 | 0.000 | 0.003 | |
| import_mothur_dist | 0.001 | 0.000 | 0.001 | |
| import_pyrotagger_tab | 0.001 | 0.000 | 0.001 | |
| import_qiime | 0.785 | 0.012 | 0.800 | |
| import_qiime_otu_tax | 0.789 | 0.077 | 0.868 | |
| import_qiime_sample_data | 0.022 | 0.001 | 0.025 | |
| import_uparse | 0.001 | 0.000 | 0.001 | |
| import_usearch_uc | 0.018 | 0.004 | 0.023 | |
| index_reorder | 0.001 | 0.000 | 0.001 | |
| intersect_taxa | 0.001 | 0.001 | 0.001 | |
| make_network | 3.098 | 0.079 | 3.190 | |
| merge_phyloseq | 0.002 | 0.001 | 0.002 | |
| merge_phyloseq_pair-methods | 0.003 | 0.000 | 0.003 | |
| merge_samples-methods | 1.269 | 0.171 | 1.444 | |
| merge_taxa-methods | 0.060 | 0.001 | 0.060 | |
| microbio_me_qiime | 1.644 | 0.032 | 1.693 | |
| mt-methods | 1.569 | 0.027 | 1.602 | |
| nodeplotblank | 1.631 | 1.040 | 0.468 | |
| nodeplotboot | 0.061 | 0.001 | 0.005 | |
| nodeplotdefault | 0.002 | 0.000 | 0.002 | |
| nsamples-methods | 0.034 | 0.003 | 0.039 | |
| ntaxa-methods | 0.005 | 0.002 | 0.007 | |
| ordinate | 0.001 | 0.000 | 0.001 | |
| otu_table-methods | 0.001 | 0.000 | 0.001 | |
| parseTaxonomy-functions | 0.003 | 0.001 | 0.005 | |
| phy_tree-methods | 0.219 | 0.018 | 0.240 | |
| phyloseq | 0.029 | 0.005 | 0.037 | |
| phyloseq_to_deseq2 | 3.605 | 0.143 | 3.766 | |
| phyloseq_to_metagenomeSeq | 1.015 | 0.086 | 1.106 | |
| plot_bar | 3.840 | 0.202 | 4.076 | |
| plot_clusgap | 4.369 | 0.162 | 4.543 | |
| plot_heatmap | 8.210 | 0.249 | 8.515 | |
| plot_net | 8.310 | 3.037 | 6.085 | |
| plot_network | 2.622 | 0.037 | 2.671 | |
| plot_ordination | 0.818 | 0.062 | 0.883 | |
| plot_phyloseq-methods | 0.940 | 0.615 | 0.407 | |
| plot_richness | 4.178 | 0.471 | 4.691 | |
| plot_scree | 2.068 | 0.083 | 2.160 | |
| plot_tree | 2.115 | 1.237 | 0.938 | |
| prune_samples-methods | 0.517 | 0.094 | 0.616 | |
| prune_taxa-methods | 0.053 | 0.002 | 0.056 | |
| psmelt | 1.031 | 0.116 | 1.153 | |
| rank_names | 0.023 | 0.003 | 0.025 | |
| rarefy_even_depth | 0.118 | 0.002 | 0.121 | |
| read_tree | 0.029 | 0.001 | 0.030 | |
| read_tree_greengenes | 0.016 | 0.000 | 0.017 | |
| reconcile_categories | 0.001 | 0.000 | 0.002 | |
| refseq-methods | 0.215 | 0.011 | 0.226 | |
| rm_outlierf | 0.024 | 0.001 | 0.026 | |
| sample_data-methods | 0.072 | 0.004 | 0.077 | |
| sample_names-methods | 0.003 | 0.000 | 0.004 | |
| sample_sums | 0.036 | 0.006 | 0.042 | |
| sample_variables | 0.024 | 0.001 | 0.026 | |
| show-methods | 0.001 | 0.000 | 0.002 | |
| splat.phyloseq.objects | 0.001 | 0.000 | 0.001 | |
| subset_ord_plot | 0.001 | 0.000 | 0.001 | |
| subset_samples-methods | 0.001 | 0.000 | 0.001 | |
| subset_taxa-methods | 0.001 | 0.000 | 0.001 | |
| tax_glom | 0.001 | 0.000 | 0.002 | |
| tax_table-methods | 0.001 | 0.000 | 0.001 | |
| taxa_names-methods | 0.026 | 0.001 | 0.027 | |
| taxa_sums | 0.036 | 0.008 | 0.043 | |
| threshrank | 3.006 | 1.323 | 4.347 | |
| threshrankfun | 0.080 | 0.004 | 0.089 | |
| tip_glom | 2.176 | 1.468 | 1.158 | |
| topf | 0.018 | 0.001 | 0.019 | |
| topk | 0.017 | 0.001 | 0.021 | |
| topp | 0.016 | 0.001 | 0.016 | |
| transformcounts | 0.138 | 0.003 | 0.144 | |
| transpose-methods | 1.410 | 0.922 | 2.394 | |
| tree_layout | 1.729 | 0.320 | 0.999 | |