| Back to Multiple platform build/check report for BioC 3.7 |
|
This page was generated on 2018-10-17 08:35:02 -0400 (Wed, 17 Oct 2018).
| Package 1086/1561 | Hostname | OS / Arch | INSTALL | BUILD | CHECK | BUILD BIN | ||||||
Xian Zhang
| malbec2 | Linux (Ubuntu 16.04.1 LTS) / x86_64 | OK | ERROR | skipped | |||||||
| tokay2 | Windows Server 2012 R2 Standard / x64 | [ OK ] | ERROR | skipped | skipped | |||||||
| merida2 | OS X 10.11.6 El Capitan / x86_64 | OK | ERROR | skipped | skipped |
| Package: phenoDist |
| Version: 1.28.0 |
| Command: C:\cygwin\bin\curl.exe -O https://malbec2.bioconductor.org/BBS/3.7/bioc/src/contrib/phenoDist_1.28.0.tar.gz && rm -rf phenoDist.buildbin-libdir && mkdir phenoDist.buildbin-libdir && C:\Users\biocbuild\bbs-3.7-bioc\R\bin\R.exe CMD INSTALL --merge-multiarch --build --library=phenoDist.buildbin-libdir phenoDist_1.28.0.tar.gz && C:\Users\biocbuild\bbs-3.7-bioc\R\bin\R.exe CMD INSTALL phenoDist_1.28.0.zip && rm phenoDist_1.28.0.tar.gz phenoDist_1.28.0.zip |
| StartedAt: 2018-10-16 19:45:57 -0400 (Tue, 16 Oct 2018) |
| EndedAt: 2018-10-16 19:46:51 -0400 (Tue, 16 Oct 2018) |
| EllapsedTime: 54.4 seconds |
| RetCode: 0 |
| Status: OK |
##############################################################################
##############################################################################
###
### Running command:
###
### C:\cygwin\bin\curl.exe -O https://malbec2.bioconductor.org/BBS/3.7/bioc/src/contrib/phenoDist_1.28.0.tar.gz && rm -rf phenoDist.buildbin-libdir && mkdir phenoDist.buildbin-libdir && C:\Users\biocbuild\bbs-3.7-bioc\R\bin\R.exe CMD INSTALL --merge-multiarch --build --library=phenoDist.buildbin-libdir phenoDist_1.28.0.tar.gz && C:\Users\biocbuild\bbs-3.7-bioc\R\bin\R.exe CMD INSTALL phenoDist_1.28.0.zip && rm phenoDist_1.28.0.tar.gz phenoDist_1.28.0.zip
###
##############################################################################
##############################################################################
% Total % Received % Xferd Average Speed Time Time Time Current
Dload Upload Total Spent Left Speed
0 0 0 0 0 0 0 0 --:--:-- --:--:-- --:--:-- 0
0 0 0 0 0 0 0 0 --:--:-- --:--:-- --:--:-- 0
100 524k 100 524k 0 0 7554k 0 --:--:-- --:--:-- --:--:-- 8196k
install for i386
* installing *source* package 'phenoDist' ...
** R
** inst
** byte-compile and prepare package for lazy loading
** help
*** installing help indices
converting help for package 'phenoDist'
finding HTML links ... done
PDMByFactorAnalysis html
PDMByKS html
PDMBySvmAccuracy html
PDMBySvmWeightVector html
PDMByWellAvg html
clusterDist html
ctlSeparatn html
distToNeg html
enrichAnalysis html
repCorr html
repDistRank html
** building package indices
** installing vignettes
** testing if installed package can be loaded
Warning: Package 'phenoDist' is deprecated and will be removed from Bioconductor
version 3.7
In R CMD INSTALL
install for x64
* installing *source* package 'phenoDist' ...
** testing if installed package can be loaded
Warning: Package 'phenoDist' is deprecated and will be removed from Bioconductor
version 3.7
* MD5 sums
packaged installation of 'phenoDist' as phenoDist_1.28.0.zip
* DONE (phenoDist)
In R CMD INSTALL
In R CMD INSTALL
* installing to library 'C:/Users/biocbuild/bbs-3.7-bioc/R/library'
package 'phenoDist' successfully unpacked and MD5 sums checked
In R CMD INSTALL