| Back to Multiple platform build/check report for BioC 3.7 |
|
This page was generated on 2018-10-17 08:26:21 -0400 (Wed, 17 Oct 2018).
| Package 1078/1561 | Hostname | OS / Arch | INSTALL | BUILD | CHECK | BUILD BIN | ||||||
| pepStat 1.14.0 Gregory C Imholte
| malbec2 | Linux (Ubuntu 16.04.1 LTS) / x86_64 | OK | OK | [ OK ] | |||||||
| tokay2 | Windows Server 2012 R2 Standard / x64 | OK | OK | OK | OK | |||||||
| merida2 | OS X 10.11.6 El Capitan / x86_64 | OK | OK | OK | OK |
| Package: pepStat |
| Version: 1.14.0 |
| Command: /home/biocbuild/bbs-3.7-bioc/R/bin/R CMD check --install=check:pepStat.install-out.txt --library=/home/biocbuild/bbs-3.7-bioc/R/library --no-vignettes --timings pepStat_1.14.0.tar.gz |
| StartedAt: 2018-10-16 02:38:34 -0400 (Tue, 16 Oct 2018) |
| EndedAt: 2018-10-16 02:40:18 -0400 (Tue, 16 Oct 2018) |
| EllapsedTime: 103.7 seconds |
| RetCode: 0 |
| Status: OK |
| CheckDir: pepStat.Rcheck |
| Warnings: 0 |
##############################################################################
##############################################################################
###
### Running command:
###
### /home/biocbuild/bbs-3.7-bioc/R/bin/R CMD check --install=check:pepStat.install-out.txt --library=/home/biocbuild/bbs-3.7-bioc/R/library --no-vignettes --timings pepStat_1.14.0.tar.gz
###
##############################################################################
##############################################################################
* using log directory ‘/home/biocbuild/bbs-3.7-bioc/meat/pepStat.Rcheck’
* using R version 3.5.1 Patched (2018-07-12 r74967)
* using platform: x86_64-pc-linux-gnu (64-bit)
* using session charset: UTF-8
* using option ‘--no-vignettes’
* checking for file ‘pepStat/DESCRIPTION’ ... OK
* checking extension type ... Package
* this is package ‘pepStat’ version ‘1.14.0’
* checking package namespace information ... OK
* checking package dependencies ... OK
* checking if this is a source package ... OK
* checking if there is a namespace ... OK
* checking for hidden files and directories ... OK
* checking for portable file names ... OK
* checking for sufficient/correct file permissions ... OK
* checking whether package ‘pepStat’ can be installed ... OK
* checking installed package size ... OK
* checking package directory ... OK
* checking ‘build’ directory ... OK
* checking DESCRIPTION meta-information ... NOTE
Malformed Description field: should contain one or more complete sentences.
* checking top-level files ... OK
* checking for left-over files ... OK
* checking index information ... OK
* checking package subdirectories ... OK
* checking R files for non-ASCII characters ... OK
* checking R files for syntax errors ... OK
* checking whether the package can be loaded ... OK
* checking whether the package can be loaded with stated dependencies ... OK
* checking whether the package can be unloaded cleanly ... OK
* checking whether the namespace can be loaded with stated dependencies ... NOTE
Warning: no function found corresponding to methods exports from ‘pepStat’ for: ‘end’, ‘start’
A namespace must be able to be loaded with just the base namespace
loaded: otherwise if the namespace gets loaded by a saved object, the
session will be unable to start.
Probably some imports need to be declared in the NAMESPACE file.
* checking whether the namespace can be unloaded cleanly ... OK
* checking dependencies in R code ... OK
* checking S3 generic/method consistency ... OK
* checking replacement functions ... OK
* checking foreign function calls ... OK
* checking R code for possible problems ... NOTE
.findFDR : <anonymous>: no visible global function definition for
‘median’
.sanitize_mapping_file2: no visible global function definition for
‘read.csv’
create_db: no visible global function definition for ‘mcols<-’
create_db: no visible global function definition for ‘mcols’
getWeightedEstimator : <anonymous>: no visible global function
definition for ‘lm.fit’
getWeightedEstimator : <anonymous>: no visible global function
definition for ‘lm.wfit’
getWeightedEstimator : <anonymous> : <anonymous>: no visible global
function definition for ‘sd’
plotArrayImage: no visible global function definition for
‘dev.interactive’
plotArrayImage: no visible global function definition for
‘devAskNewPage’
plotArrayImage: no visible global function definition for ‘dev.hold’
plotArrayImage: no visible global function definition for ‘dev.flush’
plotArrayResiduals: no visible global function definition for
‘dev.interactive’
plotArrayResiduals: no visible global function definition for
‘devAskNewPage’
plotArrayResiduals: no visible global function definition for
‘dev.hold’
plotArrayResiduals: no visible global function definition for
‘dev.flush’
coerce,peptideSet-ExpressionSet: no visible global function definition
for ‘annotation’
end,peptideSet: no visible global function definition for ‘end’
position,peptideSet: no visible global function definition for ‘start’
position,peptideSet: no visible global function definition for ‘end’
start,peptideSet: no visible global function definition for ‘start’
write.pSet,peptideSet: no visible global function definition for
‘start’
write.pSet,peptideSet: no visible global function definition for ‘end’
write.pSet,peptideSet: no visible global function definition for
‘write.csv’
Undefined global functions or variables:
annotation dev.flush dev.hold dev.interactive devAskNewPage end
lm.fit lm.wfit mcols mcols<- median read.csv sd start write.csv
Consider adding
importFrom("grDevices", "dev.flush", "dev.hold", "dev.interactive",
"devAskNewPage")
importFrom("stats", "end", "lm.fit", "lm.wfit", "median", "sd",
"start")
importFrom("utils", "read.csv", "write.csv")
to your NAMESPACE file.
* checking Rd files ... OK
* checking Rd metadata ... OK
* checking Rd cross-references ... OK
* checking for missing documentation entries ... OK
* checking for code/documentation mismatches ... OK
* checking Rd \usage sections ... OK
* checking Rd contents ... OK
* checking for unstated dependencies in examples ... OK
* checking installed files from ‘inst/doc’ ... OK
* checking files in ‘vignettes’ ... OK
* checking examples ... OK
* checking for unstated dependencies in vignettes ... OK
* checking package vignettes in ‘inst/doc’ ... OK
* checking running R code from vignettes ... SKIPPED
* checking re-building of vignette outputs ... SKIPPED
* checking PDF version of manual ... OK
* DONE
Status: 3 NOTEs
See
‘/home/biocbuild/bbs-3.7-bioc/meat/pepStat.Rcheck/00check.log’
for details.
pepStat.Rcheck/00install.out
############################################################################## ############################################################################## ### ### Running command: ### ### /home/biocbuild/bbs-3.7-bioc/R/bin/R CMD INSTALL pepStat ### ############################################################################## ############################################################################## * installing to library ‘/home/biocbuild/bbs-3.7-bioc/R/library’ * installing *source* package ‘pepStat’ ... ** R ** inst ** byte-compile and prepare package for lazy loading No methods found in package ‘GenomicRanges’ for request: ‘mcols<-’ when loading ‘pepStat’ No methods found in package ‘GenomicRanges’ for request: ‘mcols’ when loading ‘pepStat’ ** help *** installing help indices ** building package indices ** installing vignettes ‘pepStat.Rnw’ ** testing if installed package can be loaded No methods found in package ‘GenomicRanges’ for request: ‘mcols<-’ when loading ‘pepStat’ No methods found in package ‘GenomicRanges’ for request: ‘mcols’ when loading ‘pepStat’ * DONE (pepStat)
pepStat.Rcheck/pepStat-Ex.timings
| name | user | system | elapsed | |
| create_db | 0.080 | 0.000 | 0.079 | |
| makeCalls | 4.504 | 0.016 | 4.602 | |
| makePeptideSet | 1.976 | 0.004 | 1.982 | |
| normalizeArray | 3.976 | 0.020 | 3.999 | |
| plotArray | 3.580 | 0.024 | 3.607 | |
| restab | 3.668 | 0.016 | 3.688 | |
| shinyPepStat | 0 | 0 | 0 | |
| slidingMean | 3.520 | 0.032 | 3.558 | |
| summarizePeptides | 3.664 | 0.008 | 3.671 | |