| Back to Multiple platform build/check report for BioC 3.7 |
|
This page was generated on 2018-10-17 08:43:38 -0400 (Wed, 17 Oct 2018).
| Package 1061/1561 | Hostname | OS / Arch | INSTALL | BUILD | CHECK | BUILD BIN | ||||||
| pathprint 1.10.4 Sokratis Kariotis
| malbec2 | Linux (Ubuntu 16.04.1 LTS) / x86_64 | OK | OK | OK | |||||||
| tokay2 | Windows Server 2012 R2 Standard / x64 | OK | OK | [ OK ] | OK | |||||||
| merida2 | OS X 10.11.6 El Capitan / x86_64 | OK | OK | OK | OK |
| Package: pathprint |
| Version: 1.10.4 |
| Command: C:\Users\biocbuild\bbs-3.7-bioc\R\bin\R.exe CMD check --force-multiarch --install=check:pathprint.install-out.txt --library=C:\Users\biocbuild\bbs-3.7-bioc\R\library --no-vignettes --timings pathprint_1.10.4.tar.gz |
| StartedAt: 2018-10-17 03:51:22 -0400 (Wed, 17 Oct 2018) |
| EndedAt: 2018-10-17 04:00:33 -0400 (Wed, 17 Oct 2018) |
| EllapsedTime: 551.6 seconds |
| RetCode: 0 |
| Status: OK |
| CheckDir: pathprint.Rcheck |
| Warnings: 0 |
##############################################################################
##############################################################################
###
### Running command:
###
### C:\Users\biocbuild\bbs-3.7-bioc\R\bin\R.exe CMD check --force-multiarch --install=check:pathprint.install-out.txt --library=C:\Users\biocbuild\bbs-3.7-bioc\R\library --no-vignettes --timings pathprint_1.10.4.tar.gz
###
##############################################################################
##############################################################################
* using log directory 'C:/Users/biocbuild/bbs-3.7-bioc/meat/pathprint.Rcheck'
* using R version 3.5.1 Patched (2018-07-24 r75005)
* using platform: x86_64-w64-mingw32 (64-bit)
* using session charset: ISO8859-1
* using option '--no-vignettes'
* checking for file 'pathprint/DESCRIPTION' ... OK
* checking extension type ... Package
* this is package 'pathprint' version '1.10.4'
* package encoding: UTF-8
* checking package namespace information ... OK
* checking package dependencies ... OK
* checking if this is a source package ... OK
* checking if there is a namespace ... OK
* checking for hidden files and directories ... NOTE
Found the following hidden files and directories:
.BBSoptions
These were most likely included in error. See section 'Package
structure' in the 'Writing R Extensions' manual.
* checking for portable file names ... OK
* checking whether package 'pathprint' can be installed ... OK
* checking installed package size ... OK
* checking package directory ... OK
* checking 'build' directory ... OK
* checking DESCRIPTION meta-information ... OK
* checking top-level files ... OK
* checking for left-over files ... OK
* checking index information ... OK
* checking package subdirectories ... OK
* checking R files for non-ASCII characters ... OK
* checking R files for syntax errors ... OK
* loading checks for arch 'i386'
** checking whether the package can be loaded ... OK
** checking whether the package can be loaded with stated dependencies ... OK
** checking whether the package can be unloaded cleanly ... OK
** checking whether the namespace can be loaded with stated dependencies ... OK
** checking whether the namespace can be unloaded cleanly ... OK
* loading checks for arch 'x64'
** checking whether the package can be loaded ... OK
** checking whether the package can be loaded with stated dependencies ... OK
** checking whether the package can be unloaded cleanly ... OK
** checking whether the namespace can be loaded with stated dependencies ... OK
** checking whether the namespace can be unloaded cleanly ... OK
* checking dependencies in R code ... OK
* checking S3 generic/method consistency ... OK
* checking replacement functions ... OK
* checking foreign function calls ... OK
* checking R code for possible problems ... NOTE
exprs2fingerprint: no visible binding for global variable 'chipframe'
exprs2fingerprint: no visible binding for global variable 'genesets'
thresholdFingerprint: no visible binding for global variable
'platform.thresholds'
Undefined global functions or variables:
chipframe genesets platform.thresholds
* checking Rd files ... OK
* checking Rd metadata ... OK
* checking Rd cross-references ... OK
* checking for missing documentation entries ... OK
* checking for code/documentation mismatches ... OK
* checking Rd \usage sections ... OK
* checking Rd contents ... OK
* checking for unstated dependencies in examples ... OK
* checking contents of 'data' directory ... OK
* checking data for non-ASCII characters ... OK
* checking data for ASCII and uncompressed saves ... OK
* checking files in 'vignettes' ... OK
* checking examples ...
** running examples for arch 'i386' ... OK
Examples with CPU or elapsed time > 5s
user system elapsed
single.chip.enrichment 58.75 2.56 61.31
diffPathways 46.41 1.28 47.77
consensusDistance 26.34 3.03 30.25
thresholdFingerprint 24.55 0.82 25.36
pathprint-package 22.93 1.12 24.06
consensusFingerprint 19.89 1.65 21.53
customCDFAnn 19.50 0.76 20.28
exprs2fingerprint 18.86 0.86 20.12
pluripotents.frame 17.29 1.00 18.28
platform.thresholds 13.61 0.77 14.37
** running examples for arch 'x64' ... OK
Examples with CPU or elapsed time > 5s
user system elapsed
single.chip.enrichment 51.61 1.11 52.74
diffPathways 39.81 0.90 40.71
consensusDistance 23.20 1.54 24.76
pathprint-package 20.92 0.95 21.88
thresholdFingerprint 19.03 0.73 19.76
consensusFingerprint 16.58 0.99 17.56
exprs2fingerprint 15.72 0.71 16.46
customCDFAnn 15.53 0.55 16.09
pluripotents.frame 13.03 0.64 13.67
platform.thresholds 11.70 0.64 12.35
* checking for unstated dependencies in vignettes ... OK
* checking package vignettes in 'inst/doc' ... OK
* checking running R code from vignettes ... SKIPPED
* checking re-building of vignette outputs ... SKIPPED
* checking PDF version of manual ... OK
* DONE
Status: 2 NOTEs
See
'C:/Users/biocbuild/bbs-3.7-bioc/meat/pathprint.Rcheck/00check.log'
for details.
pathprint.Rcheck/00install.out
##############################################################################
##############################################################################
###
### Running command:
###
### C:\cygwin\bin\curl.exe -O https://malbec2.bioconductor.org/BBS/3.7/bioc/src/contrib/pathprint_1.10.4.tar.gz && rm -rf pathprint.buildbin-libdir && mkdir pathprint.buildbin-libdir && C:\Users\biocbuild\bbs-3.7-bioc\R\bin\R.exe CMD INSTALL --merge-multiarch --build --library=pathprint.buildbin-libdir pathprint_1.10.4.tar.gz && C:\Users\biocbuild\bbs-3.7-bioc\R\bin\R.exe CMD INSTALL pathprint_1.10.4.zip && rm pathprint_1.10.4.tar.gz pathprint_1.10.4.zip
###
##############################################################################
##############################################################################
% Total % Received % Xferd Average Speed Time Time Time Current
Dload Upload Total Spent Left Speed
0 0 0 0 0 0 0 0 --:--:-- --:--:-- --:--:-- 0
0 0 0 0 0 0 0 0 --:--:-- --:--:-- --:--:-- 0
100 928k 100 928k 0 0 11.3M 0 --:--:-- --:--:-- --:--:-- 12.2M
install for i386
* installing *source* package 'pathprint' ...
** R
** data
** inst
** byte-compile and prepare package for lazy loading
** help
*** installing help indices
converting help for package 'pathprint'
finding HTML links ... done
consensusDistance html
consensusFingerprint html
customCDFAnn html
diffPathways html
exprs2fingerprint html
genesets html
pathprint-package html
pathprint.Ce.gs html
pathprint.Dm.gs html
pathprint.Dr.gs html
pathprint.Hs.gs html
pathprint.Mm.gs html
pathprint.Rn.gs html
platform.thresholds html
pluripotents.frame html
single.chip.enrichment html
thresholdFingerprint html
** building package indices
** installing vignettes
** testing if installed package can be loaded
In R CMD INSTALL
install for x64
* installing *source* package 'pathprint' ...
** testing if installed package can be loaded
* MD5 sums
packaged installation of 'pathprint' as pathprint_1.10.4.zip
* DONE (pathprint)
In R CMD INSTALL
In R CMD INSTALL
* installing to library 'C:/Users/biocbuild/bbs-3.7-bioc/R/library'
package 'pathprint' successfully unpacked and MD5 sums checked
In R CMD INSTALL
|
pathprint.Rcheck/examples_i386/pathprint-Ex.timings
|
pathprint.Rcheck/examples_x64/pathprint-Ex.timings
|