| Back to Multiple platform build/check report for BioC 3.7 |
|
This page was generated on 2018-10-17 08:44:35 -0400 (Wed, 17 Oct 2018).
| Package 1049/1561 | Hostname | OS / Arch | INSTALL | BUILD | CHECK | BUILD BIN | ||||||
| panelcn.mops 1.2.0 Gundula Povysil
| malbec2 | Linux (Ubuntu 16.04.1 LTS) / x86_64 | OK | OK | OK | |||||||
| tokay2 | Windows Server 2012 R2 Standard / x64 | [ OK ] | OK | OK | OK | |||||||
| merida2 | OS X 10.11.6 El Capitan / x86_64 | OK | OK | OK | OK |
| Package: panelcn.mops |
| Version: 1.2.0 |
| Command: C:\cygwin\bin\curl.exe -O https://malbec2.bioconductor.org/BBS/3.7/bioc/src/contrib/panelcn.mops_1.2.0.tar.gz && rm -rf panelcn.mops.buildbin-libdir && mkdir panelcn.mops.buildbin-libdir && C:\Users\biocbuild\bbs-3.7-bioc\R\bin\R.exe CMD INSTALL --merge-multiarch --build --library=panelcn.mops.buildbin-libdir panelcn.mops_1.2.0.tar.gz && C:\Users\biocbuild\bbs-3.7-bioc\R\bin\R.exe CMD INSTALL panelcn.mops_1.2.0.zip && rm panelcn.mops_1.2.0.tar.gz panelcn.mops_1.2.0.zip |
| StartedAt: 2018-10-16 19:39:56 -0400 (Tue, 16 Oct 2018) |
| EndedAt: 2018-10-16 19:40:34 -0400 (Tue, 16 Oct 2018) |
| EllapsedTime: 38.6 seconds |
| RetCode: 0 |
| Status: OK |
##############################################################################
##############################################################################
###
### Running command:
###
### C:\cygwin\bin\curl.exe -O https://malbec2.bioconductor.org/BBS/3.7/bioc/src/contrib/panelcn.mops_1.2.0.tar.gz && rm -rf panelcn.mops.buildbin-libdir && mkdir panelcn.mops.buildbin-libdir && C:\Users\biocbuild\bbs-3.7-bioc\R\bin\R.exe CMD INSTALL --merge-multiarch --build --library=panelcn.mops.buildbin-libdir panelcn.mops_1.2.0.tar.gz && C:\Users\biocbuild\bbs-3.7-bioc\R\bin\R.exe CMD INSTALL panelcn.mops_1.2.0.zip && rm panelcn.mops_1.2.0.tar.gz panelcn.mops_1.2.0.zip
###
##############################################################################
##############################################################################
% Total % Received % Xferd Average Speed Time Time Time Current
Dload Upload Total Spent Left Speed
0 0 0 0 0 0 0 0 --:--:-- --:--:-- --:--:-- 0
100 419k 100 419k 0 0 6727k 0 --:--:-- --:--:-- --:--:-- 7498k
install for i386
* installing *source* package 'panelcn.mops' ...
** R
** data
*** moving datasets to lazyload DB
** inst
** byte-compile and prepare package for lazy loading
** help
*** installing help indices
converting help for package 'panelcn.mops'
finding HTML links ... done
control html
countBamListInGRanges html
countWindows html
createResultTable html
getWindows html
panelcn.mops html
plotBoxplot html
read.width html
resultlist html
runPanelcnMops html
splitROIs html
test html
** building package indices
** installing vignettes
** testing if installed package can be loaded
In R CMD INSTALL
install for x64
* installing *source* package 'panelcn.mops' ...
** testing if installed package can be loaded
* MD5 sums
packaged installation of 'panelcn.mops' as panelcn.mops_1.2.0.zip
* DONE (panelcn.mops)
In R CMD INSTALL
In R CMD INSTALL
* installing to library 'C:/Users/biocbuild/bbs-3.7-bioc/R/library'
package 'panelcn.mops' successfully unpacked and MD5 sums checked
In R CMD INSTALL