| Back to Multiple platform build/check report for BioC 3.7 |
|
This page was generated on 2018-10-17 08:34:59 -0400 (Wed, 17 Oct 2018).
| Package 1028/1561 | Hostname | OS / Arch | INSTALL | BUILD | CHECK | BUILD BIN | ||||||
Natalja Kurbatova
| malbec2 | Linux (Ubuntu 16.04.1 LTS) / x86_64 | OK | OK | ERROR | |||||||
| tokay2 | Windows Server 2012 R2 Standard / x64 | [ OK ] | OK | ERROR | OK | |||||||
| merida2 | OS X 10.11.6 El Capitan / x86_64 | OK | OK | ERROR | OK |
| Package: ontoCAT |
| Version: 1.32.0 |
| Command: C:\cygwin\bin\curl.exe -O https://malbec2.bioconductor.org/BBS/3.7/bioc/src/contrib/ontoCAT_1.32.0.tar.gz && rm -rf ontoCAT.buildbin-libdir && mkdir ontoCAT.buildbin-libdir && C:\Users\biocbuild\bbs-3.7-bioc\R\bin\R.exe CMD INSTALL --merge-multiarch --build --library=ontoCAT.buildbin-libdir ontoCAT_1.32.0.tar.gz && C:\Users\biocbuild\bbs-3.7-bioc\R\bin\R.exe CMD INSTALL ontoCAT_1.32.0.zip && rm ontoCAT_1.32.0.tar.gz ontoCAT_1.32.0.zip |
| StartedAt: 2018-10-16 18:35:54 -0400 (Tue, 16 Oct 2018) |
| EndedAt: 2018-10-16 18:41:54 -0400 (Tue, 16 Oct 2018) |
| EllapsedTime: 359.9 seconds |
| RetCode: 0 |
| Status: OK |
##############################################################################
##############################################################################
###
### Running command:
###
### C:\cygwin\bin\curl.exe -O https://malbec2.bioconductor.org/BBS/3.7/bioc/src/contrib/ontoCAT_1.32.0.tar.gz && rm -rf ontoCAT.buildbin-libdir && mkdir ontoCAT.buildbin-libdir && C:\Users\biocbuild\bbs-3.7-bioc\R\bin\R.exe CMD INSTALL --merge-multiarch --build --library=ontoCAT.buildbin-libdir ontoCAT_1.32.0.tar.gz && C:\Users\biocbuild\bbs-3.7-bioc\R\bin\R.exe CMD INSTALL ontoCAT_1.32.0.zip && rm ontoCAT_1.32.0.tar.gz ontoCAT_1.32.0.zip
###
##############################################################################
##############################################################################
% Total % Received % Xferd Average Speed Time Time Time Current
Dload Upload Total Spent Left Speed
0 0 0 0 0 0 0 0 --:--:-- --:--:-- --:--:-- 0
100 3485k 100 3485k 0 0 40.0M 0 --:--:-- --:--:-- --:--:-- 43.0M
install for i386
* installing *source* package 'ontoCAT' ...
** R
** inst
** byte-compile and prepare package for lazy loading
** help
*** installing help indices
converting help for package 'ontoCAT'
finding HTML links ... done
Ontology-class html
OntologyTerm-class html
getAccession html
getAllTermChildren html
getAllTermChildrenById html
getAllTermIds html
getAllTermParents html
getAllTermParentsById html
getAllTerms html
getEFO html
getEFOBranchRootIds html
getLabel html
getOntology html
getOntologyAccession html
getOntologyDescription html
getOntologyNoReasoning html
getOntologyRelationNames html
getRootIds html
getRoots html
getTermAndAllChildren html
getTermAndAllChildrenById html
getTermById html
getTermChildren html
getTermChildrenById html
getTermDefinitions html
getTermDefinitionsById html
getTermNameById html
getTermParents html
getTermParentsById html
getTermRelationNames html
getTermRelationNamesById html
getTermRelations html
getTermRelationsById html
getTermSynonyms html
getTermSynonymsById html
hasTerm html
isEFOBranchRoot html
isEFOBranchRootById html
isRoot html
isRootById html
ontoCAT-package html
searchTerm html
searchTermPrefix html
showHierarchyDownToTerm html
showHierarchyDownToTermById html
showPathsToTerm html
showPathsToTermById html
** building package indices
** installing vignettes
** testing if installed package can be loaded
Warning: Package 'ontoCAT' is deprecated and will be removed from Bioconductor
version 3.8
In R CMD INSTALL
install for x64
* installing *source* package 'ontoCAT' ...
** testing if installed package can be loaded
Warning: Package 'ontoCAT' is deprecated and will be removed from Bioconductor
version 3.8
* MD5 sums
packaged installation of 'ontoCAT' as ontoCAT_1.32.0.zip
* DONE (ontoCAT)
In R CMD INSTALL
In R CMD INSTALL
* installing to library 'C:/Users/biocbuild/bbs-3.7-bioc/R/library'
package 'ontoCAT' successfully unpacked and MD5 sums checked
In R CMD INSTALL