| Back to Multiple platform build/check report for BioC 3.7 |
|
This page was generated on 2018-10-17 08:44:16 -0400 (Wed, 17 Oct 2018).
| Package 1027/1561 | Hostname | OS / Arch | INSTALL | BUILD | CHECK | BUILD BIN | ||||||
| oneSENSE 1.2.0 Yong Kee Tan
| malbec2 | Linux (Ubuntu 16.04.1 LTS) / x86_64 | OK | OK | WARNINGS | |||||||
| tokay2 | Windows Server 2012 R2 Standard / x64 | OK | OK | ERROR | [ OK ] | |||||||
| merida2 | OS X 10.11.6 El Capitan / x86_64 | OK | OK | WARNINGS | OK |
| Package: oneSENSE |
| Version: 1.2.0 |
| Command: rm -rf oneSENSE.buildbin-libdir && mkdir oneSENSE.buildbin-libdir && C:\Users\biocbuild\bbs-3.7-bioc\R\bin\R.exe CMD INSTALL --merge-multiarch --build --library=oneSENSE.buildbin-libdir oneSENSE_1.2.0.tar.gz |
| StartedAt: 2018-10-17 06:45:21 -0400 (Wed, 17 Oct 2018) |
| EndedAt: 2018-10-17 06:45:37 -0400 (Wed, 17 Oct 2018) |
| EllapsedTime: 15.6 seconds |
| RetCode: 0 |
| Status: OK |
| PackageFile: oneSENSE_1.2.0.zip |
| PackageFileSize: 1.663 MiB |
##############################################################################
##############################################################################
###
### Running command:
###
### rm -rf oneSENSE.buildbin-libdir && mkdir oneSENSE.buildbin-libdir && C:\Users\biocbuild\bbs-3.7-bioc\R\bin\R.exe CMD INSTALL --merge-multiarch --build --library=oneSENSE.buildbin-libdir oneSENSE_1.2.0.tar.gz
###
##############################################################################
##############################################################################
install for i386
* installing *source* package 'oneSENSE' ...
** R
** inst
** byte-compile and prepare package for lazy loading
** help
*** installing help indices
converting help for package 'oneSENSE'
finding HTML links ... done
FCStSNE html
OneSmapperFlour html
OneSmapperFreq1 html
OneSmapperFreq2 html
getCoords html
getParameters html
oneSENSE_GUI html
** building package indices
** installing vignettes
** testing if installed package can be loaded
In R CMD INSTALL
install for x64
* installing *source* package 'oneSENSE' ...
** testing if installed package can be loaded
* MD5 sums
packaged installation of 'oneSENSE' as oneSENSE_1.2.0.zip
* DONE (oneSENSE)
In R CMD INSTALL
In R CMD INSTALL