| Back to Multiple platform build/check report for BioC 3.7 |
|
This page was generated on 2018-10-17 08:45:14 -0400 (Wed, 17 Oct 2018).
| Package 1019/1561 | Hostname | OS / Arch | INSTALL | BUILD | CHECK | BUILD BIN | ||||||
| omicplotR 1.0.1 Daniel Giguere
| malbec2 | Linux (Ubuntu 16.04.1 LTS) / x86_64 | OK | OK | OK | |||||||
| tokay2 | Windows Server 2012 R2 Standard / x64 | OK | OK | OK | [ OK ] | |||||||
| merida2 | OS X 10.11.6 El Capitan / x86_64 | OK | OK | OK | OK |
| Package: omicplotR |
| Version: 1.0.1 |
| Command: rm -rf omicplotR.buildbin-libdir && mkdir omicplotR.buildbin-libdir && C:\Users\biocbuild\bbs-3.7-bioc\R\bin\R.exe CMD INSTALL --merge-multiarch --build --library=omicplotR.buildbin-libdir omicplotR_1.0.1.tar.gz |
| StartedAt: 2018-10-17 06:45:03 -0400 (Wed, 17 Oct 2018) |
| EndedAt: 2018-10-17 06:45:24 -0400 (Wed, 17 Oct 2018) |
| EllapsedTime: 21.0 seconds |
| RetCode: 0 |
| Status: OK |
| PackageFile: omicplotR_1.0.1.zip |
| PackageFileSize: 1.421 MiB |
##############################################################################
##############################################################################
###
### Running command:
###
### rm -rf omicplotR.buildbin-libdir && mkdir omicplotR.buildbin-libdir && C:\Users\biocbuild\bbs-3.7-bioc\R\bin\R.exe CMD INSTALL --merge-multiarch --build --library=omicplotR.buildbin-libdir omicplotR_1.0.1.tar.gz
###
##############################################################################
##############################################################################
install for i386
* installing *source* package 'omicplotR' ...
** R
** data
*** moving datasets to lazyload DB
** inst
** byte-compile and prepare package for lazy loading
** help
*** installing help indices
converting help for package 'omicplotR'
finding HTML links ... done
internal html
metadata html
omicplotR-package html
omicplotr.run html
otu_table html
** building package indices
** installing vignettes
** testing if installed package can be loaded
In R CMD INSTALL
install for x64
* installing *source* package 'omicplotR' ...
** testing if installed package can be loaded
* MD5 sums
packaged installation of 'omicplotR' as omicplotR_1.0.1.zip
* DONE (omicplotR)
In R CMD INSTALL
In R CMD INSTALL