| Back to Multiple platform build/check report for BioC 3.7 |
|
This page was generated on 2018-10-17 08:32:49 -0400 (Wed, 17 Oct 2018).
| Package 1006/1561 | Hostname | OS / Arch | INSTALL | BUILD | CHECK | BUILD BIN | ||||||
| nudge 1.46.0 N. Dean
| malbec2 | Linux (Ubuntu 16.04.1 LTS) / x86_64 | OK | ERROR | skipped | |||||||
| tokay2 | Windows Server 2012 R2 Standard / x64 | [ OK ] | ERROR | skipped | skipped | |||||||
| merida2 | OS X 10.11.6 El Capitan / x86_64 | OK | ERROR | skipped | skipped |
| Package: nudge |
| Version: 1.46.0 |
| Command: C:\cygwin\bin\curl.exe -O https://malbec2.bioconductor.org/BBS/3.7/bioc/src/contrib/nudge_1.46.0.tar.gz && rm -rf nudge.buildbin-libdir && mkdir nudge.buildbin-libdir && C:\Users\biocbuild\bbs-3.7-bioc\R\bin\R.exe CMD INSTALL --merge-multiarch --build --library=nudge.buildbin-libdir nudge_1.46.0.tar.gz && C:\Users\biocbuild\bbs-3.7-bioc\R\bin\R.exe CMD INSTALL nudge_1.46.0.zip && rm nudge_1.46.0.tar.gz nudge_1.46.0.zip |
| StartedAt: 2018-10-16 18:33:56 -0400 (Tue, 16 Oct 2018) |
| EndedAt: 2018-10-16 18:34:13 -0400 (Tue, 16 Oct 2018) |
| EllapsedTime: 16.1 seconds |
| RetCode: 0 |
| Status: OK |
##############################################################################
##############################################################################
###
### Running command:
###
### C:\cygwin\bin\curl.exe -O https://malbec2.bioconductor.org/BBS/3.7/bioc/src/contrib/nudge_1.46.0.tar.gz && rm -rf nudge.buildbin-libdir && mkdir nudge.buildbin-libdir && C:\Users\biocbuild\bbs-3.7-bioc\R\bin\R.exe CMD INSTALL --merge-multiarch --build --library=nudge.buildbin-libdir nudge_1.46.0.tar.gz && C:\Users\biocbuild\bbs-3.7-bioc\R\bin\R.exe CMD INSTALL nudge_1.46.0.zip && rm nudge_1.46.0.tar.gz nudge_1.46.0.zip
###
##############################################################################
##############################################################################
% Total % Received % Xferd Average Speed Time Time Time Current
Dload Upload Total Spent Left Speed
0 0 0 0 0 0 0 0 --:--:-- --:--:-- --:--:-- 0
100 774k 100 774k 0 0 11.9M 0 --:--:-- --:--:-- --:--:-- 13.2M
install for i386
* installing *source* package 'nudge' ...
** R
** data
** byte-compile and prepare package for lazy loading
** help
*** installing help indices
converting help for package 'nudge'
finding HTML links ... done
hiv html
like html
neg.contr html
norm1a html
norm1b html
norm1c html
norm1d html
norm2c html
norm2d html
nudge1 html
nudge2 html
pos.contr html
** building package indices
** installing vignettes
** testing if installed package can be loaded
In R CMD INSTALL
install for x64
* installing *source* package 'nudge' ...
** testing if installed package can be loaded
* MD5 sums
packaged installation of 'nudge' as nudge_1.46.0.zip
* DONE (nudge)
In R CMD INSTALL
In R CMD INSTALL
* installing to library 'C:/Users/biocbuild/bbs-3.7-bioc/R/library'
package 'nudge' successfully unpacked and MD5 sums checked
In R CMD INSTALL