| Back to Multiple platform build/check report for BioC 3.7 |
|
This page was generated on 2018-10-17 08:32:14 -0400 (Wed, 17 Oct 2018).
| Package 996/1561 | Hostname | OS / Arch | INSTALL | BUILD | CHECK | BUILD BIN | ||||||
| nnNorm 2.44.0 Adi Laurentiu Tarca
| malbec2 | Linux (Ubuntu 16.04.1 LTS) / x86_64 | OK | OK | OK | |||||||
| tokay2 | Windows Server 2012 R2 Standard / x64 | OK | OK | [ OK ] | OK | |||||||
| merida2 | OS X 10.11.6 El Capitan / x86_64 | OK | OK | OK | OK |
| Package: nnNorm |
| Version: 2.44.0 |
| Command: C:\Users\biocbuild\bbs-3.7-bioc\R\bin\R.exe CMD check --force-multiarch --install=check:nnNorm.install-out.txt --library=C:\Users\biocbuild\bbs-3.7-bioc\R\library --no-vignettes --timings nnNorm_2.44.0.tar.gz |
| StartedAt: 2018-10-17 03:40:23 -0400 (Wed, 17 Oct 2018) |
| EndedAt: 2018-10-17 03:44:58 -0400 (Wed, 17 Oct 2018) |
| EllapsedTime: 274.5 seconds |
| RetCode: 0 |
| Status: OK |
| CheckDir: nnNorm.Rcheck |
| Warnings: 0 |
##############################################################################
##############################################################################
###
### Running command:
###
### C:\Users\biocbuild\bbs-3.7-bioc\R\bin\R.exe CMD check --force-multiarch --install=check:nnNorm.install-out.txt --library=C:\Users\biocbuild\bbs-3.7-bioc\R\library --no-vignettes --timings nnNorm_2.44.0.tar.gz
###
##############################################################################
##############################################################################
* using log directory 'C:/Users/biocbuild/bbs-3.7-bioc/meat/nnNorm.Rcheck'
* using R version 3.5.1 Patched (2018-07-24 r75005)
* using platform: x86_64-w64-mingw32 (64-bit)
* using session charset: ISO8859-1
* using option '--no-vignettes'
* checking for file 'nnNorm/DESCRIPTION' ... OK
* this is package 'nnNorm' version '2.44.0'
* checking package namespace information ... NOTE
Namespace with empty importFrom: 'methods'
* checking package dependencies ... OK
* checking if this is a source package ... OK
* checking if there is a namespace ... OK
* checking for hidden files and directories ... OK
* checking for portable file names ... OK
* checking whether package 'nnNorm' can be installed ... OK
* checking installed package size ... OK
* checking package directory ... OK
* checking 'build' directory ... OK
* checking DESCRIPTION meta-information ... NOTE
Package listed in more than one of Depends, Imports, Suggests, Enhances:
'marray'
A package should be listed in only one of these fields.
* checking top-level files ... OK
* checking for left-over files ... OK
* checking index information ... OK
* checking package subdirectories ... OK
* checking R files for non-ASCII characters ... OK
* checking R files for syntax errors ... OK
* loading checks for arch 'i386'
** checking whether the package can be loaded ... OK
** checking whether the package can be loaded with stated dependencies ... OK
** checking whether the package can be unloaded cleanly ... OK
** checking whether the namespace can be loaded with stated dependencies ... OK
** checking whether the namespace can be unloaded cleanly ... OK
* loading checks for arch 'x64'
** checking whether the package can be loaded ... OK
** checking whether the package can be loaded with stated dependencies ... OK
** checking whether the package can be unloaded cleanly ... OK
** checking whether the namespace can be loaded with stated dependencies ... OK
** checking whether the namespace can be unloaded cleanly ... OK
* checking dependencies in R code ... OK
* checking S3 generic/method consistency ... OK
* checking replacement functions ... OK
* checking foreign function calls ... OK
* checking R code for possible problems ... NOTE
detectSpatialBias: no visible global function definition for 'as'
maNormNN: no visible global function definition for 'as'
maNormNN: no visible global function definition for 'slot<-'
Undefined global functions or variables:
as slot<-
Consider adding
importFrom("methods", "as", "slot<-")
to your NAMESPACE file (and ensure that your DESCRIPTION Imports field
contains 'methods').
* checking Rd files ... OK
* checking Rd metadata ... OK
* checking Rd cross-references ... OK
* checking for missing documentation entries ... OK
* checking for code/documentation mismatches ... OK
* checking Rd \usage sections ... OK
* checking Rd contents ... OK
* checking for unstated dependencies in examples ... OK
* checking files in 'vignettes' ... OK
* checking examples ...
** running examples for arch 'i386' ... OK
Examples with CPU or elapsed time > 5s
user system elapsed
maNormNN 70.49 0.01 70.51
compNorm 38.95 0.03 39.00
detectSpatialBias 10.80 0.00 10.79
** running examples for arch 'x64' ... OK
Examples with CPU or elapsed time > 5s
user system elapsed
maNormNN 68.23 0.00 68.24
compNorm 37.82 0.04 37.88
detectSpatialBias 9.76 0.02 9.78
* checking for unstated dependencies in vignettes ... OK
* checking package vignettes in 'inst/doc' ... OK
* checking running R code from vignettes ... SKIPPED
* checking re-building of vignette outputs ... SKIPPED
* checking PDF version of manual ... OK
* DONE
Status: 3 NOTEs
See
'C:/Users/biocbuild/bbs-3.7-bioc/meat/nnNorm.Rcheck/00check.log'
for details.
nnNorm.Rcheck/00install.out
##############################################################################
##############################################################################
###
### Running command:
###
### C:\cygwin\bin\curl.exe -O https://malbec2.bioconductor.org/BBS/3.7/bioc/src/contrib/nnNorm_2.44.0.tar.gz && rm -rf nnNorm.buildbin-libdir && mkdir nnNorm.buildbin-libdir && C:\Users\biocbuild\bbs-3.7-bioc\R\bin\R.exe CMD INSTALL --merge-multiarch --build --library=nnNorm.buildbin-libdir nnNorm_2.44.0.tar.gz && C:\Users\biocbuild\bbs-3.7-bioc\R\bin\R.exe CMD INSTALL nnNorm_2.44.0.zip && rm nnNorm_2.44.0.tar.gz nnNorm_2.44.0.zip
###
##############################################################################
##############################################################################
% Total % Received % Xferd Average Speed Time Time Time Current
Dload Upload Total Spent Left Speed
0 0 0 0 0 0 0 0 --:--:-- --:--:-- --:--:-- 0
100 1471k 100 1471k 0 0 23.2M 0 --:--:-- --:--:-- --:--:-- 26.6M
install for i386
* installing *source* package 'nnNorm' ...
** R
** inst
** byte-compile and prepare package for lazy loading
** help
*** installing help indices
converting help for package 'nnNorm'
finding HTML links ... done
compNorm html
detectSpatialBias html
maNormNN html
** building package indices
** installing vignettes
** testing if installed package can be loaded
In R CMD INSTALL
install for x64
* installing *source* package 'nnNorm' ...
** testing if installed package can be loaded
* MD5 sums
packaged installation of 'nnNorm' as nnNorm_2.44.0.zip
* DONE (nnNorm)
In R CMD INSTALL
In R CMD INSTALL
* installing to library 'C:/Users/biocbuild/bbs-3.7-bioc/R/library'
package 'nnNorm' successfully unpacked and MD5 sums checked
In R CMD INSTALL
|
nnNorm.Rcheck/examples_i386/nnNorm-Ex.timings
|
nnNorm.Rcheck/examples_x64/nnNorm-Ex.timings
|