| Back to Multiple platform build/check report for BioC 3.7 | 
 | 
This page was generated on 2018-10-17 08:39:39 -0400 (Wed, 17 Oct 2018).
| Package 973/1561 | Hostname | OS / Arch | INSTALL | BUILD | CHECK | BUILD BIN | ||||||
| mygene 1.16.2 Adam Mark, Cyrus Afrasiabi, Chunlei Wu 
 | malbec2 | Linux (Ubuntu 16.04.1 LTS) / x86_64 | OK | OK | OK |  | ||||||
| tokay2 | Windows Server 2012 R2 Standard / x64 | OK | OK | OK | [ OK ] |  | ||||||
| merida2 | OS X 10.11.6 El Capitan / x86_64 | OK | OK | OK | OK |  | 
| Package: mygene | 
| Version: 1.16.2 | 
| Command: rm -rf mygene.buildbin-libdir && mkdir mygene.buildbin-libdir && C:\Users\biocbuild\bbs-3.7-bioc\R\bin\R.exe CMD INSTALL --merge-multiarch --build --library=mygene.buildbin-libdir mygene_1.16.2.tar.gz | 
| StartedAt: 2018-10-17 06:43:20 -0400 (Wed, 17 Oct 2018) | 
| EndedAt: 2018-10-17 06:43:58 -0400 (Wed, 17 Oct 2018) | 
| EllapsedTime: 38.0 seconds | 
| RetCode: 0 | 
| Status: OK | 
| PackageFile: mygene_1.16.2.zip | 
| PackageFileSize: 228 KiB | 
##############################################################################
##############################################################################
###
### Running command:
###
###   rm -rf mygene.buildbin-libdir && mkdir mygene.buildbin-libdir && C:\Users\biocbuild\bbs-3.7-bioc\R\bin\R.exe CMD INSTALL --merge-multiarch --build --library=mygene.buildbin-libdir mygene_1.16.2.tar.gz
###
##############################################################################
##############################################################################
install for i386
* installing *source* package 'mygene' ...
** R
** inst
** byte-compile and prepare package for lazy loading
** help
*** installing help indices
  converting help for package 'mygene'
    finding HTML links ... done
    MyGene-class                            html  
    MyGene                                  html  
    getGene                                 html  
    getGenes                                html  
    makeTxDbFromMyGene                      html  
    metadata                                html  
    mygene-package                          html  
    query                                   html  
    queryMany                               html  
** building package indices
** installing vignettes
** testing if installed package can be loaded
In R CMD INSTALL
install for x64
* installing *source* package 'mygene' ...
** testing if installed package can be loaded
* MD5 sums
packaged installation of 'mygene' as mygene_1.16.2.zip
* DONE (mygene)
In R CMD INSTALL
In R CMD INSTALL