| Back to Multiple platform build/check report for BioC 3.7 |
|
This page was generated on 2018-03-04 10:53:38 -0500 (Sun, 04 Mar 2018).
| Package 940/1503 | Hostname | OS / Arch | INSTALL | BUILD | CHECK | BUILD BIN | ||||||
| mvGST 1.13.0 John R. Stevens
| malbec2 | Linux (Ubuntu 16.04.1 LTS) / x86_64 | OK | ERROR | skipped | |||||||
| tokay2 | Windows Server 2012 R2 Standard / x64 | [ OK ] | ERROR | skipped | skipped | |||||||
| merida2 | OS X 10.11.6 El Capitan / x86_64 | OK | ERROR | skipped | skipped |
| Package: mvGST |
| Version: 1.13.0 |
| Command: rm -rf mvGST.buildbin-libdir && mkdir mvGST.buildbin-libdir && C:\cygwin\bin\curl.exe -O https://malbec2.bioconductor.org/BBS/3.7/bioc/src/contrib/mvGST_1.13.0.tar.gz && C:\Users\biocbuild\bbs-3.7-bioc\R\bin\R.exe CMD INSTALL --build --library=mvGST.buildbin-libdir --merge-multiarch mvGST_1.13.0.tar.gz && C:\Users\biocbuild\bbs-3.7-bioc\R\bin\R.exe CMD INSTALL mvGST_1.13.0.zip && rm mvGST_1.13.0.tar.gz mvGST_1.13.0.zip |
| StartedAt: 2018-03-03 19:38:56 -0500 (Sat, 03 Mar 2018) |
| EndedAt: 2018-03-03 19:39:54 -0500 (Sat, 03 Mar 2018) |
| EllapsedTime: 58.5 seconds |
| RetCode: 0 |
| Status: OK |
##############################################################################
##############################################################################
###
### Running command:
###
### rm -rf mvGST.buildbin-libdir && mkdir mvGST.buildbin-libdir && C:\cygwin\bin\curl.exe -O https://malbec2.bioconductor.org/BBS/3.7/bioc/src/contrib/mvGST_1.13.0.tar.gz && C:\Users\biocbuild\bbs-3.7-bioc\R\bin\R.exe CMD INSTALL --build --library=mvGST.buildbin-libdir --merge-multiarch mvGST_1.13.0.tar.gz && C:\Users\biocbuild\bbs-3.7-bioc\R\bin\R.exe CMD INSTALL mvGST_1.13.0.zip && rm mvGST_1.13.0.tar.gz mvGST_1.13.0.zip
###
##############################################################################
##############################################################################
% Total % Received % Xferd Average Speed Time Time Time Current
Dload Upload Total Spent Left Speed
0 0 0 0 0 0 0 0 --:--:-- --:--:-- --:--:-- 0
100 2390k 100 2390k 0 0 23.7M 0 --:--:-- --:--:-- --:--:-- 25.3M
install for i386
* installing *source* package 'mvGST' ...
** R
** data
** byte-compile and prepare package for lazy loading
** help
*** installing help indices
converting help for package 'mvGST'
finding HTML links ... done
go2Profile html
graphCell html
mvGST-package html
mvGST.other html
mvGSTsamples html
p.adjust.SFL html
pickOut html
profileTable html
** building package indices
** installing vignettes
** testing if installed package can be loaded
In R CMD INSTALL
install for x64
* installing *source* package 'mvGST' ...
** testing if installed package can be loaded
* MD5 sums
packaged installation of 'mvGST' as mvGST_1.13.0.zip
* DONE (mvGST)
In R CMD INSTALL
In R CMD INSTALL
* installing to library 'C:/Users/biocbuild/bbs-3.7-bioc/R/library'
package 'mvGST' successfully unpacked and MD5 sums checked
In R CMD INSTALL