| Back to Multiple platform build/check report for BioC 3.7 | 
 | 
This page was generated on 2018-10-17 08:22:27 -0400 (Wed, 17 Oct 2018).
| Package 967/1561 | Hostname | OS / Arch | INSTALL | BUILD | CHECK | BUILD BIN | ||||||
| multiscan 1.40.0 Mizanur Khondoker 
 | malbec2 | Linux (Ubuntu 16.04.1 LTS) / x86_64 | [ OK ] | OK | OK |  | ||||||
| tokay2 | Windows Server 2012 R2 Standard / x64 | OK | OK | OK | OK |  | ||||||
| merida2 | OS X 10.11.6 El Capitan / x86_64 | OK | OK | OK | OK |  | 
| Package: multiscan | 
| Version: 1.40.0 | 
| Command: /home/biocbuild/bbs-3.7-bioc/R/bin/R CMD INSTALL multiscan | 
| StartedAt: 2018-10-15 17:57:25 -0400 (Mon, 15 Oct 2018) | 
| EndedAt: 2018-10-15 17:57:27 -0400 (Mon, 15 Oct 2018) | 
| EllapsedTime: 2.2 seconds | 
| RetCode: 0 | 
| Status: OK | 
##############################################################################
##############################################################################
###
### Running command:
###
###   /home/biocbuild/bbs-3.7-bioc/R/bin/R CMD INSTALL multiscan
###
##############################################################################
##############################################################################
* installing to library ‘/home/biocbuild/bbs-3.7-bioc/R/library’
* installing *source* package ‘multiscan’ ...
** libs
gcc -I"/home/biocbuild/bbs-3.7-bioc/R/include" -DNDEBUG   -I/usr/local/include   -fpic  -g -O2  -Wall -c multiscan.c -o multiscan.o
gcc -shared -L/home/biocbuild/bbs-3.7-bioc/R/lib -L/usr/local/lib -o multiscan.so multiscan.o -L/home/biocbuild/bbs-3.7-bioc/R/lib -lR
installing to /home/biocbuild/bbs-3.7-bioc/R/library/multiscan/libs
** R
** data
** byte-compile and prepare package for lazy loading
** help
*** installing help indices
** building package indices
** installing vignettes
** testing if installed package can be loaded
*** Loaded multiscan Version 1.40.0 *** 
Type 'vignette("multiscan")' to view the package vignette.
* DONE (multiscan)