| Back to Multiple platform build/check report for BioC 3.7 |
|
This page was generated on 2018-10-17 08:42:21 -0400 (Wed, 17 Oct 2018).
| Package 956/1561 | Hostname | OS / Arch | INSTALL | BUILD | CHECK | BUILD BIN | ||||||
| msPurity 1.6.2 Thomas N. Lawson
| malbec2 | Linux (Ubuntu 16.04.1 LTS) / x86_64 | OK | OK | OK | |||||||
| tokay2 | Windows Server 2012 R2 Standard / x64 | OK | OK | OK | [ OK ] | |||||||
| merida2 | OS X 10.11.6 El Capitan / x86_64 | OK | OK | OK | OK |
| Package: msPurity |
| Version: 1.6.2 |
| Command: rm -rf msPurity.buildbin-libdir && mkdir msPurity.buildbin-libdir && C:\Users\biocbuild\bbs-3.7-bioc\R\bin\R.exe CMD INSTALL --merge-multiarch --build --library=msPurity.buildbin-libdir msPurity_1.6.2.tar.gz |
| StartedAt: 2018-10-17 06:42:45 -0400 (Wed, 17 Oct 2018) |
| EndedAt: 2018-10-17 06:42:57 -0400 (Wed, 17 Oct 2018) |
| EllapsedTime: 12.3 seconds |
| RetCode: 0 |
| Status: OK |
| PackageFile: msPurity_1.6.2.zip |
| PackageFileSize: 823 KiB |
##############################################################################
##############################################################################
###
### Running command:
###
### rm -rf msPurity.buildbin-libdir && mkdir msPurity.buildbin-libdir && C:\Users\biocbuild\bbs-3.7-bioc\R\bin\R.exe CMD INSTALL --merge-multiarch --build --library=msPurity.buildbin-libdir msPurity_1.6.2.tar.gz
###
##############################################################################
##############################################################################
install for i386
* installing *source* package 'msPurity' ...
** R
** inst
** byte-compile and prepare package for lazy loading
** help
*** installing help indices
converting help for package 'msPurity'
finding HTML links ... done
Getfiles html
assessPuritySingle html
averageSpectra-purityD-method html
averageSpectraSingle html
create_database html
dimsPredictPurity-purityD-method html
dimsPredictPuritySingle html
filterp-purityD-method html
frag4feature-purityA-method html
getP-purityD-method html
get_additional_mzml_meta html
groupPeaks-purityD-method html
groupPeaksEx html
initialize-purityD-method html
iwNormGauss html
iwNormQE.5 html
iwNormRcosine html
pcalc html
purityA html
purityD-class html
purityX html
show-purityA-method html
show-purityD-method html
show-purityX-method html
spectral_matching html
subtract-purityD-method html
subtractMZ html
validate-purityA-method html
writeOut-purityD-method html
** building package indices
** installing vignettes
** testing if installed package can be loaded
In R CMD INSTALL
install for x64
* installing *source* package 'msPurity' ...
** testing if installed package can be loaded
* MD5 sums
packaged installation of 'msPurity' as msPurity_1.6.2.zip
* DONE (msPurity)
In R CMD INSTALL
In R CMD INSTALL