| Back to Multiple platform build/check report for BioC 3.7 |
|
This page was generated on 2018-10-17 08:55:19 -0400 (Wed, 17 Oct 2018).
| Package 938/1561 | Hostname | OS / Arch | INSTALL | BUILD | CHECK | BUILD BIN | ||||||
| motifbreakR 1.10.0 Simon Gert Coetzee
| malbec2 | Linux (Ubuntu 16.04.1 LTS) / x86_64 | OK | OK | OK | |||||||
| tokay2 | Windows Server 2012 R2 Standard / x64 | OK | OK | WARNINGS | OK | |||||||
| merida2 | OS X 10.11.6 El Capitan / x86_64 | OK | OK | OK | [ OK ] |
| Package: motifbreakR |
| Version: 1.10.0 |
| Command: rm -rf motifbreakR.buildbin-libdir && mkdir motifbreakR.buildbin-libdir && /Users/biocbuild/BBS/utils/build-universal.sh motifbreakR_1.10.0.tar.gz /Library/Frameworks/R.framework/Versions/Current/Resources/bin/R motifbreakR.buildbin-libdir |
| StartedAt: 2018-10-17 01:43:29 -0400 (Wed, 17 Oct 2018) |
| EndedAt: 2018-10-17 01:44:23 -0400 (Wed, 17 Oct 2018) |
| EllapsedTime: 54.5 seconds |
| RetCode: 0 |
| Status: OK |
| PackageFile: motifbreakR_1.10.0.tgz |
| PackageFileSize: 2.432 MiB |
##############################################################################
##############################################################################
###
### Running command:
###
### rm -rf motifbreakR.buildbin-libdir && mkdir motifbreakR.buildbin-libdir && /Users/biocbuild/BBS/utils/build-universal.sh motifbreakR_1.10.0.tar.gz /Library/Frameworks/R.framework/Versions/Current/Resources/bin/R motifbreakR.buildbin-libdir
###
##############################################################################
##############################################################################
>>>>>>>
>>>>>>> INSTALLATION WITH 'R CMD INSTALL --preclean --no-multiarch --library=motifbreakR.buildbin-libdir motifbreakR_1.10.0.tar.gz'
>>>>>>>
* installing *source* package ‘motifbreakR’ ...
** R
** data
*** moving datasets to lazyload DB
** inst
** byte-compile and prepare package for lazy loading
See system.file("LICENSE", package="MotifDb") for use restrictions.
** help
*** installing help indices
** building package indices
** installing vignettes
** testing if installed package can be loaded
See system.file("LICENSE", package="MotifDb") for use restrictions.
* DONE (motifbreakR)