| Back to Multiple platform build/check report for BioC 3.7 |
|
This page was generated on 2018-10-17 08:36:15 -0400 (Wed, 17 Oct 2018).
| Package 942/1561 | Hostname | OS / Arch | INSTALL | BUILD | CHECK | BUILD BIN | ||||||
| motifRG 1.24.0 Zizhen Yao
| malbec2 | Linux (Ubuntu 16.04.1 LTS) / x86_64 | OK | OK | ERROR | |||||||
| tokay2 | Windows Server 2012 R2 Standard / x64 | [ OK ] | OK | OK | OK | |||||||
| merida2 | OS X 10.11.6 El Capitan / x86_64 | OK | OK | OK | OK |
| Package: motifRG |
| Version: 1.24.0 |
| Command: C:\cygwin\bin\curl.exe -O https://malbec2.bioconductor.org/BBS/3.7/bioc/src/contrib/motifRG_1.24.0.tar.gz && rm -rf motifRG.buildbin-libdir && mkdir motifRG.buildbin-libdir && C:\Users\biocbuild\bbs-3.7-bioc\R\bin\R.exe CMD INSTALL --merge-multiarch --build --library=motifRG.buildbin-libdir motifRG_1.24.0.tar.gz && C:\Users\biocbuild\bbs-3.7-bioc\R\bin\R.exe CMD INSTALL motifRG_1.24.0.zip && rm motifRG_1.24.0.tar.gz motifRG_1.24.0.zip |
| StartedAt: 2018-10-16 20:03:03 -0400 (Tue, 16 Oct 2018) |
| EndedAt: 2018-10-16 20:03:48 -0400 (Tue, 16 Oct 2018) |
| EllapsedTime: 45.5 seconds |
| RetCode: 0 |
| Status: OK |
##############################################################################
##############################################################################
###
### Running command:
###
### C:\cygwin\bin\curl.exe -O https://malbec2.bioconductor.org/BBS/3.7/bioc/src/contrib/motifRG_1.24.0.tar.gz && rm -rf motifRG.buildbin-libdir && mkdir motifRG.buildbin-libdir && C:\Users\biocbuild\bbs-3.7-bioc\R\bin\R.exe CMD INSTALL --merge-multiarch --build --library=motifRG.buildbin-libdir motifRG_1.24.0.tar.gz && C:\Users\biocbuild\bbs-3.7-bioc\R\bin\R.exe CMD INSTALL motifRG_1.24.0.zip && rm motifRG_1.24.0.tar.gz motifRG_1.24.0.zip
###
##############################################################################
##############################################################################
% Total % Received % Xferd Average Speed Time Time Time Current
Dload Upload Total Spent Left Speed
0 0 0 0 0 0 0 0 --:--:-- --:--:-- --:--:-- 0
100 296k 100 296k 0 0 4849k 0 --:--:-- --:--:-- --:--:-- 5395k
install for i386
* installing *source* package 'motifRG' ...
** R
** data
** inst
** byte-compile and prepare package for lazy loading
** help
*** installing help indices
converting help for package 'motifRG'
finding HTML links ... done
Motif html
YY1.control html
YY1.peak html
ctcf.motifs html
findMotif html
findMotifFasta html
findMotifFgBg html
getSequence html
motifLatexTable html
plotMotif html
finding level-2 HTML links ... done
refinePWMMotif html
refinePWMMotifExtend html
summaryMotif html
** building package indices
** installing vignettes
** testing if installed package can be loaded
In R CMD INSTALL
install for x64
* installing *source* package 'motifRG' ...
** testing if installed package can be loaded
* MD5 sums
packaged installation of 'motifRG' as motifRG_1.24.0.zip
* DONE (motifRG)
In R CMD INSTALL
In R CMD INSTALL
* installing to library 'C:/Users/biocbuild/bbs-3.7-bioc/R/library'
package 'motifRG' successfully unpacked and MD5 sums checked
In R CMD INSTALL