| Back to Multiple platform build/check report for BioC 3.7 |
|
This page was generated on 2018-10-17 08:37:20 -0400 (Wed, 17 Oct 2018).
| Package 926/1561 | Hostname | OS / Arch | INSTALL | BUILD | CHECK | BUILD BIN | ||||||
| mitoODE 1.18.0 Gregoire Pau
| malbec2 | Linux (Ubuntu 16.04.1 LTS) / x86_64 | OK | OK | OK | |||||||
| tokay2 | Windows Server 2012 R2 Standard / x64 | [ OK ] | OK | OK | OK | |||||||
| merida2 | OS X 10.11.6 El Capitan / x86_64 | OK | OK | OK | OK |
| Package: mitoODE |
| Version: 1.18.0 |
| Command: C:\cygwin\bin\curl.exe -O https://malbec2.bioconductor.org/BBS/3.7/bioc/src/contrib/mitoODE_1.18.0.tar.gz && rm -rf mitoODE.buildbin-libdir && mkdir mitoODE.buildbin-libdir && C:\Users\biocbuild\bbs-3.7-bioc\R\bin\R.exe CMD INSTALL --merge-multiarch --build --library=mitoODE.buildbin-libdir mitoODE_1.18.0.tar.gz && C:\Users\biocbuild\bbs-3.7-bioc\R\bin\R.exe CMD INSTALL mitoODE_1.18.0.zip && rm mitoODE_1.18.0.tar.gz mitoODE_1.18.0.zip |
| StartedAt: 2018-10-16 19:15:46 -0400 (Tue, 16 Oct 2018) |
| EndedAt: 2018-10-16 19:16:18 -0400 (Tue, 16 Oct 2018) |
| EllapsedTime: 31.9 seconds |
| RetCode: 0 |
| Status: OK |
##############################################################################
##############################################################################
###
### Running command:
###
### C:\cygwin\bin\curl.exe -O https://malbec2.bioconductor.org/BBS/3.7/bioc/src/contrib/mitoODE_1.18.0.tar.gz && rm -rf mitoODE.buildbin-libdir && mkdir mitoODE.buildbin-libdir && C:\Users\biocbuild\bbs-3.7-bioc\R\bin\R.exe CMD INSTALL --merge-multiarch --build --library=mitoODE.buildbin-libdir mitoODE_1.18.0.tar.gz && C:\Users\biocbuild\bbs-3.7-bioc\R\bin\R.exe CMD INSTALL mitoODE_1.18.0.zip && rm mitoODE_1.18.0.tar.gz mitoODE_1.18.0.zip
###
##############################################################################
##############################################################################
% Total % Received % Xferd Average Speed Time Time Time Current
Dload Upload Total Spent Left Speed
0 0 0 0 0 0 0 0 --:--:-- --:--:-- --:--:-- 0
100 72269 100 72269 0 0 1347k 0 --:--:-- --:--:-- --:--:-- 1568k
install for i386
* installing *source* package 'mitoODE' ...
** libs
C:/Rtools/mingw_32/bin/gcc -I"C:/Users/BIOCBU˜1/BBS-3˜1.7-B/R/include" -DNDEBUG -I"C:/extsoft/include" -O3 -Wall -std=gnu99 -mtune=generic -c rksolve.c -o rksolve.o
C:/Rtools/mingw_32/bin/gcc -shared -s -static-libgcc -o mitoODE.dll tmp.def rksolve.o -LC:/extsoft/lib/i386 -LC:/extsoft/lib -LC:/Users/BIOCBU˜1/BBS-3˜1.7-B/R/bin/i386 -lR
installing to C:/Users/biocbuild/bbs-3.7-bioc/meat/mitoODE.buildbin-libdir/mitoODE/libs/i386
** R
** inst
** byte-compile and prepare package for lazy loading
** help
*** installing help indices
converting help for package 'mitoODE'
finding HTML links ... done
figures html
mitoODE html
plotfit html
** building package indices
** installing vignettes
** testing if installed package can be loaded
In R CMD INSTALL
install for x64
* installing *source* package 'mitoODE' ...
** libs
C:/Rtools/mingw_64/bin/gcc -I"C:/Users/BIOCBU˜1/BBS-3˜1.7-B/R/include" -DNDEBUG -I"C:/extsoft/include" -O2 -Wall -std=gnu99 -mtune=generic -c rksolve.c -o rksolve.o
C:/Rtools/mingw_64/bin/gcc -shared -s -static-libgcc -o mitoODE.dll tmp.def rksolve.o -LC:/extsoft/lib/x64 -LC:/extsoft/lib -LC:/Users/BIOCBU˜1/BBS-3˜1.7-B/R/bin/x64 -lR
installing to C:/Users/biocbuild/bbs-3.7-bioc/meat/mitoODE.buildbin-libdir/mitoODE/libs/x64
** testing if installed package can be loaded
* MD5 sums
packaged installation of 'mitoODE' as mitoODE_1.18.0.zip
* DONE (mitoODE)
In R CMD INSTALL
In R CMD INSTALL
* installing to library 'C:/Users/biocbuild/bbs-3.7-bioc/R/library'
package 'mitoODE' successfully unpacked and MD5 sums checked
In R CMD INSTALL