| Back to Multiple platform build/check report for BioC 3.7 |
|
This page was generated on 2018-10-17 08:35:48 -0400 (Wed, 17 Oct 2018).
| Package 909/1561 | Hostname | OS / Arch | INSTALL | BUILD | CHECK | BUILD BIN | ||||||
| minfi 1.26.2 Kasper Daniel Hansen
| malbec2 | Linux (Ubuntu 16.04.1 LTS) / x86_64 | OK | OK | WARNINGS | |||||||
| tokay2 | Windows Server 2012 R2 Standard / x64 | [ OK ] | OK | WARNINGS | OK | |||||||
| merida2 | OS X 10.11.6 El Capitan / x86_64 | OK | OK | WARNINGS | OK |
| Package: minfi |
| Version: 1.26.2 |
| Command: C:\cygwin\bin\curl.exe -O https://malbec2.bioconductor.org/BBS/3.7/bioc/src/contrib/minfi_1.26.2.tar.gz && rm -rf minfi.buildbin-libdir && mkdir minfi.buildbin-libdir && C:\Users\biocbuild\bbs-3.7-bioc\R\bin\R.exe CMD INSTALL --merge-multiarch --build --library=minfi.buildbin-libdir minfi_1.26.2.tar.gz && C:\Users\biocbuild\bbs-3.7-bioc\R\bin\R.exe CMD INSTALL minfi_1.26.2.zip && rm minfi_1.26.2.tar.gz minfi_1.26.2.zip |
| StartedAt: 2018-10-16 20:19:26 -0400 (Tue, 16 Oct 2018) |
| EndedAt: 2018-10-16 20:21:29 -0400 (Tue, 16 Oct 2018) |
| EllapsedTime: 123.1 seconds |
| RetCode: 0 |
| Status: OK |
##############################################################################
##############################################################################
###
### Running command:
###
### C:\cygwin\bin\curl.exe -O https://malbec2.bioconductor.org/BBS/3.7/bioc/src/contrib/minfi_1.26.2.tar.gz && rm -rf minfi.buildbin-libdir && mkdir minfi.buildbin-libdir && C:\Users\biocbuild\bbs-3.7-bioc\R\bin\R.exe CMD INSTALL --merge-multiarch --build --library=minfi.buildbin-libdir minfi_1.26.2.tar.gz && C:\Users\biocbuild\bbs-3.7-bioc\R\bin\R.exe CMD INSTALL minfi_1.26.2.zip && rm minfi_1.26.2.tar.gz minfi_1.26.2.zip
###
##############################################################################
##############################################################################
% Total % Received % Xferd Average Speed Time Time Time Current
Dload Upload Total Spent Left Speed
0 0 0 0 0 0 0 0 --:--:-- --:--:-- --:--:-- 0
100 175k 100 175k 0 0 3133k 0 --:--:-- --:--:-- --:--:-- 3576k
install for i386
* installing *source* package 'minfi' ...
** R
** inst
** byte-compile and prepare package for lazy loading
** help
*** installing help indices
converting help for package 'minfi'
finding HTML links ... done
DelayedArray_utils html
GenomicMethylSet-class html
Rd warning: C:/Users/biocbuild/bbs-3.7-bioc/tmpdir/RtmpclzBcU/R.INSTALLed853882a8f/minfi/man/GenomicMethylSet-class.Rd:129: file link 'RangedSummarizedExperiment' in package 'SummarizedExperiment' does not exist and so has been treated as a topic
GenomicRatioSet-class html
Rd warning: C:/Users/biocbuild/bbs-3.7-bioc/tmpdir/RtmpclzBcU/R.INSTALLed853882a8f/minfi/man/GenomicRatioSet-class.Rd:121: file link 'RangedSummarizedExperiment' in package 'SummarizedExperiment' does not exist and so has been treated as a topic
IlluminaMethylationAnnotation-class html
IlluminaMethylationManifest-class html
MethylSet-class html
finding level-2 HTML links ... done
RGChannelSet-class html
RatioSet-class html
blockFinder html
bumphunter html
combineArrays html
compartments html
controlStripPlot html
convertArray html
cpgCollapse html
densityBeanPlot html
densityPlot html
detectionP html
dmpFinder html
estimateCellCounts html
fixMethOutliers html
gaphunter html
getAnnotation html
getGenomicRatioSetFromGEO html
getQC html
getSex html
logit2 html
makeGenomicRatioSetFromMatrix html
mapToGenome-methods html
mdsPlot html
minfi-defunct html
minfi-deprecated html
minfi-package html
minfiQC html
plotBetasByType html
plotCpg html
preprocessFunnorm html
preprocessIllumina html
preprocessNoob html
preprocessQuantile html
preprocessRaw html
preprocessSwan html
qcReport html
ratioConvert-methods html
read.metharray html
read.metharray.exp html
read.metharray.sheet html
readGEORawFile html
readTCGA html
subsetByLoci html
utils html
** building package indices
** installing vignettes
** testing if installed package can be loaded
In R CMD INSTALL
install for x64
* installing *source* package 'minfi' ...
** testing if installed package can be loaded
* MD5 sums
packaged installation of 'minfi' as minfi_1.26.2.zip
* DONE (minfi)
In R CMD INSTALL
In R CMD INSTALL
* installing to library 'C:/Users/biocbuild/bbs-3.7-bioc/R/library'
package 'minfi' successfully unpacked and MD5 sums checked
In R CMD INSTALL