| Back to Multiple platform build/check report for BioC 3.7 |
|
This page was generated on 2018-10-17 08:43:21 -0400 (Wed, 17 Oct 2018).
| Package 905/1561 | Hostname | OS / Arch | INSTALL | BUILD | CHECK | BUILD BIN | ||||||
| mimager 1.4.0 Aaron Wolen
| malbec2 | Linux (Ubuntu 16.04.1 LTS) / x86_64 | OK | OK | OK | |||||||
| tokay2 | Windows Server 2012 R2 Standard / x64 | [ OK ] | OK | WARNINGS | OK | |||||||
| merida2 | OS X 10.11.6 El Capitan / x86_64 | OK | OK | OK | OK |
| Package: mimager |
| Version: 1.4.0 |
| Command: C:\cygwin\bin\curl.exe -O https://malbec2.bioconductor.org/BBS/3.7/bioc/src/contrib/mimager_1.4.0.tar.gz && rm -rf mimager.buildbin-libdir && mkdir mimager.buildbin-libdir && C:\Users\biocbuild\bbs-3.7-bioc\R\bin\R.exe CMD INSTALL --merge-multiarch --build --library=mimager.buildbin-libdir mimager_1.4.0.tar.gz && C:\Users\biocbuild\bbs-3.7-bioc\R\bin\R.exe CMD INSTALL mimager_1.4.0.zip && rm mimager_1.4.0.tar.gz mimager_1.4.0.zip |
| StartedAt: 2018-10-16 19:55:12 -0400 (Tue, 16 Oct 2018) |
| EndedAt: 2018-10-16 19:55:52 -0400 (Tue, 16 Oct 2018) |
| EllapsedTime: 39.6 seconds |
| RetCode: 0 |
| Status: OK |
##############################################################################
##############################################################################
###
### Running command:
###
### C:\cygwin\bin\curl.exe -O https://malbec2.bioconductor.org/BBS/3.7/bioc/src/contrib/mimager_1.4.0.tar.gz && rm -rf mimager.buildbin-libdir && mkdir mimager.buildbin-libdir && C:\Users\biocbuild\bbs-3.7-bioc\R\bin\R.exe CMD INSTALL --merge-multiarch --build --library=mimager.buildbin-libdir mimager_1.4.0.tar.gz && C:\Users\biocbuild\bbs-3.7-bioc\R\bin\R.exe CMD INSTALL mimager_1.4.0.zip && rm mimager_1.4.0.tar.gz mimager_1.4.0.zip
###
##############################################################################
##############################################################################
% Total % Received % Xferd Average Speed Time Time Time Current
Dload Upload Total Spent Left Speed
0 0 0 0 0 0 0 0 --:--:-- --:--:-- --:--:-- 0
100 18184 100 18184 0 0 301k 0 --:--:-- --:--:-- --:--:-- 341k
install for i386
* installing *source* package 'mimager' ...
** R
** byte-compile and prepare package for lazy loading
** help
*** installing help indices
converting help for package 'mimager'
finding HTML links ... done
arank html
arle html
Rd warning: C:/Users/biocbuild/bbs-3.7-bioc/tmpdir/Rtmpqs377H/R.INSTALL18c01be419f1/mimager/man/arle.Rd:33: file link 'RLE' in package 'affyPLM' does not exist and so has been treated as a topic
marray html
mimage html
mimager html
Rd warning: C:/Users/biocbuild/bbs-3.7-bioc/tmpdir/Rtmpqs377H/R.INSTALL18c01be419f1/mimager/man/mimager.Rd:25: file link 'FeatureSet-class' in package 'oligoClasses' does not exist and so has been treated as a topic
** building package indices
** installing vignettes
** testing if installed package can be loaded
In R CMD INSTALL
install for x64
* installing *source* package 'mimager' ...
** testing if installed package can be loaded
* MD5 sums
packaged installation of 'mimager' as mimager_1.4.0.zip
* DONE (mimager)
In R CMD INSTALL
In R CMD INSTALL
* installing to library 'C:/Users/biocbuild/bbs-3.7-bioc/R/library'
package 'mimager' successfully unpacked and MD5 sums checked
In R CMD INSTALL