| Back to Multiple platform build/check report for BioC 3.7 |
|
This page was generated on 2018-10-17 08:41:18 -0400 (Wed, 17 Oct 2018).
| Package 915/1561 | Hostname | OS / Arch | INSTALL | BUILD | CHECK | BUILD BIN | ||||||
| miRcomp 1.10.0 Matthew N. McCall
| malbec2 | Linux (Ubuntu 16.04.1 LTS) / x86_64 | OK | OK | WARNINGS | |||||||
| tokay2 | Windows Server 2012 R2 Standard / x64 | [ OK ] | OK | WARNINGS | OK | |||||||
| merida2 | OS X 10.11.6 El Capitan / x86_64 | OK | OK | WARNINGS | OK |
| Package: miRcomp |
| Version: 1.10.0 |
| Command: C:\cygwin\bin\curl.exe -O https://malbec2.bioconductor.org/BBS/3.7/bioc/src/contrib/miRcomp_1.10.0.tar.gz && rm -rf miRcomp.buildbin-libdir && mkdir miRcomp.buildbin-libdir && C:\Users\biocbuild\bbs-3.7-bioc\R\bin\R.exe CMD INSTALL --merge-multiarch --build --library=miRcomp.buildbin-libdir miRcomp_1.10.0.tar.gz && C:\Users\biocbuild\bbs-3.7-bioc\R\bin\R.exe CMD INSTALL miRcomp_1.10.0.zip && rm miRcomp_1.10.0.tar.gz miRcomp_1.10.0.zip |
| StartedAt: 2018-10-16 19:12:45 -0400 (Tue, 16 Oct 2018) |
| EndedAt: 2018-10-16 19:13:32 -0400 (Tue, 16 Oct 2018) |
| EllapsedTime: 47.0 seconds |
| RetCode: 0 |
| Status: OK |
##############################################################################
##############################################################################
###
### Running command:
###
### C:\cygwin\bin\curl.exe -O https://malbec2.bioconductor.org/BBS/3.7/bioc/src/contrib/miRcomp_1.10.0.tar.gz && rm -rf miRcomp.buildbin-libdir && mkdir miRcomp.buildbin-libdir && C:\Users\biocbuild\bbs-3.7-bioc\R\bin\R.exe CMD INSTALL --merge-multiarch --build --library=miRcomp.buildbin-libdir miRcomp_1.10.0.tar.gz && C:\Users\biocbuild\bbs-3.7-bioc\R\bin\R.exe CMD INSTALL miRcomp_1.10.0.zip && rm miRcomp_1.10.0.tar.gz miRcomp_1.10.0.zip
###
##############################################################################
##############################################################################
% Total % Received % Xferd Average Speed Time Time Time Current
Dload Upload Total Spent Left Speed
0 0 0 0 0 0 0 0 --:--:-- --:--:-- --:--:-- 0
100 1800k 100 1800k 0 0 21.8M 0 --:--:-- --:--:-- --:--:-- 23.7M
install for i386
* installing *source* package 'miRcomp' ...
** R
** data
** inst
** byte-compile and prepare package for lazy loading
** help
*** installing help indices
converting help for package 'miRcomp'
finding HTML links ... done
accuracy html
completeFeatures html
expressionComp html
lifetech html
limitOfDetection html
miRcompShinyApp html
precision html
qpcRb4 html
qpcRb5 html
qpcRdefault html
qpcRl5 html
qpcRlinexp html
qualityAssessment html
titrationResponse html
** building package indices
** installing vignettes
** testing if installed package can be loaded
In R CMD INSTALL
install for x64
* installing *source* package 'miRcomp' ...
** testing if installed package can be loaded
* MD5 sums
packaged installation of 'miRcomp' as miRcomp_1.10.0.zip
* DONE (miRcomp)
In R CMD INSTALL
In R CMD INSTALL
* installing to library 'C:/Users/biocbuild/bbs-3.7-bioc/R/library'
package 'miRcomp' successfully unpacked and MD5 sums checked
In R CMD INSTALL