| Back to Multiple platform build/check report for BioC 3.7 |
|
This page was generated on 2018-10-17 08:33:53 -0400 (Wed, 17 Oct 2018).
| Package 920/1561 | Hostname | OS / Arch | INSTALL | BUILD | CHECK | BUILD BIN | ||||||
| miRNApath 1.40.0 James M. Ward
| malbec2 | Linux (Ubuntu 16.04.1 LTS) / x86_64 | OK | OK | OK | |||||||
| tokay2 | Windows Server 2012 R2 Standard / x64 | [ OK ] | OK | OK | OK | |||||||
| merida2 | OS X 10.11.6 El Capitan / x86_64 | OK | OK | OK | OK |
| Package: miRNApath |
| Version: 1.40.0 |
| Command: C:\cygwin\bin\curl.exe -O https://malbec2.bioconductor.org/BBS/3.7/bioc/src/contrib/miRNApath_1.40.0.tar.gz && rm -rf miRNApath.buildbin-libdir && mkdir miRNApath.buildbin-libdir && C:\Users\biocbuild\bbs-3.7-bioc\R\bin\R.exe CMD INSTALL --merge-multiarch --build --library=miRNApath.buildbin-libdir miRNApath_1.40.0.tar.gz && C:\Users\biocbuild\bbs-3.7-bioc\R\bin\R.exe CMD INSTALL miRNApath_1.40.0.zip && rm miRNApath_1.40.0.tar.gz miRNApath_1.40.0.zip |
| StartedAt: 2018-10-16 20:14:18 -0400 (Tue, 16 Oct 2018) |
| EndedAt: 2018-10-16 20:15:01 -0400 (Tue, 16 Oct 2018) |
| EllapsedTime: 43.3 seconds |
| RetCode: 0 |
| Status: OK |
##############################################################################
##############################################################################
###
### Running command:
###
### C:\cygwin\bin\curl.exe -O https://malbec2.bioconductor.org/BBS/3.7/bioc/src/contrib/miRNApath_1.40.0.tar.gz && rm -rf miRNApath.buildbin-libdir && mkdir miRNApath.buildbin-libdir && C:\Users\biocbuild\bbs-3.7-bioc\R\bin\R.exe CMD INSTALL --merge-multiarch --build --library=miRNApath.buildbin-libdir miRNApath_1.40.0.tar.gz && C:\Users\biocbuild\bbs-3.7-bioc\R\bin\R.exe CMD INSTALL miRNApath_1.40.0.zip && rm miRNApath_1.40.0.tar.gz miRNApath_1.40.0.zip
###
##############################################################################
##############################################################################
% Total % Received % Xferd Average Speed Time Time Time Current
Dload Upload Total Spent Left Speed
0 0 0 0 0 0 0 0 --:--:-- --:--:-- --:--:-- 0
100 442k 100 442k 0 0 6897k 0 --:--:-- --:--:-- --:--:-- 7624k
install for i386
* installing *source* package 'miRNApath' ...
** R
** data
** inst
** byte-compile and prepare package for lazy loading
** help
*** installing help indices
converting help for package 'miRNApath'
finding HTML links ... done
checkColumns html
convertFoldChange html
filtermirnapath html
loadmirnapath html
loadmirnapathways html
loadmirnatogene html
miRNApath-package html
mirnaTable html
mirnaobj html
mirnapath-class html
runEnrichment html
** building package indices
** installing vignettes
** testing if installed package can be loaded
In R CMD INSTALL
install for x64
* installing *source* package 'miRNApath' ...
** testing if installed package can be loaded
* MD5 sums
packaged installation of 'miRNApath' as miRNApath_1.40.0.zip
* DONE (miRNApath)
In R CMD INSTALL
In R CMD INSTALL
* installing to library 'C:/Users/biocbuild/bbs-3.7-bioc/R/library'
package 'miRNApath' successfully unpacked and MD5 sums checked
In R CMD INSTALL