| Back to Multiple platform build/check report for BioC 3.7 |
|
This page was generated on 2018-10-17 08:44:03 -0400 (Wed, 17 Oct 2018).
| Package 914/1561 | Hostname | OS / Arch | INSTALL | BUILD | CHECK | BUILD BIN | ||||||
| miRBaseConverter 1.4.3 Taosheng Xu
| malbec2 | Linux (Ubuntu 16.04.1 LTS) / x86_64 | OK | OK | OK | |||||||
| tokay2 | Windows Server 2012 R2 Standard / x64 | OK | OK | OK | [ OK ] | |||||||
| merida2 | OS X 10.11.6 El Capitan / x86_64 | OK | OK | OK | OK |
| Package: miRBaseConverter |
| Version: 1.4.3 |
| Command: rm -rf miRBaseConverter.buildbin-libdir && mkdir miRBaseConverter.buildbin-libdir && C:\Users\biocbuild\bbs-3.7-bioc\R\bin\R.exe CMD INSTALL --merge-multiarch --build --library=miRBaseConverter.buildbin-libdir miRBaseConverter_1.4.3.tar.gz |
| StartedAt: 2018-10-17 06:41:13 -0400 (Wed, 17 Oct 2018) |
| EndedAt: 2018-10-17 06:41:32 -0400 (Wed, 17 Oct 2018) |
| EllapsedTime: 19.2 seconds |
| RetCode: 0 |
| Status: OK |
| PackageFile: miRBaseConverter_1.4.3.zip |
| PackageFileSize: 2.008 MiB |
##############################################################################
##############################################################################
###
### Running command:
###
### rm -rf miRBaseConverter.buildbin-libdir && mkdir miRBaseConverter.buildbin-libdir && C:\Users\biocbuild\bbs-3.7-bioc\R\bin\R.exe CMD INSTALL --merge-multiarch --build --library=miRBaseConverter.buildbin-libdir miRBaseConverter_1.4.3.tar.gz
###
##############################################################################
##############################################################################
install for i386
* installing *source* package 'miRBaseConverter' ...
** R
** data
*** moving datasets to lazyload DB
** inst
** byte-compile and prepare package for lazy loading
** help
*** installing help indices
converting help for package 'miRBaseConverter'
finding HTML links ... done
checkMiRNAAlive html
checkMiRNAFamily html
checkMiRNAVersion html
getAllMiRNAs html
getAllSpecies html
getAllVersionInfo html
getMiRNAHistory html
getMiRNASequence html
getMiRNATable html
goTo_miRBase html
goTo_miRNAFamily html
miRNATest html
miRNAVersionConvert html
miRNA_AccessionToName html
miRNA_MatureToPrecursor html
miRNA_NameToAccession html
miRNA_PrecursorToMature html
** building package indices
** installing vignettes
** testing if installed package can be loaded
In R CMD INSTALL
install for x64
* installing *source* package 'miRBaseConverter' ...
** testing if installed package can be loaded
* MD5 sums
packaged installation of 'miRBaseConverter' as miRBaseConverter_1.4.3.zip
* DONE (miRBaseConverter)
In R CMD INSTALL
In R CMD INSTALL