| Back to Multiple platform build/check report for BioC 3.7 |
|
This page was generated on 2018-10-17 08:56:50 -0400 (Wed, 17 Oct 2018).
| Package 889/1561 | Hostname | OS / Arch | INSTALL | BUILD | CHECK | BUILD BIN | ||||||
| methylKit 1.6.3 Altuna Akalin
| malbec2 | Linux (Ubuntu 16.04.1 LTS) / x86_64 | OK | OK | OK | |||||||
| tokay2 | Windows Server 2012 R2 Standard / x64 | OK | OK | WARNINGS | OK | |||||||
| merida2 | OS X 10.11.6 El Capitan / x86_64 | OK | OK | [ OK ] | OK |
| Package: methylKit |
| Version: 1.6.3 |
| Command: /Library/Frameworks/R.framework/Versions/Current/Resources/bin/R CMD check --install=check:methylKit.install-out.txt --library=/Library/Frameworks/R.framework/Versions/Current/Resources/library --no-vignettes --timings methylKit_1.6.3.tar.gz |
| StartedAt: 2018-10-16 22:34:22 -0400 (Tue, 16 Oct 2018) |
| EndedAt: 2018-10-16 22:39:49 -0400 (Tue, 16 Oct 2018) |
| EllapsedTime: 327.8 seconds |
| RetCode: 0 |
| Status: OK |
| CheckDir: methylKit.Rcheck |
| Warnings: 0 |
##############################################################################
##############################################################################
###
### Running command:
###
### /Library/Frameworks/R.framework/Versions/Current/Resources/bin/R CMD check --install=check:methylKit.install-out.txt --library=/Library/Frameworks/R.framework/Versions/Current/Resources/library --no-vignettes --timings methylKit_1.6.3.tar.gz
###
##############################################################################
##############################################################################
* using log directory ‘/Users/biocbuild/bbs-3.7-bioc/meat/methylKit.Rcheck’
* using R version 3.5.1 Patched (2018-07-12 r74967)
* using platform: x86_64-apple-darwin15.6.0 (64-bit)
* using session charset: UTF-8
* using option ‘--no-vignettes’
* checking for file ‘methylKit/DESCRIPTION’ ... OK
* checking extension type ... Package
* this is package ‘methylKit’ version ‘1.6.3’
* checking package namespace information ... OK
* checking package dependencies ... OK
* checking if this is a source package ... OK
* checking if there is a namespace ... OK
* checking for hidden files and directories ... OK
* checking for portable file names ... OK
* checking for sufficient/correct file permissions ... OK
* checking whether package ‘methylKit’ can be installed ... OK
* checking installed package size ... OK
* checking package directory ... OK
* checking ‘build’ directory ... OK
* checking DESCRIPTION meta-information ... OK
* checking top-level files ... OK
* checking for left-over files ... OK
* checking index information ... OK
* checking package subdirectories ... OK
* checking R files for non-ASCII characters ... OK
* checking R files for syntax errors ... OK
* checking whether the package can be loaded ... OK
* checking whether the package can be loaded with stated dependencies ... OK
* checking whether the package can be unloaded cleanly ... OK
* checking whether the namespace can be loaded with stated dependencies ... OK
* checking whether the namespace can be unloaded cleanly ... OK
* checking dependencies in R code ... NOTE
Namespace in Imports field not imported from: ‘KernSmooth’
All declared Imports should be used.
* checking S3 generic/method consistency ... OK
* checking replacement functions ... OK
* checking foreign function calls ... OK
* checking R code for possible problems ... OK
* checking Rd files ... OK
* checking Rd metadata ... OK
* checking Rd cross-references ... OK
* checking for missing documentation entries ... OK
* checking for code/documentation mismatches ... OK
* checking Rd \usage sections ... OK
* checking Rd contents ... OK
* checking for unstated dependencies in examples ... OK
* checking contents of ‘data’ directory ... OK
* checking data for non-ASCII characters ... OK
* checking data for ASCII and uncompressed saves ... OK
* checking line endings in C/C++/Fortran sources/headers ... OK
* checking line endings in Makefiles ... OK
* checking compilation flags in Makevars ... OK
* checking for GNU extensions in Makefiles ... OK
* checking for portable use of $(BLAS_LIBS) and $(LAPACK_LIBS) ... OK
* checking compiled code ... NOTE
Note: information on .o files is not available
File ‘/Library/Frameworks/R.framework/Versions/3.5/Resources/library/methylKit/libs/methylKit.so’:
Found ‘___assert_rtn’, possibly from ‘assert’ (C)
Found ‘___stderrp’, possibly from ‘stderr’ (C)
Found ‘___stdoutp’, possibly from ‘stdout’ (C)
Found ‘_abort’, possibly from ‘abort’ (C)
Found ‘_exit’, possibly from ‘exit’ (C)
Found ‘_printf’, possibly from ‘printf’ (C)
Found ‘_putchar’, possibly from ‘putchar’ (C)
Found ‘_puts’, possibly from ‘printf’ (C), ‘puts’ (C)
Found ‘_srand48’, possibly from ‘srand48’ (C)
Compiled code should not call entry points which might terminate R nor
write to stdout/stderr instead of to the console, nor use Fortran I/O
nor system RNGs. The detected symbols are linked into the code but
might come from libraries and not actually be called.
See ‘Writing portable packages’ in the ‘Writing R Extensions’ manual.
* checking files in ‘vignettes’ ... OK
* checking examples ... OK
Examples with CPU or elapsed time > 5s
user system elapsed
calculateDiffMeth-methods 9.266 0.327 9.287
* checking for unstated dependencies in ‘tests’ ... OK
* checking tests ...
Running ‘testthat.R’
OK
* checking for unstated dependencies in vignettes ... OK
* checking package vignettes in ‘inst/doc’ ... OK
* checking running R code from vignettes ... SKIPPED
* checking re-building of vignette outputs ... SKIPPED
* checking PDF version of manual ... OK
* DONE
Status: 2 NOTEs
See
‘/Users/biocbuild/bbs-3.7-bioc/meat/methylKit.Rcheck/00check.log’
for details.
methylKit.Rcheck/00install.out
############################################################################## ############################################################################## ### ### Running command: ### ### /Library/Frameworks/R.framework/Versions/Current/Resources/bin/R CMD INSTALL methylKit ### ############################################################################## ############################################################################## * installing to library ‘/Library/Frameworks/R.framework/Versions/3.5/Resources/library’ * installing *source* package ‘methylKit’ ... ** libs clang++ -std=gnu++11 -I"/Library/Frameworks/R.framework/Resources/include" -DNDEBUG -I"/Library/Frameworks/R.framework/Versions/3.5/Resources/library/Rcpp/include" -I"/Library/Frameworks/R.framework/Versions/3.5/Resources/library/Rhtslib/include" -I"/Library/Frameworks/R.framework/Versions/3.5/Resources/library/zlibbioc/include" -I/usr/local/include -fPIC -Wall -g -O2 -c RcppExports.cpp -o RcppExports.o clang++ -std=gnu++11 -I"/Library/Frameworks/R.framework/Resources/include" -DNDEBUG -I"/Library/Frameworks/R.framework/Versions/3.5/Resources/library/Rcpp/include" -I"/Library/Frameworks/R.framework/Versions/3.5/Resources/library/Rhtslib/include" -I"/Library/Frameworks/R.framework/Versions/3.5/Resources/library/zlibbioc/include" -I/usr/local/include -fPIC -Wall -g -O2 -c methCall.cpp -o methCall.o clang++ -std=gnu++11 -dynamiclib -Wl,-headerpad_max_install_names -undefined dynamic_lookup -single_module -multiply_defined suppress -L/Library/Frameworks/R.framework/Resources/lib -L/usr/local/lib -o methylKit.so RcppExports.o methCall.o /Library/Frameworks/R.framework/Versions/3.5/Resources/library/Rhtslib/usrlib/libhts.a -F/Library/Frameworks/R.framework/.. -framework R -Wl,-framework -Wl,CoreFoundation installing to /Library/Frameworks/R.framework/Versions/3.5/Resources/library/methylKit/libs ** R ** data ** inst ** byte-compile and prepare package for lazy loading ** help *** installing help indices ** building package indices ** installing vignettes ** testing if installed package can be loaded * DONE (methylKit)
methylKit.Rcheck/tests/testthat.Rout
R version 3.5.1 Patched (2018-07-12 r74967) -- "Feather Spray"
Copyright (C) 2018 The R Foundation for Statistical Computing
Platform: x86_64-apple-darwin15.6.0 (64-bit)
R is free software and comes with ABSOLUTELY NO WARRANTY.
You are welcome to redistribute it under certain conditions.
Type 'license()' or 'licence()' for distribution details.
R is a collaborative project with many contributors.
Type 'contributors()' for more information and
'citation()' on how to cite R or R packages in publications.
Type 'demo()' for some demos, 'help()' for on-line help, or
'help.start()' for an HTML browser interface to help.
Type 'q()' to quit R.
> library(testthat)
> library(methylKit)
Loading required package: GenomicRanges
Loading required package: stats4
Loading required package: BiocGenerics
Loading required package: parallel
Attaching package: 'BiocGenerics'
The following objects are masked from 'package:parallel':
clusterApply, clusterApplyLB, clusterCall, clusterEvalQ,
clusterExport, clusterMap, parApply, parCapply, parLapply,
parLapplyLB, parRapply, parSapply, parSapplyLB
The following objects are masked from 'package:stats':
IQR, mad, sd, var, xtabs
The following objects are masked from 'package:base':
Filter, Find, Map, Position, Reduce, anyDuplicated, append,
as.data.frame, basename, cbind, colMeans, colSums, colnames,
dirname, do.call, duplicated, eval, evalq, get, grep, grepl,
intersect, is.unsorted, lapply, lengths, mapply, match, mget,
order, paste, pmax, pmax.int, pmin, pmin.int, rank, rbind,
rowMeans, rowSums, rownames, sapply, setdiff, sort, table, tapply,
union, unique, unsplit, which, which.max, which.min
Loading required package: S4Vectors
Attaching package: 'S4Vectors'
The following object is masked from 'package:base':
expand.grid
Loading required package: IRanges
Loading required package: GenomeInfoDb
>
>
>
> test_check("methylKit")
Trying to process:
/Library/Frameworks/R.framework/Versions/3.5/Resources/library/methylKit/extdata/test.fastq_bismark.unsorted.min.sam
using htslib.
Failed to read header, falling back.
Trying to process:
/Library/Frameworks/R.framework/Versions/3.5/Resources/library/methylKit/extdata/test.fastq_bismark.unsorted.min.sam
paired sam.
Trying to process:
/Library/Frameworks/R.framework/Versions/3.5/Resources/library/methylKit/extdata/test.fastq_bismark.unsorted_chr.min.sam
using htslib.
Failed to read header, falling back.
Trying to process:
/Library/Frameworks/R.framework/Versions/3.5/Resources/library/methylKit/extdata/test.fastq_bismark.unsorted_chr.min.sam
paired sam.
Trying to process:
/Library/Frameworks/R.framework/Versions/3.5/Resources/library/methylKit/extdata/test.bismark_single_end.sorted.bam
using htslib.
Conversion Statistics:
total otherC considered (>95% C+T): 20
average conversion rate = 95.184207585947
total otherC considered (Forward) (>95% C+T): 8
average conversion rate (Forward) = 97.528594771242
total otherC considered (Reverse) (>95% C+T): 12
average conversion rate (Reverse) = 93.62128279575
Done.
Reading methylation percentage per base for sample: test1
Trying to process:
/Library/Frameworks/R.framework/Versions/3.5/Resources/library/methylKit/extdata/ctrl.bismark_paired_end.sorted.bam
using htslib.
Conversion Statistics:
total otherC considered (>95% C+T): 4
average conversion rate = 100
total otherC considered (Forward) (>95% C+T): 4
average conversion rate (Forward) = 100
total otherC considered (Reverse) (>95% C+T): 0
average conversion rate (Reverse) = 0
Done.
Reading methylation percentage per base for sample: ctrl1
Trying to process:
/Library/Frameworks/R.framework/Versions/3.5/Resources/library/methylKit/extdata/test.fastq_bismark.sorted.min.sam
using htslib.
Failed to read header, falling back.
Trying to process:
/Library/Frameworks/R.framework/Versions/3.5/Resources/library/methylKit/extdata/test.fastq_bismark.sorted.min.sam
paired sam.
Conversion Statistics:
total otherC considered (>95% C+T): 10
average conversion rate = 100
total otherC considered (Forward) (>95% C+T): 10
average conversion rate (Forward) = 100
total otherC considered (Reverse) (>95% C+T): 0
average conversion rate (Reverse) = 0
Done.
Reading methylation percentage per base for sample: test1
Trying to process:
/Library/Frameworks/R.framework/Versions/3.5/Resources/library/methylKit/extdata/test.fastq_bismark.sorted.min.sam
using htslib.
Failed to read header, falling back.
Trying to process:
/Library/Frameworks/R.framework/Versions/3.5/Resources/library/methylKit/extdata/test.fastq_bismark.sorted.min.sam
paired sam.
Conversion Statistics:
total otherC considered (>95% C+T): 10
average conversion rate = 100
total otherC considered (Forward) (>95% C+T): 10
average conversion rate (Forward) = 100
total otherC considered (Reverse) (>95% C+T): 0
average conversion rate (Reverse) = 0
Done.
Reading methylation percentage per base for sample: test1
Trying to process:
/Library/Frameworks/R.framework/Versions/3.5/Resources/library/methylKit/extdata/test.fastq_bismark.sorted.min.sam
using htslib.
Failed to read header, falling back.
Trying to process:
/Library/Frameworks/R.framework/Versions/3.5/Resources/library/methylKit/extdata/test.fastq_bismark.sorted.min.sam
paired sam.
Conversion Statistics:
total otherC considered (>95% C+T): 10
average conversion rate = 100
total otherC considered (Forward) (>95% C+T): 10
average conversion rate (Forward) = 100
total otherC considered (Reverse) (>95% C+T): 0
average conversion rate (Reverse) = 0
Done.
Reading methylation percentage per base for sample: test1
Trying to process:
/Library/Frameworks/R.framework/Versions/3.5/Resources/library/methylKit/extdata/test.fastq_bismark.sorted.min.sam
using htslib.
Failed to read header, falling back.
Trying to process:
/Library/Frameworks/R.framework/Versions/3.5/Resources/library/methylKit/extdata/test.fastq_bismark.sorted.min.sam
paired sam.
Conversion Statistics:
total otherC considered (>95% C+T): 10
average conversion rate = 100
total otherC considered (Forward) (>95% C+T): 10
average conversion rate (Forward) = 100
total otherC considered (Reverse) (>95% C+T): 0
average conversion rate (Reverse) = 0
Done.
Reading methylation percentage per base for sample: test1
Trying to process:
/Library/Frameworks/R.framework/Versions/3.5/Resources/library/methylKit/extdata/test.fastq_bismark.sorted.min.sam
using htslib.
Failed to read header, falling back.
Trying to process:
/Library/Frameworks/R.framework/Versions/3.5/Resources/library/methylKit/extdata/test.fastq_bismark.sorted.min.sam
paired sam.
Conversion Statistics:
total otherC considered (>95% C+T): 10
average conversion rate = 100
total otherC considered (Forward) (>95% C+T): 10
average conversion rate (Forward) = 100
total otherC considered (Reverse) (>95% C+T): 0
average conversion rate (Reverse) = 0
Done.
Reading methylation percentage per base for sample: test1
Trying to process:
/Library/Frameworks/R.framework/Versions/3.5/Resources/library/methylKit/extdata/test.fastq_bismark.sorted.min.sam
using htslib.
Failed to read header, falling back.
Trying to process:
/Library/Frameworks/R.framework/Versions/3.5/Resources/library/methylKit/extdata/test.fastq_bismark.sorted.min.sam
paired sam.
Conversion Statistics:
total otherC considered (>95% C+T): 10
average conversion rate = 100
total otherC considered (Forward) (>95% C+T): 10
average conversion rate (Forward) = 100
total otherC considered (Reverse) (>95% C+T): 0
average conversion rate (Reverse) = 0
Done.
Reading methylation percentage per base for sample: test1
Using internal DSS code...
Using internal DSS code...
══ testthat results ═══════════════════════════════════════════════════════════
OK: 423 SKIPPED: 0 FAILED: 0
>
> proc.time()
user system elapsed
61.493 10.193 50.133
methylKit.Rcheck/methylKit-Ex.timings
| name | user | system | elapsed | |
| PCASamples-methods | 0.026 | 0.004 | 0.029 | |
| adjustMethylC | 0.291 | 0.023 | 0.137 | |
| assocComp-methods | 0.133 | 0.017 | 0.023 | |
| bedgraph-methods | 0.235 | 0.064 | 0.051 | |
| calculateDiffMeth-methods | 9.266 | 0.327 | 9.287 | |
| calculateDiffMethDSS-methods | 0.606 | 0.010 | 0.622 | |
| clusterSamples-methods | 0.029 | 0.002 | 0.030 | |
| dataSim-methods | 0.022 | 0.003 | 0.024 | |
| diffMethPerChr-methods | 0.021 | 0.002 | 0.023 | |
| extract-methods | 0.030 | 0.002 | 0.032 | |
| filterByCoverage-methods | 0.064 | 0.004 | 0.071 | |
| getAssembly-methods | 0.007 | 0.002 | 0.007 | |
| getContext-methods | 0.007 | 0.001 | 0.008 | |
| getCorrelation-methods | 0.716 | 0.069 | 0.126 | |
| getCoverageStats-methods | 0.084 | 0.013 | 0.015 | |
| getDBPath-methods | 0.408 | 0.059 | 0.072 | |
| getData-methods | 0.121 | 0.023 | 0.023 | |
| getMethylDiff-methods | 0.102 | 0.017 | 0.018 | |
| getMethylationStats-methods | 0.137 | 0.018 | 0.024 | |
| getSampleID-methods | 0.067 | 0.007 | 0.011 | |
| getTreatment-methods | 0.051 | 0.009 | 0.009 | |
| makeMethylDB-methods | 0.015 | 0.001 | 0.003 | |
| methRead-methods | 0.483 | 0.058 | 0.290 | |
| methSeg | 0.002 | 0.000 | 0.002 | |
| methylBase-class | 0.011 | 0.001 | 0.013 | |
| methylBaseDB-class | 0.430 | 0.088 | 0.090 | |
| methylDiff-class | 0.134 | 0.018 | 0.023 | |
| methylDiffDB-class | 3.172 | 0.080 | 2.691 | |
| methylRaw-class | 0.047 | 0.003 | 0.050 | |
| methylRawDB-class | 0.092 | 0.004 | 0.098 | |
| methylRawList-class | 0.005 | 0.001 | 0.006 | |
| methylRawListDB-class | 0.160 | 0.009 | 0.176 | |
| normalizeCoverage-methods | 0.132 | 0.009 | 0.142 | |
| percMethylation-methods | 0.016 | 0.001 | 0.017 | |
| pool-methods | 0.009 | 0.001 | 0.010 | |
| processBismarkAln-methods | 0.093 | 0.005 | 0.100 | |
| reconstruct-methods | 0.021 | 0.002 | 0.024 | |
| regionCounts | 0.469 | 0.047 | 0.266 | |
| removeComp-methods | 0.088 | 0.011 | 0.036 | |
| reorganize-methods | 1.119 | 1.233 | 0.406 | |
| select-methods | 0.339 | 0.474 | 0.105 | |
| selectByOverlap-methods | 3.267 | 0.438 | 2.998 | |
| show-methods | 0.027 | 0.002 | 0.029 | |
| tileMethylCounts-methods | 1.016 | 0.125 | 0.509 | |
| unite-methods | 0.456 | 0.409 | 0.121 | |