| Back to Multiple platform build/check report for BioC 3.7 |
|
This page was generated on 2018-10-17 08:43:51 -0400 (Wed, 17 Oct 2018).
| Package 888/1561 | Hostname | OS / Arch | INSTALL | BUILD | CHECK | BUILD BIN | ||||||
| methylInheritance 1.4.0 Astrid Deschenes
| malbec2 | Linux (Ubuntu 16.04.1 LTS) / x86_64 | OK | OK | OK | |||||||
| tokay2 | Windows Server 2012 R2 Standard / x64 | [ OK ] | OK | OK | OK | |||||||
| merida2 | OS X 10.11.6 El Capitan / x86_64 | OK | OK | OK | OK |
| Package: methylInheritance |
| Version: 1.4.0 |
| Command: C:\cygwin\bin\curl.exe -O https://malbec2.bioconductor.org/BBS/3.7/bioc/src/contrib/methylInheritance_1.4.0.tar.gz && rm -rf methylInheritance.buildbin-libdir && mkdir methylInheritance.buildbin-libdir && C:\Users\biocbuild\bbs-3.7-bioc\R\bin\R.exe CMD INSTALL --merge-multiarch --build --library=methylInheritance.buildbin-libdir methylInheritance_1.4.0.tar.gz && C:\Users\biocbuild\bbs-3.7-bioc\R\bin\R.exe CMD INSTALL methylInheritance_1.4.0.zip && rm methylInheritance_1.4.0.tar.gz methylInheritance_1.4.0.zip |
| StartedAt: 2018-10-16 19:58:13 -0400 (Tue, 16 Oct 2018) |
| EndedAt: 2018-10-16 19:59:50 -0400 (Tue, 16 Oct 2018) |
| EllapsedTime: 97.4 seconds |
| RetCode: 0 |
| Status: OK |
##############################################################################
##############################################################################
###
### Running command:
###
### C:\cygwin\bin\curl.exe -O https://malbec2.bioconductor.org/BBS/3.7/bioc/src/contrib/methylInheritance_1.4.0.tar.gz && rm -rf methylInheritance.buildbin-libdir && mkdir methylInheritance.buildbin-libdir && C:\Users\biocbuild\bbs-3.7-bioc\R\bin\R.exe CMD INSTALL --merge-multiarch --build --library=methylInheritance.buildbin-libdir methylInheritance_1.4.0.tar.gz && C:\Users\biocbuild\bbs-3.7-bioc\R\bin\R.exe CMD INSTALL methylInheritance_1.4.0.zip && rm methylInheritance_1.4.0.tar.gz methylInheritance_1.4.0.zip
###
##############################################################################
##############################################################################
% Total % Received % Xferd Average Speed Time Time Time Current
Dload Upload Total Spent Left Speed
0 0 0 0 0 0 0 0 --:--:-- --:--:-- --:--:-- 0
100 1448k 100 1448k 0 0 14.0M 0 --:--:-- --:--:-- --:--:-- 15.2M
install for i386
* installing *source* package 'methylInheritance' ...
** R
** data
** inst
** byte-compile and prepare package for lazy loading
** help
*** installing help indices
converting help for package 'methylInheritance'
finding HTML links ... done
calculateSignificantLevel html
createDataStructure html
createOutputDir html
demoForTransgenerationalAnalysis html
extractInfo html
formatInputMethylData html
getGRangesFromMethylDiff html
interGeneration html
isInterGenerationResults html
loadAllRDSResults html
loadConvergenceData html
mergePermutationAndObservation html
methylInheritance-package html
methylInheritanceAllResults html
methylInheritanceResults html
plotConvergenceGraph html
plotGraph html
readInterGenerationResults html
runObservation html
runOnePermutationOnAllGenerations html
runPermutation html
samplesForTransgenerationalAnalysis html
saveInterGenerationResults html
validateExtractInfo html
validateLoadConvergenceData html
validateMergePermutationAndObservation
html
validateRunObservation html
validateRunPermutation html
** building package indices
** installing vignettes
** testing if installed package can be loaded
In R CMD INSTALL
install for x64
* installing *source* package 'methylInheritance' ...
** testing if installed package can be loaded
* MD5 sums
packaged installation of 'methylInheritance' as methylInheritance_1.4.0.zip
* DONE (methylInheritance)
In R CMD INSTALL
In R CMD INSTALL
* installing to library 'C:/Users/biocbuild/bbs-3.7-bioc/R/library'
package 'methylInheritance' successfully unpacked and MD5 sums checked
In R CMD INSTALL