| Back to Multiple platform build/check report for BioC 3.7 |
|
This page was generated on 2018-10-17 08:34:11 -0400 (Wed, 17 Oct 2018).
| Package 874/1561 | Hostname | OS / Arch | INSTALL | BUILD | CHECK | BUILD BIN | ||||||
| metahdep 1.38.0 John R. Stevens
| malbec2 | Linux (Ubuntu 16.04.1 LTS) / x86_64 | OK | OK | WARNINGS | |||||||
| tokay2 | Windows Server 2012 R2 Standard / x64 | OK | OK | OK | [ OK ] | |||||||
| merida2 | OS X 10.11.6 El Capitan / x86_64 | OK | OK | WARNINGS | OK |
| Package: metahdep |
| Version: 1.38.0 |
| Command: rm -rf metahdep.buildbin-libdir && mkdir metahdep.buildbin-libdir && C:\Users\biocbuild\bbs-3.7-bioc\R\bin\R.exe CMD INSTALL --merge-multiarch --build --library=metahdep.buildbin-libdir metahdep_1.38.0.tar.gz |
| StartedAt: 2018-10-17 06:39:46 -0400 (Wed, 17 Oct 2018) |
| EndedAt: 2018-10-17 06:40:04 -0400 (Wed, 17 Oct 2018) |
| EllapsedTime: 18.2 seconds |
| RetCode: 0 |
| Status: OK |
| PackageFile: metahdep_1.38.0.zip |
| PackageFileSize: 571 KiB |
##############################################################################
##############################################################################
###
### Running command:
###
### rm -rf metahdep.buildbin-libdir && mkdir metahdep.buildbin-libdir && C:\Users\biocbuild\bbs-3.7-bioc\R\bin\R.exe CMD INSTALL --merge-multiarch --build --library=metahdep.buildbin-libdir metahdep_1.38.0.tar.gz
###
##############################################################################
##############################################################################
install for i386
* installing *source* package 'metahdep' ...
** libs
C:/Rtools/mingw_32/bin/gcc -I"C:/Users/BIOCBU˜1/BBS-3˜1.7-B/R/include" -DNDEBUG -I"C:/extsoft/include" -O3 -Wall -std=gnu99 -mtune=generic -c metahdep.c -o metahdep.o
In file included from metahdep.c:3:0:
metahdep.c: In function 'get_row_indices2':
C:/Users/BIOCBU˜1/BBS-3˜1.7-B/R/include/Rinternals.h:478:18: warning: passing argument 5 of 'metan_binary_search_unique' makes integer from pointer without a cast
#define CHAR(x) R_CHAR(x)
^
metahdep.c:471:79: note: in expansion of macro 'CHAR'
index = metan_binary_search_unique(name_list, sort_index, R_old_names, j, CHAR(STRING_ELT(R_old_chipsets, j)), i);
^
metahdep.c:372:6: note: expected 'char' but argument is of type 'const char *'
SEXP metan_binary_search_unique(SEXP name_list, SEXP sort_index, SEXP gene_name, int gene_index, char chipset_name, int study_num)
^
C:/Rtools/mingw_32/bin/gcc -shared -s -static-libgcc -o metahdep.dll tmp.def metahdep.o -LC:/extsoft/lib/i386 -LC:/extsoft/lib -LC:/Users/BIOCBU˜1/BBS-3˜1.7-B/R/bin/i386 -lR
installing to C:/Users/biocbuild/bbs-3.7-bioc/meat/metahdep.buildbin-libdir/metahdep/libs/i386
** R
** data
** inst
** byte-compile and prepare package for lazy loading
** help
*** installing help indices
converting help for package 'metahdep'
finding HTML links ... done
ES.obj-class html
HGU.DifExp.list html
HGU.newnames html
HGU.prep.list html
getPLM.es html
gloss html
metahdep.FEMA html
metahdep.HBLM html
metahdep.REMA html
metahdep html
metahdep.format html
metahdep.other html
metaprep-class html
** building package indices
** installing vignettes
** testing if installed package can be loaded
In R CMD INSTALL
install for x64
* installing *source* package 'metahdep' ...
** libs
C:/Rtools/mingw_64/bin/gcc -I"C:/Users/BIOCBU˜1/BBS-3˜1.7-B/R/include" -DNDEBUG -I"C:/extsoft/include" -O2 -Wall -std=gnu99 -mtune=generic -c metahdep.c -o metahdep.o
In file included from metahdep.c:3:0:
metahdep.c: In function 'get_row_indices2':
C:/Users/BIOCBU˜1/BBS-3˜1.7-B/R/include/Rinternals.h:478:18: warning: passing argument 5 of 'metan_binary_search_unique' makes integer from pointer without a cast
#define CHAR(x) R_CHAR(x)
^
metahdep.c:471:79: note: in expansion of macro 'CHAR'
index = metan_binary_search_unique(name_list, sort_index, R_old_names, j, CHAR(STRING_ELT(R_old_chipsets, j)), i);
^
metahdep.c:372:6: note: expected 'char' but argument is of type 'const char *'
SEXP metan_binary_search_unique(SEXP name_list, SEXP sort_index, SEXP gene_name, int gene_index, char chipset_name, int study_num)
^
C:/Rtools/mingw_64/bin/gcc -shared -s -static-libgcc -o metahdep.dll tmp.def metahdep.o -LC:/extsoft/lib/x64 -LC:/extsoft/lib -LC:/Users/BIOCBU˜1/BBS-3˜1.7-B/R/bin/x64 -lR
installing to C:/Users/biocbuild/bbs-3.7-bioc/meat/metahdep.buildbin-libdir/metahdep/libs/x64
** testing if installed package can be loaded
* MD5 sums
packaged installation of 'metahdep' as metahdep_1.38.0.zip
* DONE (metahdep)
In R CMD INSTALL
In R CMD INSTALL