| Back to Multiple platform build/check report for BioC 3.7 |
|
This page was generated on 2018-10-17 08:39:46 -0400 (Wed, 17 Oct 2018).
| Package 850/1561 | Hostname | OS / Arch | INSTALL | BUILD | CHECK | BUILD BIN | ||||||
| mdgsa 1.12.1 David Montaner
| malbec2 | Linux (Ubuntu 16.04.1 LTS) / x86_64 | OK | OK | OK | |||||||
| tokay2 | Windows Server 2012 R2 Standard / x64 | OK | OK | OK | [ OK ] | |||||||
| merida2 | OS X 10.11.6 El Capitan / x86_64 | OK | OK | OK | OK |
| Package: mdgsa |
| Version: 1.12.1 |
| Command: rm -rf mdgsa.buildbin-libdir && mkdir mdgsa.buildbin-libdir && C:\Users\biocbuild\bbs-3.7-bioc\R\bin\R.exe CMD INSTALL --merge-multiarch --build --library=mdgsa.buildbin-libdir mdgsa_1.12.1.tar.gz |
| StartedAt: 2018-10-17 06:38:59 -0400 (Wed, 17 Oct 2018) |
| EndedAt: 2018-10-17 06:39:38 -0400 (Wed, 17 Oct 2018) |
| EllapsedTime: 38.7 seconds |
| RetCode: 0 |
| Status: OK |
| PackageFile: mdgsa_1.12.1.zip |
| PackageFileSize: 1.969 MiB |
##############################################################################
##############################################################################
###
### Running command:
###
### rm -rf mdgsa.buildbin-libdir && mkdir mdgsa.buildbin-libdir && C:\Users\biocbuild\bbs-3.7-bioc\R\bin\R.exe CMD INSTALL --merge-multiarch --build --library=mdgsa.buildbin-libdir mdgsa_1.12.1.tar.gz
###
##############################################################################
##############################################################################
install for i386
* installing *source* package 'mdgsa' ...
** R
** inst
** byte-compile and prepare package for lazy loading
** help
*** installing help indices
converting help for package 'mdgsa'
finding HTML links ... done
annotFilter html
annotList2mat html
annotMat2list html
getGOnames html
getKEGGnames html
getOntology html
goLeaves html
indexTransform html
mdGsa html
mdPat html
plotMdGsa html
propagateGO html
pval2index html
revList html
splitOntologies html
transferIndex html
uvGsa html
uvPat html
uvSignif html
** building package indices
** installing vignettes
** testing if installed package can be loaded
In R CMD INSTALL
install for x64
* installing *source* package 'mdgsa' ...
** testing if installed package can be loaded
* MD5 sums
packaged installation of 'mdgsa' as mdgsa_1.12.1.zip
* DONE (mdgsa)
In R CMD INSTALL
In R CMD INSTALL