| Back to Multiple platform build/check report for BioC 3.7 | 
 | 
This page was generated on 2018-10-17 08:25:56 -0400 (Wed, 17 Oct 2018).
| Package 834/1561 | Hostname | OS / Arch | INSTALL | BUILD | CHECK | BUILD BIN | ||||||
| massiR 1.16.0 Sam Buckberry 
 | malbec2 | Linux (Ubuntu 16.04.1 LTS) / x86_64 | OK | OK | [ OK ] |  | ||||||
| tokay2 | Windows Server 2012 R2 Standard / x64 | OK | OK | OK | OK |  | ||||||
| merida2 | OS X 10.11.6 El Capitan / x86_64 | OK | OK | OK | OK |  | 
| Package: massiR | 
| Version: 1.16.0 | 
| Command: /home/biocbuild/bbs-3.7-bioc/R/bin/R CMD check --install=check:massiR.install-out.txt --library=/home/biocbuild/bbs-3.7-bioc/R/library --no-vignettes --timings massiR_1.16.0.tar.gz | 
| StartedAt: 2018-10-16 01:41:35 -0400 (Tue, 16 Oct 2018) | 
| EndedAt: 2018-10-16 01:42:05 -0400 (Tue, 16 Oct 2018) | 
| EllapsedTime: 30.0 seconds | 
| RetCode: 0 | 
| Status: OK | 
| CheckDir: massiR.Rcheck | 
| Warnings: 0 | 
##############################################################################
##############################################################################
###
### Running command:
###
###   /home/biocbuild/bbs-3.7-bioc/R/bin/R CMD check --install=check:massiR.install-out.txt --library=/home/biocbuild/bbs-3.7-bioc/R/library --no-vignettes --timings massiR_1.16.0.tar.gz
###
##############################################################################
##############################################################################
* using log directory ‘/home/biocbuild/bbs-3.7-bioc/meat/massiR.Rcheck’
* using R version 3.5.1 Patched (2018-07-12 r74967)
* using platform: x86_64-pc-linux-gnu (64-bit)
* using session charset: UTF-8
* using option ‘--no-vignettes’
* checking for file ‘massiR/DESCRIPTION’ ... OK
* checking extension type ... Package
* this is package ‘massiR’ version ‘1.16.0’
* checking package namespace information ... OK
* checking package dependencies ... OK
* checking if this is a source package ... OK
* checking if there is a namespace ... OK
* checking for hidden files and directories ... OK
* checking for portable file names ... OK
* checking for sufficient/correct file permissions ... OK
* checking whether package ‘massiR’ can be installed ... OK
* checking installed package size ... OK
* checking package directory ... OK
* checking ‘build’ directory ... OK
* checking DESCRIPTION meta-information ... NOTE
Malformed Description field: should contain one or more complete sentences.
* checking top-level files ... OK
* checking for left-over files ... OK
* checking index information ... OK
* checking package subdirectories ... OK
* checking R files for non-ASCII characters ... OK
* checking R files for syntax errors ... OK
* checking whether the package can be loaded ... OK
* checking whether the package can be loaded with stated dependencies ... OK
* checking whether the package can be unloaded cleanly ... OK
* checking whether the namespace can be loaded with stated dependencies ... OK
* checking whether the namespace can be unloaded cleanly ... OK
* checking dependencies in R code ... OK
* checking S3 generic/method consistency ... OK
* checking replacement functions ... OK
* checking foreign function calls ... OK
* checking R code for possible problems ... NOTE
massi_cluster: no visible binding for global variable ‘sd’
massi_cluster_plot: no visible global function definition for ‘dev.new’
massi_cluster_plot: no visible global function definition for ‘barplot’
massi_cluster_plot: no visible global function definition for
  ‘segments’
massi_cluster_plot: no visible global function definition for ‘legend’
massi_dip: no visible global function definition for ‘density’
massi_select : cal.cv: no visible global function definition for ‘sd’
massi_select: no visible global function definition for ‘quantile’
massi_y : cal.cv: no visible global function definition for ‘sd’
massi_y: no visible global function definition for ‘quantile’
massi_y_plot: no visible global function definition for ‘dev.new’
massi_y_plot: no visible global function definition for ‘barplot’
massi_y_plot: no visible global function definition for ‘abline’
massi_y_plot: no visible global function definition for ‘legend’
Undefined global functions or variables:
  abline barplot density dev.new legend quantile sd segments
Consider adding
  importFrom("grDevices", "dev.new")
  importFrom("graphics", "abline", "barplot", "legend", "segments")
  importFrom("stats", "density", "quantile", "sd")
to your NAMESPACE file.
* checking Rd files ... OK
* checking Rd metadata ... OK
* checking Rd cross-references ... OK
* checking for missing documentation entries ... OK
* checking for code/documentation mismatches ... OK
* checking Rd \usage sections ... OK
* checking Rd contents ... OK
* checking for unstated dependencies in examples ... OK
* checking contents of ‘data’ directory ... OK
* checking data for non-ASCII characters ... OK
* checking data for ASCII and uncompressed saves ... OK
* checking files in ‘vignettes’ ... OK
* checking examples ... OK
* checking for unstated dependencies in ‘tests’ ... OK
* checking tests ...
  Running ‘runTests.R’
 OK
* checking for unstated dependencies in vignettes ... OK
* checking package vignettes in ‘inst/doc’ ... OK
* checking running R code from vignettes ... SKIPPED
* checking re-building of vignette outputs ... SKIPPED
* checking PDF version of manual ... OK
* DONE
Status: 2 NOTEs
See
  ‘/home/biocbuild/bbs-3.7-bioc/meat/massiR.Rcheck/00check.log’
for details.
massiR.Rcheck/00install.out
############################################################################## ############################################################################## ### ### Running command: ### ### /home/biocbuild/bbs-3.7-bioc/R/bin/R CMD INSTALL massiR ### ############################################################################## ############################################################################## * installing to library ‘/home/biocbuild/bbs-3.7-bioc/R/library’ * installing *source* package ‘massiR’ ... ** R ** data *** moving datasets to lazyload DB ** inst ** byte-compile and prepare package for lazy loading ** help *** installing help indices ** building package indices ** installing vignettes ** testing if installed package can be loaded * DONE (massiR)
massiR.Rcheck/tests/runTests.Rout
R version 3.5.1 Patched (2018-07-12 r74967) -- "Feather Spray"
Copyright (C) 2018 The R Foundation for Statistical Computing
Platform: x86_64-pc-linux-gnu (64-bit)
R is free software and comes with ABSOLUTELY NO WARRANTY.
You are welcome to redistribute it under certain conditions.
Type 'license()' or 'licence()' for distribution details.
R is a collaborative project with many contributors.
Type 'contributors()' for more information and
'citation()' on how to cite R or R packages in publications.
Type 'demo()' for some demos, 'help()' for on-line help, or
'help.start()' for an HTML browser interface to help.
Type 'q()' to quit R.
> BiocGenerics:::testPackage("massiR")
Attaching package: 'gplots'
The following object is masked from 'package:stats':
    lowess
Attaching package: 'BiocGenerics'
The following objects are masked from 'package:parallel':
    clusterApply, clusterApplyLB, clusterCall, clusterEvalQ,
    clusterExport, clusterMap, parApply, parCapply, parLapply,
    parLapplyLB, parRapply, parSapply, parSapplyLB
The following objects are masked from 'package:stats':
    IQR, mad, sd, var, xtabs
The following objects are masked from 'package:base':
    Filter, Find, Map, Position, Reduce, anyDuplicated, append,
    as.data.frame, basename, cbind, colMeans, colSums, colnames,
    dirname, do.call, duplicated, eval, evalq, get, grep, grepl,
    intersect, is.unsorted, lapply, lengths, mapply, match, mget,
    order, paste, pmax, pmax.int, pmin, pmin.int, rank, rbind,
    rowMeans, rowSums, rownames, sapply, setdiff, sort, table, tapply,
    union, unique, unsplit, which, which.max, which.min
Welcome to Bioconductor
    Vignettes contain introductory material; view with
    'browseVignettes()'. To cite Bioconductor, see
    'citation("Biobase")', and for packages 'citation("pkgname")'.
RUNIT TEST PROTOCOL -- Tue Oct 16 01:42:02 2018 
*********************************************** 
Number of test functions: 1 
Number of errors: 0 
Number of failures: 0 
 
1 Test Suite : 
massiR RUnit Tests - 1 test function, 0 errors, 0 failures
Number of test functions: 1 
Number of errors: 0 
Number of failures: 0 
> 
> proc.time()
   user  system elapsed 
  0.616   0.044   0.668 
massiR.Rcheck/massiR-Ex.timings
| name | user | system | elapsed | |
| massi.test.dataset | 0.012 | 0.000 | 0.012 | |
| massi.test.probes | 0.000 | 0.000 | 0.001 | |
| massiR-package | 0.036 | 0.016 | 0.051 | |
| massi_cluster | 0.024 | 0.000 | 0.025 | |
| massi_cluster_plot | 0.112 | 0.004 | 0.117 | |
| massi_dip | 0.024 | 0.000 | 0.038 | |
| massi_select | 0.024 | 0.000 | 0.024 | |
| massi_y | 0.012 | 0.000 | 0.013 | |
| massi_y_plot | 0.012 | 0.004 | 0.017 | |
| y_probes | 0.004 | 0.000 | 0.001 | |