| Back to Multiple platform build/check report for BioC 3.7 |
|
This page was generated on 2018-10-17 08:35:58 -0400 (Wed, 17 Oct 2018).
| Package 832/1561 | Hostname | OS / Arch | INSTALL | BUILD | CHECK | BUILD BIN | ||||||
| maskBAD 1.24.0 Michael Dannemann
| malbec2 | Linux (Ubuntu 16.04.1 LTS) / x86_64 | OK | OK | OK | |||||||
| tokay2 | Windows Server 2012 R2 Standard / x64 | OK | OK | OK | [ OK ] | |||||||
| merida2 | OS X 10.11.6 El Capitan / x86_64 | OK | OK | OK | OK |
| Package: maskBAD |
| Version: 1.24.0 |
| Command: rm -rf maskBAD.buildbin-libdir && mkdir maskBAD.buildbin-libdir && C:\Users\biocbuild\bbs-3.7-bioc\R\bin\R.exe CMD INSTALL --merge-multiarch --build --library=maskBAD.buildbin-libdir maskBAD_1.24.0.tar.gz |
| StartedAt: 2018-10-17 06:38:23 -0400 (Wed, 17 Oct 2018) |
| EndedAt: 2018-10-17 06:38:53 -0400 (Wed, 17 Oct 2018) |
| EllapsedTime: 30.6 seconds |
| RetCode: 0 |
| Status: OK |
| PackageFile: maskBAD_1.24.0.zip |
| PackageFileSize: 791.8 KiB |
##############################################################################
##############################################################################
###
### Running command:
###
### rm -rf maskBAD.buildbin-libdir && mkdir maskBAD.buildbin-libdir && C:\Users\biocbuild\bbs-3.7-bioc\R\bin\R.exe CMD INSTALL --merge-multiarch --build --library=maskBAD.buildbin-libdir maskBAD_1.24.0.tar.gz
###
##############################################################################
##############################################################################
install for i386
* installing *source* package 'maskBAD' ...
** R
** data
** inst
** byte-compile and prepare package for lazy loading
** help
*** installing help indices
converting help for package 'maskBAD'
finding HTML links ... done
exmask html
mask html
finding level-2 HTML links ... done
newAffyBatch html
newCdf html
overlapExprExtMasks html
plotProbe html
prepareMaskedAffybatch html
sequenceMask html
** building package indices
** installing vignettes
** testing if installed package can be loaded
In R CMD INSTALL
install for x64
* installing *source* package 'maskBAD' ...
** testing if installed package can be loaded
* MD5 sums
packaged installation of 'maskBAD' as maskBAD_1.24.0.zip
* DONE (maskBAD)
In R CMD INSTALL
In R CMD INSTALL