| Back to Multiple platform build/check report for BioC 3.7 |
|
This page was generated on 2018-10-17 08:39:52 -0400 (Wed, 17 Oct 2018).
| Package 826/1561 | Hostname | OS / Arch | INSTALL | BUILD | CHECK | BUILD BIN | ||||||
| mAPKL 1.10.0 Argiris Sakellariou
| malbec2 | Linux (Ubuntu 16.04.1 LTS) / x86_64 | OK | OK | OK | |||||||
| tokay2 | Windows Server 2012 R2 Standard / x64 | OK | OK | OK | [ OK ] | |||||||
| merida2 | OS X 10.11.6 El Capitan / x86_64 | OK | OK | WARNINGS | OK |
| Package: mAPKL |
| Version: 1.10.0 |
| Command: rm -rf mAPKL.buildbin-libdir && mkdir mAPKL.buildbin-libdir && C:\Users\biocbuild\bbs-3.7-bioc\R\bin\R.exe CMD INSTALL --merge-multiarch --build --library=mAPKL.buildbin-libdir mAPKL_1.10.0.tar.gz |
| StartedAt: 2018-10-17 06:38:07 -0400 (Wed, 17 Oct 2018) |
| EndedAt: 2018-10-17 06:38:40 -0400 (Wed, 17 Oct 2018) |
| EllapsedTime: 33.3 seconds |
| RetCode: 0 |
| Status: OK |
| PackageFile: mAPKL_1.10.0.zip |
| PackageFileSize: 1.81 MiB |
##############################################################################
##############################################################################
###
### Running command:
###
### rm -rf mAPKL.buildbin-libdir && mkdir mAPKL.buildbin-libdir && C:\Users\biocbuild\bbs-3.7-bioc\R\bin\R.exe CMD INSTALL --merge-multiarch --build --library=mAPKL.buildbin-libdir mAPKL_1.10.0.tar.gz
###
##############################################################################
##############################################################################
install for i386
* installing *source* package 'mAPKL' ...
** R
** inst
** byte-compile and prepare package for lazy loading
** help
*** installing help indices
converting help for package 'mAPKL'
finding HTML links ... done
Annot-class html
Classify-class html
DataLD-class html
NetAttr-class html
annotate html
classification html
loadFiles html
mAPKL-package html
mAPKL html
mAPKLRes-class html
metrics html
netwAttr html
preprocess html
probes2pathways html
report html
sampling html
*** copying figures
** building package indices
** installing vignettes
** testing if installed package can be loaded
In R CMD INSTALL
install for x64
* installing *source* package 'mAPKL' ...
** testing if installed package can be loaded
* MD5 sums
packaged installation of 'mAPKL' as mAPKL_1.10.0.zip
* DONE (mAPKL)
In R CMD INSTALL
In R CMD INSTALL