| Back to Multiple platform build/check report for BioC 3.7 |
|
This page was generated on 2018-10-17 08:48:47 -0400 (Wed, 17 Oct 2018).
| Package 784/1561 | Hostname | OS / Arch | INSTALL | BUILD | CHECK | BUILD BIN | ||||||
| les 1.30.0 Julian Gehring
| malbec2 | Linux (Ubuntu 16.04.1 LTS) / x86_64 | OK | OK | OK | |||||||
| tokay2 | Windows Server 2012 R2 Standard / x64 | OK | OK | OK | OK | |||||||
| merida2 | OS X 10.11.6 El Capitan / x86_64 | OK | OK | OK | [ OK ] |
| Package: les |
| Version: 1.30.0 |
| Command: rm -rf les.buildbin-libdir && mkdir les.buildbin-libdir && /Users/biocbuild/BBS/utils/build-universal.sh les_1.30.0.tar.gz /Library/Frameworks/R.framework/Versions/Current/Resources/bin/R les.buildbin-libdir |
| StartedAt: 2018-10-17 01:34:50 -0400 (Wed, 17 Oct 2018) |
| EndedAt: 2018-10-17 01:36:09 -0400 (Wed, 17 Oct 2018) |
| EllapsedTime: 78.3 seconds |
| RetCode: 0 |
| Status: OK |
| PackageFile: les_1.30.0.tgz |
| PackageFileSize: 439.3 KiB |
############################################################################## ############################################################################## ### ### Running command: ### ### rm -rf les.buildbin-libdir && mkdir les.buildbin-libdir && /Users/biocbuild/BBS/utils/build-universal.sh les_1.30.0.tar.gz /Library/Frameworks/R.framework/Versions/Current/Resources/bin/R les.buildbin-libdir ### ############################################################################## ############################################################################## >>>>>>> >>>>>>> INSTALLATION WITH 'R CMD INSTALL --preclean --no-multiarch --library=les.buildbin-libdir les_1.30.0.tar.gz' >>>>>>> * installing *source* package ‘les’ ... ** R ** data ** inst ** byte-compile and prepare package for lazy loading ** help *** installing help indices ** building package indices ** installing vignettes ** testing if installed package can be loaded * DONE (les)