| Back to Multiple platform build/check report for BioC 3.7 |
|
This page was generated on 2018-10-17 08:29:50 -0400 (Wed, 17 Oct 2018).
| Package 769/1561 | Hostname | OS / Arch | INSTALL | BUILD | CHECK | BUILD BIN | ||||||
| karyoploteR 1.6.3 Bernat Gel
| malbec2 | Linux (Ubuntu 16.04.1 LTS) / x86_64 | OK | OK | [ OK ] | |||||||
| tokay2 | Windows Server 2012 R2 Standard / x64 | OK | OK | OK | OK | |||||||
| merida2 | OS X 10.11.6 El Capitan / x86_64 | OK | OK | OK | OK |
| Package: karyoploteR |
| Version: 1.6.3 |
| Command: /home/biocbuild/bbs-3.7-bioc/R/bin/R CMD check --install=check:karyoploteR.install-out.txt --library=/home/biocbuild/bbs-3.7-bioc/R/library --no-vignettes --timings karyoploteR_1.6.3.tar.gz |
| StartedAt: 2018-10-16 01:26:54 -0400 (Tue, 16 Oct 2018) |
| EndedAt: 2018-10-16 01:32:11 -0400 (Tue, 16 Oct 2018) |
| EllapsedTime: 317.2 seconds |
| RetCode: 0 |
| Status: OK |
| CheckDir: karyoploteR.Rcheck |
| Warnings: 0 |
##############################################################################
##############################################################################
###
### Running command:
###
### /home/biocbuild/bbs-3.7-bioc/R/bin/R CMD check --install=check:karyoploteR.install-out.txt --library=/home/biocbuild/bbs-3.7-bioc/R/library --no-vignettes --timings karyoploteR_1.6.3.tar.gz
###
##############################################################################
##############################################################################
* using log directory ‘/home/biocbuild/bbs-3.7-bioc/meat/karyoploteR.Rcheck’
* using R version 3.5.1 Patched (2018-07-12 r74967)
* using platform: x86_64-pc-linux-gnu (64-bit)
* using session charset: UTF-8
* using option ‘--no-vignettes’
* checking for file ‘karyoploteR/DESCRIPTION’ ... OK
* checking extension type ... Package
* this is package ‘karyoploteR’ version ‘1.6.3’
* checking package namespace information ... OK
* checking package dependencies ... OK
* checking if this is a source package ... OK
* checking if there is a namespace ... OK
* checking for hidden files and directories ... OK
* checking for portable file names ... OK
* checking for sufficient/correct file permissions ... OK
* checking whether package ‘karyoploteR’ can be installed ... OK
* checking installed package size ... OK
* checking package directory ... OK
* checking ‘build’ directory ... OK
* checking DESCRIPTION meta-information ... NOTE
Packages listed in more than one of Depends, Imports, Suggests, Enhances:
‘regioneR’ ‘GenomicRanges’
A package should be listed in only one of these fields.
* checking top-level files ... OK
* checking for left-over files ... OK
* checking index information ... OK
* checking package subdirectories ... OK
* checking R files for non-ASCII characters ... OK
* checking R files for syntax errors ... OK
* checking whether the package can be loaded ... OK
* checking whether the package can be loaded with stated dependencies ... OK
* checking whether the package can be unloaded cleanly ... OK
* checking whether the namespace can be loaded with stated dependencies ... OK
* checking whether the namespace can be unloaded cleanly ... OK
* checking dependencies in R code ... OK
* checking S3 generic/method consistency ... OK
* checking replacement functions ... OK
* checking foreign function calls ... OK
* checking R code for possible problems ... OK
* checking Rd files ... OK
* checking Rd metadata ... OK
* checking Rd cross-references ... OK
* checking for missing documentation entries ... OK
* checking for code/documentation mismatches ... OK
* checking Rd \usage sections ... OK
* checking Rd contents ... OK
* checking for unstated dependencies in examples ... OK
* checking R/sysdata.rda ... OK
* checking files in ‘vignettes’ ... OK
* checking examples ... OK
Examples with CPU or elapsed time > 5s
user system elapsed
kpPlotDensity 23.220 2.976 30.818
kpPlotGenes 11.684 0.060 11.755
getCytobands 3.556 0.052 43.057
* checking for unstated dependencies in ‘tests’ ... OK
* checking tests ...
Running ‘testthat.R’
OK
* checking for unstated dependencies in vignettes ... OK
* checking package vignettes in ‘inst/doc’ ... OK
* checking running R code from vignettes ... SKIPPED
* checking re-building of vignette outputs ... SKIPPED
* checking PDF version of manual ... OK
* DONE
Status: 1 NOTE
See
‘/home/biocbuild/bbs-3.7-bioc/meat/karyoploteR.Rcheck/00check.log’
for details.
karyoploteR.Rcheck/00install.out
############################################################################## ############################################################################## ### ### Running command: ### ### /home/biocbuild/bbs-3.7-bioc/R/bin/R CMD INSTALL karyoploteR ### ############################################################################## ############################################################################## * installing to library ‘/home/biocbuild/bbs-3.7-bioc/R/library’ * installing *source* package ‘karyoploteR’ ... ** R ** inst ** byte-compile and prepare package for lazy loading ** help *** installing help indices ** building package indices ** installing vignettes ** testing if installed package can be loaded * DONE (karyoploteR)
karyoploteR.Rcheck/tests/testthat.Rout
R version 3.5.1 Patched (2018-07-12 r74967) -- "Feather Spray"
Copyright (C) 2018 The R Foundation for Statistical Computing
Platform: x86_64-pc-linux-gnu (64-bit)
R is free software and comes with ABSOLUTELY NO WARRANTY.
You are welcome to redistribute it under certain conditions.
Type 'license()' or 'licence()' for distribution details.
R is a collaborative project with many contributors.
Type 'contributors()' for more information and
'citation()' on how to cite R or R packages in publications.
Type 'demo()' for some demos, 'help()' for on-line help, or
'help.start()' for an HTML browser interface to help.
Type 'q()' to quit R.
> library(testthat)
> library(karyoploteR)
Loading required package: regioneR
Loading required package: memoise
Loading required package: GenomicRanges
Loading required package: stats4
Loading required package: BiocGenerics
Loading required package: parallel
Attaching package: 'BiocGenerics'
The following objects are masked from 'package:parallel':
clusterApply, clusterApplyLB, clusterCall, clusterEvalQ,
clusterExport, clusterMap, parApply, parCapply, parLapply,
parLapplyLB, parRapply, parSapply, parSapplyLB
The following objects are masked from 'package:stats':
IQR, mad, sd, var, xtabs
The following objects are masked from 'package:base':
Filter, Find, Map, Position, Reduce, anyDuplicated, append,
as.data.frame, basename, cbind, colMeans, colSums, colnames,
dirname, do.call, duplicated, eval, evalq, get, grep, grepl,
intersect, is.unsorted, lapply, lengths, mapply, match, mget,
order, paste, pmax, pmax.int, pmin, pmin.int, rank, rbind,
rowMeans, rowSums, rownames, sapply, setdiff, sort, table, tapply,
union, unique, unsplit, which, which.max, which.min
Loading required package: S4Vectors
Attaching package: 'S4Vectors'
The following object is masked from 'package:base':
expand.grid
Loading required package: IRanges
Loading required package: GenomeInfoDb
Loading required package: BSgenome
Loading required package: Biostrings
Loading required package: XVector
Attaching package: 'Biostrings'
The following object is masked from 'package:base':
strsplit
Loading required package: rtracklayer
>
> test_check("karyoploteR")
══ testthat results ═══════════════════════════════════════════════════════════
OK: 128 SKIPPED: 1 FAILED: 0
>
> proc.time()
user system elapsed
10.848 0.392 11.251
karyoploteR.Rcheck/karyoploteR-Ex.timings
| name | user | system | elapsed | |
| darker | 0.004 | 0.000 | 0.001 | |
| filterParams | 0.000 | 0.000 | 0.001 | |
| getChromosomeNamesBoundingBox | 0.104 | 0.000 | 0.104 | |
| getCytobandColors | 0.000 | 0.000 | 0.001 | |
| getCytobands | 3.556 | 0.052 | 43.057 | |
| getDefaultPlotParams | 0.068 | 0.000 | 0.068 | |
| getMainTitleBoundingBox | 0.024 | 0.000 | 0.024 | |
| getVariantsColors | 0.004 | 0.000 | 0.001 | |
| kpAbline | 1.060 | 0.032 | 1.365 | |
| kpAddBaseNumbers | 0.200 | 0.016 | 0.217 | |
| kpAddChromosomeNames | 0.06 | 0.00 | 0.06 | |
| kpAddCytobandLabels | 0.220 | 0.000 | 0.221 | |
| kpAddCytobands | 0.024 | 0.000 | 0.024 | |
| kpAddCytobandsAsLine | 0.024 | 0.000 | 0.024 | |
| kpAddLabels | 0.056 | 0.000 | 0.056 | |
| kpAddMainTitle | 0.024 | 0.000 | 0.025 | |
| kpArea | 0.180 | 0.000 | 0.182 | |
| kpArrows | 0.784 | 0.004 | 0.787 | |
| kpAxis | 0.120 | 0.000 | 0.121 | |
| kpBars | 0.092 | 0.004 | 0.095 | |
| kpDataBackground | 0.120 | 0.000 | 0.123 | |
| kpHeatmap | 0.076 | 0.000 | 0.078 | |
| kpLines | 0.152 | 0.000 | 0.149 | |
| kpPlotBAMDensity | 1.424 | 0.008 | 1.432 | |
| kpPlotCoverage | 2.840 | 0.000 | 2.842 | |
| kpPlotDensity | 23.220 | 2.976 | 30.818 | |
| kpPlotGenes | 11.684 | 0.060 | 11.755 | |
| kpPlotLinks | 0.464 | 0.000 | 0.465 | |
| kpPlotLoess | 0.036 | 0.000 | 0.039 | |
| kpPlotMarkers | 1.052 | 0.000 | 1.051 | |
| kpPlotNames | 0.060 | 0.000 | 0.057 | |
| kpPlotRainfall | 0.52 | 0.00 | 0.52 | |
| kpPlotRegions | 3.040 | 0.000 | 3.044 | |
| kpPlotRibbon | 0.048 | 0.000 | 0.050 | |
| kpPlotTranscripts | 4.660 | 0.004 | 4.670 | |
| kpPoints | 0.172 | 0.000 | 0.170 | |
| kpPolygon | 0.132 | 0.000 | 0.131 | |
| kpRect | 0.336 | 0.004 | 0.341 | |
| kpSegments | 0.132 | 0.000 | 0.131 | |
| kpText | 0.136 | 0.000 | 0.138 | |
| lighter | 0.004 | 0.000 | 0.000 | |
| makeGenesDataFromTxDb | 3.360 | 0.000 | 3.362 | |
| plotDefaultPlotParams | 0.100 | 0.004 | 0.101 | |
| plotKaryotype | 1.416 | 0.016 | 1.434 | |
| prepareParameters2 | 0.040 | 0.000 | 0.038 | |
| prepareParameters4 | 0.024 | 0.000 | 0.024 | |