| Back to Multiple platform build/check report for BioC 3.7 |
|
This page was generated on 2018-10-17 08:27:18 -0400 (Wed, 17 Oct 2018).
| Package 729/1561 | Hostname | OS / Arch | INSTALL | BUILD | CHECK | BUILD BIN | ||||||
| immunoClust 1.12.0 Till Soerensen
| malbec2 | Linux (Ubuntu 16.04.1 LTS) / x86_64 | OK | OK | [ OK ] | |||||||
| tokay2 | Windows Server 2012 R2 Standard / x64 | OK | OK | OK | OK | |||||||
| merida2 | OS X 10.11.6 El Capitan / x86_64 | OK | OK | OK | OK |
| Package: immunoClust |
| Version: 1.12.0 |
| Command: /home/biocbuild/bbs-3.7-bioc/R/bin/R CMD check --install=check:immunoClust.install-out.txt --library=/home/biocbuild/bbs-3.7-bioc/R/library --no-vignettes --timings immunoClust_1.12.0.tar.gz |
| StartedAt: 2018-10-16 01:16:25 -0400 (Tue, 16 Oct 2018) |
| EndedAt: 2018-10-16 01:19:42 -0400 (Tue, 16 Oct 2018) |
| EllapsedTime: 196.4 seconds |
| RetCode: 0 |
| Status: OK |
| CheckDir: immunoClust.Rcheck |
| Warnings: 0 |
##############################################################################
##############################################################################
###
### Running command:
###
### /home/biocbuild/bbs-3.7-bioc/R/bin/R CMD check --install=check:immunoClust.install-out.txt --library=/home/biocbuild/bbs-3.7-bioc/R/library --no-vignettes --timings immunoClust_1.12.0.tar.gz
###
##############################################################################
##############################################################################
* using log directory ‘/home/biocbuild/bbs-3.7-bioc/meat/immunoClust.Rcheck’
* using R version 3.5.1 Patched (2018-07-12 r74967)
* using platform: x86_64-pc-linux-gnu (64-bit)
* using session charset: UTF-8
* using option ‘--no-vignettes’
* checking for file ‘immunoClust/DESCRIPTION’ ... OK
* checking extension type ... Package
* this is package ‘immunoClust’ version ‘1.12.0’
* checking package namespace information ... OK
* checking package dependencies ... OK
* checking if this is a source package ... OK
* checking if there is a namespace ... OK
* checking for hidden files and directories ... OK
* checking for portable file names ... OK
* checking for sufficient/correct file permissions ... OK
* checking whether package ‘immunoClust’ can be installed ... OK
* checking installed package size ... OK
* checking package directory ... OK
* checking ‘build’ directory ... OK
* checking DESCRIPTION meta-information ... NOTE
Malformed Description field: should contain one or more complete sentences.
* checking top-level files ... OK
* checking for left-over files ... OK
* checking index information ... OK
* checking package subdirectories ... OK
* checking R files for non-ASCII characters ... OK
* checking R files for syntax errors ... OK
* checking whether the package can be loaded ... OK
* checking whether the package can be loaded with stated dependencies ... OK
* checking whether the package can be unloaded cleanly ... OK
* checking whether the namespace can be loaded with stated dependencies ... OK
* checking whether the namespace can be unloaded cleanly ... OK
* checking dependencies in R code ... OK
* checking S3 generic/method consistency ... OK
* checking replacement functions ... OK
* checking foreign function calls ... OK
* checking R code for possible problems ... OK
* checking Rd files ... OK
* checking Rd metadata ... OK
* checking Rd cross-references ... OK
* checking for missing documentation entries ... OK
* checking for code/documentation mismatches ... OK
* checking Rd \usage sections ... OK
* checking Rd contents ... OK
* checking for unstated dependencies in examples ... OK
* checking contents of ‘data’ directory ... OK
* checking data for non-ASCII characters ... OK
* checking data for ASCII and uncompressed saves ... OK
* checking line endings in shell scripts ... OK
* checking line endings in C/C++/Fortran sources/headers ... OK
* checking line endings in Makefiles ... OK
* checking compilation flags in Makevars ... OK
* checking for GNU extensions in Makefiles ... OK
* checking for portable use of $(BLAS_LIBS) and $(LAPACK_LIBS) ... OK
* checking compiled code ... NOTE
Note: information on .o files is not available
* checking files in ‘vignettes’ ... OK
* checking examples ... OK
Examples with CPU or elapsed time > 5s
user system elapsed
dat.fcs 58.164 0.012 58.225
cell.process 55.820 0.004 55.891
cell.SubClustering 13.568 0.004 13.576
* checking for unstated dependencies in vignettes ... OK
* checking package vignettes in ‘inst/doc’ ... OK
* checking running R code from vignettes ... SKIPPED
* checking re-building of vignette outputs ... SKIPPED
* checking PDF version of manual ... OK
* DONE
Status: 2 NOTEs
See
‘/home/biocbuild/bbs-3.7-bioc/meat/immunoClust.Rcheck/00check.log’
for details.
immunoClust.Rcheck/00install.out
##############################################################################
##############################################################################
###
### Running command:
###
### /home/biocbuild/bbs-3.7-bioc/R/bin/R CMD INSTALL immunoClust
###
##############################################################################
##############################################################################
* installing to library ‘/home/biocbuild/bbs-3.7-bioc/R/library’
* installing *source* package ‘immunoClust’ ...
checking for pkg-config... /usr/bin/pkg-config
checking pkg-config is at least version 0.9.0... yes
checking for GSL... yes
configure: creating ./config.status
config.status: creating src/Makevars
** libs
g++ -I"/home/biocbuild/bbs-3.7-bioc/R/include" -DNDEBUG -I/usr/local/include -fpic -g -O2 -Wall -c R_meta.cpp -o R_meta.o
g++ -I"/home/biocbuild/bbs-3.7-bioc/R/include" -DNDEBUG -I/usr/local/include -fpic -g -O2 -Wall -c R_model.cpp -o R_model.o
g++ -I"/home/biocbuild/bbs-3.7-bioc/R/include" -DNDEBUG -I/usr/local/include -fpic -g -O2 -Wall -c dist_mvn.cpp -o dist_mvn.o
dist_mvn.cpp: In member function ‘int dist_mvn::hellinger(double*)’:
dist_mvn.cpp:56:14: warning: variable ‘det_k’ set but not used [-Wunused-but-set-variable]
double det, det_k, det_l, logD;
^
g++ -I"/home/biocbuild/bbs-3.7-bioc/R/include" -DNDEBUG -I/usr/local/include -fpic -g -O2 -Wall -c em_meta.cpp -o em_meta.o
em_meta.cpp: In member function ‘double em_meta::bt_step()’:
em_meta.cpp:438:10: warning: variable ‘sndLike’ set but not used [-Wunused-but-set-variable]
double sndLike = 0.0;
^
em_meta.cpp: In member function ‘int em_meta::wt_step()’:
em_meta.cpp:539:9: warning: variable ‘minNk’ set but not used [-Wunused-but-set-variable]
double minNk = T_sum;
^
em_meta.cpp:541:9: warning: variable ‘minDelta’ set but not used [-Wunused-but-set-variable]
double minDelta = FLTMAX;
^
em_meta.cpp: In member function ‘int em_meta::st_step()’:
em_meta.cpp:609:9: warning: variable ‘minNk’ set but not used [-Wunused-but-set-variable]
double minNk = T_sum;
^
em_meta.cpp:611:9: warning: variable ‘minDelta’ set but not used [-Wunused-but-set-variable]
double minDelta = FLTMAX;
^
em_meta.cpp: In member function ‘int em_meta::final(int*, double*, int*)’:
em_meta.cpp:1118:10: warning: variable ‘maxLike’ set but not used [-Wunused-but-set-variable]
double maxLike = 0;
^
g++ -I"/home/biocbuild/bbs-3.7-bioc/R/include" -DNDEBUG -I/usr/local/include -fpic -g -O2 -Wall -c em_mvn.cpp -o em_mvn.o
em_mvn.cpp: In member function ‘int em_gaussian::build(const int*, double*, int*)’:
em_mvn.cpp:595:18: warning: unused variable ‘status’ [-Wunused-variable]
int i, k, p, q, status = 0;
^
g++ -I"/home/biocbuild/bbs-3.7-bioc/R/include" -DNDEBUG -I/usr/local/include -fpic -g -O2 -Wall -c em_mvt.cpp -o em_mvt.o
em_mvt.cpp: In member function ‘int em_mvt::t_step()’:
em_mvt.cpp:522:9: warning: variable ‘minNk’ set but not used [-Wunused-but-set-variable]
double minNk = T_sum;
^
g++ -I"/home/biocbuild/bbs-3.7-bioc/R/include" -DNDEBUG -I/usr/local/include -fpic -g -O2 -Wall -c hc_meta.cpp -o hc_meta.o
hc_meta.cpp: In member function ‘int mvn_dendro::mahalanobis_w(int*, int*, double*)’:
hc_meta.cpp:814:16: warning: variable ‘S_i’ set but not used [-Wunused-but-set-variable]
const double *S_i, *S_j;
^
g++ -I"/home/biocbuild/bbs-3.7-bioc/R/include" -DNDEBUG -I/usr/local/include -fpic -g -O2 -Wall -c hc_mvn.cpp -o hc_mvn.o
gcc -I"/home/biocbuild/bbs-3.7-bioc/R/include" -DNDEBUG -I/usr/local/include -fpic -g -O2 -Wall -c immunoClust.c -o immunoClust.o
g++ -I"/home/biocbuild/bbs-3.7-bioc/R/include" -DNDEBUG -I/usr/local/include -fpic -g -O2 -Wall -c meta_gpa.cpp -o meta_gpa.o
g++ -I"/home/biocbuild/bbs-3.7-bioc/R/include" -DNDEBUG -I/usr/local/include -fpic -g -O2 -Wall -c meta_norm.cpp -o meta_norm.o
g++ -I"/home/biocbuild/bbs-3.7-bioc/R/include" -DNDEBUG -I/usr/local/include -fpic -g -O2 -Wall -c meta_scale.cpp -o meta_scale.o
meta_scale.cpp: In member function ‘void meta_scale::quantile()’:
meta_scale.cpp:846:10: warning: variable ‘w’ set but not used [-Wunused-but-set-variable]
double *w, *m, *s;
^
g++ -I"/home/biocbuild/bbs-3.7-bioc/R/include" -DNDEBUG -I/usr/local/include -fpic -g -O2 -Wall -c normalize.cpp -o normalize.o
g++ -I"/home/biocbuild/bbs-3.7-bioc/R/include" -DNDEBUG -I/usr/local/include -fpic -g -O2 -Wall -c sub_mvn.cpp -o sub_mvn.o
g++ -I"/home/biocbuild/bbs-3.7-bioc/R/include" -DNDEBUG -I/usr/local/include -fpic -g -O2 -Wall -c util.cpp -o util.o
g++ -I"/home/biocbuild/bbs-3.7-bioc/R/include" -DNDEBUG -I/usr/local/include -fpic -g -O2 -Wall -c vs_htrans.cpp -o vs_htrans.o
g++ -shared -L/home/biocbuild/bbs-3.7-bioc/R/lib -L/usr/local/lib -o immunoClust.so R_meta.o R_model.o dist_mvn.o em_meta.o em_mvn.o em_mvt.o hc_meta.o hc_mvn.o immunoClust.o meta_gpa.o meta_norm.o meta_scale.o normalize.o sub_mvn.o util.o vs_htrans.o -lgsl -lgslcblas -lm -L/home/biocbuild/bbs-3.7-bioc/R/lib -lR
installing to /home/biocbuild/bbs-3.7-bioc/R/library/immunoClust/libs
** R
** data
** byte-compile and prepare package for lazy loading
** help
*** installing help indices
** building package indices
** installing vignettes
** testing if installed package can be loaded
* DONE (immunoClust)
immunoClust.Rcheck/immunoClust-Ex.timings
| name | user | system | elapsed | |
| cell.ClustData | 2.428 | 0.004 | 2.456 | |
| cell.EM | 0.984 | 0.012 | 0.996 | |
| cell.FitModel | 0.936 | 0.004 | 0.941 | |
| cell.ME | 0.648 | 0.016 | 0.667 | |
| cell.SubClustering | 13.568 | 0.004 | 13.576 | |
| cell.hclust | 0.008 | 0.000 | 0.007 | |
| cell.process | 55.820 | 0.004 | 55.891 | |
| cell.removed | 0.008 | 0.000 | 0.009 | |
| dat.exp | 0.976 | 0.000 | 0.992 | |
| dat.fcs | 58.164 | 0.012 | 58.225 | |
| dat.meta | 0.004 | 0.000 | 0.004 | |
| immunoClust.object | 0.008 | 0.000 | 0.005 | |
| meta.ME | 0.012 | 0.000 | 0.013 | |
| meta.SubClustering | 0.104 | 0.000 | 0.102 | |
| meta.clustering | 1.048 | 0.000 | 1.048 | |
| meta.export | 0.968 | 0.000 | 0.968 | |
| meta.exprs | 0.008 | 0.000 | 0.008 | |
| meta.hclust | 0.004 | 0.000 | 0.004 | |
| meta.normalize | 0.004 | 0.000 | 0.003 | |
| meta.plot | 2.236 | 0.024 | 2.261 | |
| meta.process | 0.976 | 0.000 | 0.977 | |
| meta.regnorm | 0.008 | 0.000 | 0.005 | |
| plot.immunoClust | 0.584 | 0.008 | 0.595 | |
| splom.immunoClust | 0.716 | 0.004 | 0.722 | |
| trans.ApplyToData | 0.052 | 0.000 | 0.050 | |
| trans.FitToData | 0.216 | 0.004 | 0.232 | |