| Back to Multiple platform build/check report for BioC 3.7 |
|
This page was generated on 2018-10-17 08:45:46 -0400 (Wed, 17 Oct 2018).
| Package 721/1561 | Hostname | OS / Arch | INSTALL | BUILD | CHECK | BUILD BIN | ||||||
| igvR 1.0.1 Paul Shannon
| malbec2 | Linux (Ubuntu 16.04.1 LTS) / x86_64 | OK | OK | OK | |||||||
| tokay2 | Windows Server 2012 R2 Standard / x64 | [ OK ] | OK | OK | OK | |||||||
| merida2 | OS X 10.11.6 El Capitan / x86_64 | OK | OK | OK | OK |
| Package: igvR |
| Version: 1.0.1 |
| Command: C:\cygwin\bin\curl.exe -O https://malbec2.bioconductor.org/BBS/3.7/bioc/src/contrib/igvR_1.0.1.tar.gz && rm -rf igvR.buildbin-libdir && mkdir igvR.buildbin-libdir && C:\Users\biocbuild\bbs-3.7-bioc\R\bin\R.exe CMD INSTALL --merge-multiarch --build --library=igvR.buildbin-libdir igvR_1.0.1.tar.gz && C:\Users\biocbuild\bbs-3.7-bioc\R\bin\R.exe CMD INSTALL igvR_1.0.1.zip && rm igvR_1.0.1.tar.gz igvR_1.0.1.zip |
| StartedAt: 2018-10-16 20:07:49 -0400 (Tue, 16 Oct 2018) |
| EndedAt: 2018-10-16 20:09:03 -0400 (Tue, 16 Oct 2018) |
| EllapsedTime: 74.3 seconds |
| RetCode: 0 |
| Status: OK |
##############################################################################
##############################################################################
###
### Running command:
###
### C:\cygwin\bin\curl.exe -O https://malbec2.bioconductor.org/BBS/3.7/bioc/src/contrib/igvR_1.0.1.tar.gz && rm -rf igvR.buildbin-libdir && mkdir igvR.buildbin-libdir && C:\Users\biocbuild\bbs-3.7-bioc\R\bin\R.exe CMD INSTALL --merge-multiarch --build --library=igvR.buildbin-libdir igvR_1.0.1.tar.gz && C:\Users\biocbuild\bbs-3.7-bioc\R\bin\R.exe CMD INSTALL igvR_1.0.1.zip && rm igvR_1.0.1.tar.gz igvR_1.0.1.zip
###
##############################################################################
##############################################################################
% Total % Received % Xferd Average Speed Time Time Time Current
Dload Upload Total Spent Left Speed
0 0 0 0 0 0 0 0 --:--:-- --:--:-- --:--:-- 0
100 1391k 100 1391k 0 0 15.0M 0 --:--:-- --:--:-- --:--:-- 16.1M
install for i386
* installing *source* package 'igvR' ...
** R
** inst
** byte-compile and prepare package for lazy loading
** help
*** installing help indices
converting help for package 'igvR'
finding HTML links ... done
AnnotationTrack-class html
DataFrameAnnotationTrack-class html
DataFrameQuantitativeTrack-class html
GRangesAnnotationTrack-class html
GRangesQuantitativeTrack-class html
QuantitativeTrack-class html
Track-class html
UCSCBedAnnotationTrack-class html
UCSCBedGraphQuantitativeTrack-class html
VariantTrack-class html
displayTrack html
getGenomicRegion html
getTrackNames html
igvR-class html
ping html
removeTracksByName html
setGenome html
showGenomicRegion html
trackInfo html
trackSize-DataFrameAnnotationTrack-method
html
trackSize-DataFrameQuantitativeTrack-method
html
trackSize-GRangesAnnotationTrack-method
html
trackSize-GRangesQuantitativeTrack-method
html
trackSize-UCSCBedAnnotationTrack-method
html
trackSize-UCSCBedGraphQuantitativeTrack-method
html
trackSize-VariantTrack-method html
trackSize html
** building package indices
** installing vignettes
** testing if installed package can be loaded
In R CMD INSTALL
install for x64
* installing *source* package 'igvR' ...
** testing if installed package can be loaded
* MD5 sums
packaged installation of 'igvR' as igvR_1.0.1.zip
* DONE (igvR)
In R CMD INSTALL
In R CMD INSTALL
* installing to library 'C:/Users/biocbuild/bbs-3.7-bioc/R/library'
package 'igvR' successfully unpacked and MD5 sums checked
In R CMD INSTALL