| Back to Multiple platform build/check report for BioC 3.7 |
|
This page was generated on 2018-10-17 08:23:15 -0400 (Wed, 17 Oct 2018).
| Package 753/1561 | Hostname | OS / Arch | INSTALL | BUILD | CHECK | BUILD BIN | ||||||
| iSeq 1.32.0 Qianxing Mo
| malbec2 | Linux (Ubuntu 16.04.1 LTS) / x86_64 | [ OK ] | OK | OK | |||||||
| tokay2 | Windows Server 2012 R2 Standard / x64 | OK | OK | OK | OK | |||||||
| merida2 | OS X 10.11.6 El Capitan / x86_64 | OK | OK | OK | OK |
| Package: iSeq |
| Version: 1.32.0 |
| Command: /home/biocbuild/bbs-3.7-bioc/R/bin/R CMD INSTALL iSeq |
| StartedAt: 2018-10-15 17:55:15 -0400 (Mon, 15 Oct 2018) |
| EndedAt: 2018-10-15 17:55:20 -0400 (Mon, 15 Oct 2018) |
| EllapsedTime: 4.6 seconds |
| RetCode: 0 |
| Status: OK |
##############################################################################
##############################################################################
###
### Running command:
###
### /home/biocbuild/bbs-3.7-bioc/R/bin/R CMD INSTALL iSeq
###
##############################################################################
##############################################################################
* installing to library ‘/home/biocbuild/bbs-3.7-bioc/R/library’
* installing *source* package ‘iSeq’ ...
** libs
gcc -I"/home/biocbuild/bbs-3.7-bioc/R/include" -DNDEBUG -I/usr/local/include -fpic -g -O2 -Wall -c iSeq.c -o iSeq.o
iSeq.c: In function ‘iSeq1’:
iSeq.c:208:20: warning: unused variable ‘j’ [-Wunused-variable]
int sampleSize,i,j,r,n0,n1,state,nrowm1,sumxx;
^
gcc -shared -L/home/biocbuild/bbs-3.7-bioc/R/lib -L/usr/local/lib -o iSeq.so iSeq.o -L/home/biocbuild/bbs-3.7-bioc/R/lib -lR
installing to /home/biocbuild/bbs-3.7-bioc/R/library/iSeq/libs
** R
** data
*** moving datasets to lazyload DB
** demo
** byte-compile and prepare package for lazy loading
** help
*** installing help indices
** building package indices
** installing vignettes
** testing if installed package can be loaded
* DONE (iSeq)