| Back to Multiple platform build/check report for BioC 3.7 |
|
This page was generated on 2018-10-17 08:45:27 -0400 (Wed, 17 Oct 2018).
| Package 752/1561 | Hostname | OS / Arch | INSTALL | BUILD | CHECK | BUILD BIN | ||||||
| iSEE 1.0.1 Federico Marini
| malbec2 | Linux (Ubuntu 16.04.1 LTS) / x86_64 | OK | OK | OK | |||||||
| tokay2 | Windows Server 2012 R2 Standard / x64 | [ OK ] | OK | OK | OK | |||||||
| merida2 | OS X 10.11.6 El Capitan / x86_64 | OK | OK | OK | OK |
| Package: iSEE |
| Version: 1.0.1 |
| Command: C:\cygwin\bin\curl.exe -O https://malbec2.bioconductor.org/BBS/3.7/bioc/src/contrib/iSEE_1.0.1.tar.gz && rm -rf iSEE.buildbin-libdir && mkdir iSEE.buildbin-libdir && C:\Users\biocbuild\bbs-3.7-bioc\R\bin\R.exe CMD INSTALL --merge-multiarch --build --library=iSEE.buildbin-libdir iSEE_1.0.1.tar.gz && C:\Users\biocbuild\bbs-3.7-bioc\R\bin\R.exe CMD INSTALL iSEE_1.0.1.zip && rm iSEE_1.0.1.tar.gz iSEE_1.0.1.zip |
| StartedAt: 2018-10-16 19:37:54 -0400 (Tue, 16 Oct 2018) |
| EndedAt: 2018-10-16 19:38:42 -0400 (Tue, 16 Oct 2018) |
| EllapsedTime: 47.6 seconds |
| RetCode: 0 |
| Status: OK |
##############################################################################
##############################################################################
###
### Running command:
###
### C:\cygwin\bin\curl.exe -O https://malbec2.bioconductor.org/BBS/3.7/bioc/src/contrib/iSEE_1.0.1.tar.gz && rm -rf iSEE.buildbin-libdir && mkdir iSEE.buildbin-libdir && C:\Users\biocbuild\bbs-3.7-bioc\R\bin\R.exe CMD INSTALL --merge-multiarch --build --library=iSEE.buildbin-libdir iSEE_1.0.1.tar.gz && C:\Users\biocbuild\bbs-3.7-bioc\R\bin\R.exe CMD INSTALL iSEE_1.0.1.zip && rm iSEE_1.0.1.tar.gz iSEE_1.0.1.zip
###
##############################################################################
##############################################################################
% Total % Received % Xferd Average Speed Time Time Time Current
Dload Upload Total Spent Left Speed
0 0 0 0 0 0 0 0 --:--:-- --:--:-- --:--:-- 0
100 123k 100 123k 0 0 2707k 0 --:--:-- --:--:-- --:--:-- 3176k
install for i386
* installing *source* package 'iSEE' ...
** R
** inst
** byte-compile and prepare package for lazy loading
** help
*** installing help indices
converting help for package 'iSEE'
finding HTML links ... done
ExperimentColorMap-class html
annotateEnsembl html
finding level-2 HTML links ... done
annotateEntrez html
defaults html
iSEE-pkg html
iSEE html
isColorMapCompatible html
modeGating html
subsetPointsByGrid html
synchronizeAssays html
** building package indices
** installing vignettes
** testing if installed package can be loaded
In R CMD INSTALL
install for x64
* installing *source* package 'iSEE' ...
** testing if installed package can be loaded
* MD5 sums
packaged installation of 'iSEE' as iSEE_1.0.1.zip
* DONE (iSEE)
In R CMD INSTALL
In R CMD INSTALL
* installing to library 'C:/Users/biocbuild/bbs-3.7-bioc/R/library'
package 'iSEE' successfully unpacked and MD5 sums checked
In R CMD INSTALL