| Back to Multiple platform build/check report for BioC 3.7 |
|
This page was generated on 2018-10-17 08:48:27 -0400 (Wed, 17 Oct 2018).
| Package 711/1561 | Hostname | OS / Arch | INSTALL | BUILD | CHECK | BUILD BIN | ||||||
| iChip 1.34.0 Qianxing Mo
| malbec2 | Linux (Ubuntu 16.04.1 LTS) / x86_64 | OK | OK | OK | |||||||
| tokay2 | Windows Server 2012 R2 Standard / x64 | OK | OK | OK | OK | |||||||
| merida2 | OS X 10.11.6 El Capitan / x86_64 | [ OK ] | OK | OK | OK |
| Package: iChip |
| Version: 1.34.0 |
| Command: /Library/Frameworks/R.framework/Versions/Current/Resources/bin/R CMD INSTALL iChip |
| StartedAt: 2018-10-16 15:18:22 -0400 (Tue, 16 Oct 2018) |
| EndedAt: 2018-10-16 15:18:46 -0400 (Tue, 16 Oct 2018) |
| EllapsedTime: 24.6 seconds |
| RetCode: 0 |
| Status: OK |
##############################################################################
##############################################################################
###
### Running command:
###
### /Library/Frameworks/R.framework/Versions/Current/Resources/bin/R CMD INSTALL iChip
###
##############################################################################
##############################################################################
* installing to library ‘/Library/Frameworks/R.framework/Versions/3.5/Resources/library’
* installing *source* package ‘iChip’ ...
** libs
clang -I"/Library/Frameworks/R.framework/Resources/include" -DNDEBUG -I/usr/local/include -fPIC -Wall -g -O2 -c iChip.c -o iChip.o
iChip.c:24:61: warning: unused variable 'sdnoise' [-Wunused-variable]
double *score2,z0,z1,p,meanScore,varScore,sdScore,mean3sd,sdnoise,sdsignal;
^
iChip.c:24:69: warning: unused variable 'sdsignal' [-Wunused-variable]
double *score2,z0,z1,p,meanScore,varScore,sdScore,mean3sd,sdnoise,sdsignal;
^
iChip.c:188:20: warning: unused variable 'j' [-Wunused-variable]
int sampleSize,i,j,r,nnoise,nsignal,state,nrowm1,sumxx,rm1;
^
3 warnings generated.
clang -dynamiclib -Wl,-headerpad_max_install_names -undefined dynamic_lookup -single_module -multiply_defined suppress -L/Library/Frameworks/R.framework/Resources/lib -L/usr/local/lib -o iChip.so iChip.o -F/Library/Frameworks/R.framework/.. -framework R -Wl,-framework -Wl,CoreFoundation
installing to /Library/Frameworks/R.framework/Versions/3.5/Resources/library/iChip/libs
** R
** data
*** moving datasets to lazyload DB
** demo
** byte-compile and prepare package for lazy loading
** help
*** installing help indices
** building package indices
** installing vignettes
** testing if installed package can be loaded
* DONE (iChip)