| Back to Multiple platform build/check report for BioC 3.7 |
|
This page was generated on 2018-10-17 08:43:56 -0400 (Wed, 17 Oct 2018).
| Package 676/1561 | Hostname | OS / Arch | INSTALL | BUILD | CHECK | BUILD BIN | ||||||
| heatmaps 1.4.0 Malcolm Perry
| malbec2 | Linux (Ubuntu 16.04.1 LTS) / x86_64 | OK | OK | OK | |||||||
| tokay2 | Windows Server 2012 R2 Standard / x64 | OK | OK | OK | [ OK ] | |||||||
| merida2 | OS X 10.11.6 El Capitan / x86_64 | OK | OK | OK | OK |
| Package: heatmaps |
| Version: 1.4.0 |
| Command: rm -rf heatmaps.buildbin-libdir && mkdir heatmaps.buildbin-libdir && C:\Users\biocbuild\bbs-3.7-bioc\R\bin\R.exe CMD INSTALL --merge-multiarch --build --library=heatmaps.buildbin-libdir heatmaps_1.4.0.tar.gz |
| StartedAt: 2018-10-17 06:30:00 -0400 (Wed, 17 Oct 2018) |
| EndedAt: 2018-10-17 06:31:19 -0400 (Wed, 17 Oct 2018) |
| EllapsedTime: 78.5 seconds |
| RetCode: 0 |
| Status: OK |
| PackageFile: heatmaps_1.4.0.zip |
| PackageFileSize: 8.375 MiB |
##############################################################################
##############################################################################
###
### Running command:
###
### rm -rf heatmaps.buildbin-libdir && mkdir heatmaps.buildbin-libdir && C:\Users\biocbuild\bbs-3.7-bioc\R\bin\R.exe CMD INSTALL --merge-multiarch --build --library=heatmaps.buildbin-libdir heatmaps_1.4.0.tar.gz
###
##############################################################################
##############################################################################
install for i386
* installing *source* package 'heatmaps' ...
** R
** data
** inst
** byte-compile and prepare package for lazy loading
Creating a new generic function for 'scale' in package 'heatmaps'
** help
*** installing help indices
converting help for package 'heatmaps'
finding HTML links ... done
CoverageHeatmap html
Heatmap-class html
Heatmap html
HeatmapExamples html
PWMScanHeatmap html
PatternHeatmap html
coords html
default_color html
getScale html
heatmapOptions html
image html
label html
length-Heatmap-method html
metadata html
nseq html
plotHeatmap html
plotHeatmapList html
plotHeatmapMeta html
plotPatternDensityMap html
plot_clusters html
plot_legend html
rev-Heatmap-method html
scale html
smoothHeatmap html
width-Heatmap-method html
xm html
ym html
** building package indices
** installing vignettes
** testing if installed package can be loaded
In R CMD INSTALL
install for x64
* installing *source* package 'heatmaps' ...
** testing if installed package can be loaded
* MD5 sums
packaged installation of 'heatmaps' as heatmaps_1.4.0.zip
* DONE (heatmaps)
In R CMD INSTALL
In R CMD INSTALL