| Back to Multiple platform build/check report for BioC 3.7 |
|
This page was generated on 2018-10-17 08:59:13 -0400 (Wed, 17 Oct 2018).
| Package 609/1561 | Hostname | OS / Arch | INSTALL | BUILD | CHECK | BUILD BIN | ||||||
| gep2pep 1.0.0 Francesco Napolitano
| malbec2 | Linux (Ubuntu 16.04.1 LTS) / x86_64 | OK | OK | OK | |||||||
| tokay2 | Windows Server 2012 R2 Standard / x64 | OK | OK | OK | OK | |||||||
| merida2 | OS X 10.11.6 El Capitan / x86_64 | OK | OK | [ OK ] | OK |
| Package: gep2pep |
| Version: 1.0.0 |
| Command: /Library/Frameworks/R.framework/Versions/Current/Resources/bin/R CMD check --install=check:gep2pep.install-out.txt --library=/Library/Frameworks/R.framework/Versions/Current/Resources/library --no-vignettes --timings gep2pep_1.0.0.tar.gz |
| StartedAt: 2018-10-16 21:42:54 -0400 (Tue, 16 Oct 2018) |
| EndedAt: 2018-10-16 21:44:45 -0400 (Tue, 16 Oct 2018) |
| EllapsedTime: 111.4 seconds |
| RetCode: 0 |
| Status: OK |
| CheckDir: gep2pep.Rcheck |
| Warnings: 0 |
############################################################################## ############################################################################## ### ### Running command: ### ### /Library/Frameworks/R.framework/Versions/Current/Resources/bin/R CMD check --install=check:gep2pep.install-out.txt --library=/Library/Frameworks/R.framework/Versions/Current/Resources/library --no-vignettes --timings gep2pep_1.0.0.tar.gz ### ############################################################################## ############################################################################## * using log directory ‘/Users/biocbuild/bbs-3.7-bioc/meat/gep2pep.Rcheck’ * using R version 3.5.1 Patched (2018-07-12 r74967) * using platform: x86_64-apple-darwin15.6.0 (64-bit) * using session charset: UTF-8 * using option ‘--no-vignettes’ * checking for file ‘gep2pep/DESCRIPTION’ ... OK * checking extension type ... Package * this is package ‘gep2pep’ version ‘1.0.0’ * checking package namespace information ... OK * checking package dependencies ... OK * checking if this is a source package ... OK * checking if there is a namespace ... OK * checking for hidden files and directories ... OK * checking for portable file names ... OK * checking for sufficient/correct file permissions ... OK * checking whether package ‘gep2pep’ can be installed ... OK * checking installed package size ... OK * checking package directory ... OK * checking ‘build’ directory ... OK * checking DESCRIPTION meta-information ... OK * checking top-level files ... OK * checking for left-over files ... OK * checking index information ... OK * checking package subdirectories ... OK * checking R files for non-ASCII characters ... OK * checking R files for syntax errors ... OK * checking whether the package can be loaded ... OK * checking whether the package can be loaded with stated dependencies ... OK * checking whether the package can be unloaded cleanly ... OK * checking whether the namespace can be loaded with stated dependencies ... OK * checking whether the namespace can be unloaded cleanly ... OK * checking dependencies in R code ... OK * checking S3 generic/method consistency ... OK * checking replacement functions ... OK * checking foreign function calls ... OK * checking R code for possible problems ... OK * checking Rd files ... OK * checking Rd metadata ... OK * checking Rd cross-references ... OK * checking for missing documentation entries ... OK * checking for code/documentation mismatches ... OK * checking Rd \usage sections ... OK * checking Rd contents ... OK * checking for unstated dependencies in examples ... OK * checking files in ‘vignettes’ ... OK * checking examples ... OK * checking for unstated dependencies in ‘tests’ ... OK * checking tests ... Running ‘testthat.R’ OK * checking for unstated dependencies in vignettes ... OK * checking package vignettes in ‘inst/doc’ ... OK * checking running R code from vignettes ... SKIPPED * checking re-building of vignette outputs ... SKIPPED * checking PDF version of manual ... OK * DONE Status: OK
gep2pep.Rcheck/00install.out
############################################################################## ############################################################################## ### ### Running command: ### ### /Library/Frameworks/R.framework/Versions/Current/Resources/bin/R CMD INSTALL gep2pep ### ############################################################################## ############################################################################## * installing to library ‘/Library/Frameworks/R.framework/Versions/3.5/Resources/library’ * installing *source* package ‘gep2pep’ ... ** R ** inst ** byte-compile and prepare package for lazy loading ** help *** installing help indices ** building package indices ** installing vignettes ** testing if installed package can be loaded * DONE (gep2pep)
gep2pep.Rcheck/tests/testthat.Rout
R version 3.5.1 Patched (2018-07-12 r74967) -- "Feather Spray"
Copyright (C) 2018 The R Foundation for Statistical Computing
Platform: x86_64-apple-darwin15.6.0 (64-bit)
R is free software and comes with ABSOLUTELY NO WARRANTY.
You are welcome to redistribute it under certain conditions.
Type 'license()' or 'licence()' for distribution details.
R is a collaborative project with many contributors.
Type 'contributors()' for more information and
'citation()' on how to cite R or R packages in publications.
Type 'demo()' for some demos, 'help()' for on-line help, or
'help.start()' for an HTML browser interface to help.
Type 'q()' to quit R.
> library(testthat)
> library(gep2pep)
>
> test_check("gep2pep")
c3_TFT c3_MIR c4_CGN
c3_TFT 5 5 5
c3_MIR 5 5 5
c4_CGN 5 5 5
c3_TFT c3_MIR c4_CGN
c3_TFT 5 5 5
c3_MIR 5 5 5
c4_CGN 5 5 5
c3_TFT c3_MIR c4_CGN
c3_TFT 5 5 5
c3_MIR 5 5 5
c4_CGN 5 5 5
c3_TFT c3_MIR c4_CGN
c3_TFT 5 5 5
c3_MIR 5 5 5
c4_CGN 5 5 5
══ testthat results ═══════════════════════════════════════════════════════════
OK: 86 SKIPPED: 0 FAILED: 0
>
> proc.time()
user system elapsed
7.027 0.792 7.935
gep2pep.Rcheck/gep2pep-Ex.timings
| name | user | system | elapsed | |
| CategorizedCollection | 0.119 | 0.011 | 0.131 | |
| CondSEA | 0.908 | 0.208 | 1.143 | |
| PathSEA | 0.822 | 0.147 | 0.991 | |
| as.CategorizedCollection | 0.423 | 0.094 | 0.527 | |
| buildPEPs | 0.729 | 0.160 | 0.909 | |
| checkRepository | 0.305 | 0.077 | 0.393 | |
| createRepository | 0.230 | 0.071 | 0.309 | |
| exportSEA | 0.614 | 0.134 | 0.769 | |
| gene2pathways | 0.236 | 0.073 | 0.319 | |
| getCollections | 0.200 | 0.070 | 0.279 | |
| getDetails | 0.610 | 0.128 | 0.754 | |
| getResults | 0.657 | 0.132 | 0.815 | |
| importMSigDB.xml | 0.234 | 0.076 | 0.321 | |
| loadCollection | 0.238 | 0.075 | 0.319 | |
| loadESmatrix | 0.590 | 0.127 | 0.734 | |
| loadPVmatrix | 0.635 | 0.136 | 0.792 | |
| loadSampleGEP | 0.003 | 0.000 | 0.004 | |
| loadSamplePWS | 0.022 | 0.015 | 0.037 | |
| makeCollectionIDs | 0.057 | 0.001 | 0.057 | |
| openRepository | 0.233 | 0.073 | 0.310 | |