| Back to Multiple platform build/check report for BioC 3.7 |
|
This page was generated on 2018-10-17 08:41:59 -0400 (Wed, 17 Oct 2018).
| Package 603/1561 | Hostname | OS / Arch | INSTALL | BUILD | CHECK | BUILD BIN | ||||||
| genphen 1.8.0 Simo Kitanovski
| malbec2 | Linux (Ubuntu 16.04.1 LTS) / x86_64 | OK | ERROR | skipped | |||||||
| tokay2 | Windows Server 2012 R2 Standard / x64 | [ OK ] | ERROR | skipped | skipped | |||||||
| merida2 | OS X 10.11.6 El Capitan / x86_64 | OK | OK | OK | OK |
| Package: genphen |
| Version: 1.8.0 |
| Command: C:\cygwin\bin\curl.exe -O https://malbec2.bioconductor.org/BBS/3.7/bioc/src/contrib/genphen_1.8.0.tar.gz && rm -rf genphen.buildbin-libdir && mkdir genphen.buildbin-libdir && C:\Users\biocbuild\bbs-3.7-bioc\R\bin\R.exe CMD INSTALL --merge-multiarch --build --library=genphen.buildbin-libdir genphen_1.8.0.tar.gz && C:\Users\biocbuild\bbs-3.7-bioc\R\bin\R.exe CMD INSTALL genphen_1.8.0.zip && rm genphen_1.8.0.tar.gz genphen_1.8.0.zip |
| StartedAt: 2018-10-16 19:37:29 -0400 (Tue, 16 Oct 2018) |
| EndedAt: 2018-10-16 19:38:11 -0400 (Tue, 16 Oct 2018) |
| EllapsedTime: 42.0 seconds |
| RetCode: 0 |
| Status: OK |
##############################################################################
##############################################################################
###
### Running command:
###
### C:\cygwin\bin\curl.exe -O https://malbec2.bioconductor.org/BBS/3.7/bioc/src/contrib/genphen_1.8.0.tar.gz && rm -rf genphen.buildbin-libdir && mkdir genphen.buildbin-libdir && C:\Users\biocbuild\bbs-3.7-bioc\R\bin\R.exe CMD INSTALL --merge-multiarch --build --library=genphen.buildbin-libdir genphen_1.8.0.tar.gz && C:\Users\biocbuild\bbs-3.7-bioc\R\bin\R.exe CMD INSTALL genphen_1.8.0.zip && rm genphen_1.8.0.tar.gz genphen_1.8.0.zip
###
##############################################################################
##############################################################################
% Total % Received % Xferd Average Speed Time Time Time Current
Dload Upload Total Spent Left Speed
0 0 0 0 0 0 0 0 --:--:-- --:--:-- --:--:-- 0
100 52466 100 52466 0 0 951k 0 --:--:-- --:--:-- --:--:-- 1090k
install for i386
* installing *source* package 'genphen' ...
** R
** data
** inst
** byte-compile and prepare package for lazy loading
** help
*** installing help indices
converting help for package 'genphen'
finding HTML links ... done
dichotomous.phenotype.saap html
genotype.saap html
genotype.saap.msa html
genotype.snp html
genotype.snp.msa html
phenotype.saap html
phenotype.snp html
runDiagnostics html
runGenphen html
runPhyloBiasCheck html
** building package indices
** installing vignettes
** testing if installed package can be loaded
In R CMD INSTALL
install for x64
* installing *source* package 'genphen' ...
** testing if installed package can be loaded
* MD5 sums
packaged installation of 'genphen' as genphen_1.8.0.zip
* DONE (genphen)
In R CMD INSTALL
In R CMD INSTALL
* installing to library 'C:/Users/biocbuild/bbs-3.7-bioc/R/library'
package 'genphen' successfully unpacked and MD5 sums checked
In R CMD INSTALL