| Back to Multiple platform build/check report for BioC 3.7 |
|
This page was generated on 2018-10-17 08:40:50 -0400 (Wed, 17 Oct 2018).
| Package 602/1561 | Hostname | OS / Arch | INSTALL | BUILD | CHECK | BUILD BIN | ||||||
| genotypeeval 1.12.0 Jennifer Tom
| malbec2 | Linux (Ubuntu 16.04.1 LTS) / x86_64 | OK | OK | WARNINGS | |||||||
| tokay2 | Windows Server 2012 R2 Standard / x64 | [ OK ] | OK | WARNINGS | OK | |||||||
| merida2 | OS X 10.11.6 El Capitan / x86_64 | OK | OK | WARNINGS | OK |
| Package: genotypeeval |
| Version: 1.12.0 |
| Command: C:\cygwin\bin\curl.exe -O https://malbec2.bioconductor.org/BBS/3.7/bioc/src/contrib/genotypeeval_1.12.0.tar.gz && rm -rf genotypeeval.buildbin-libdir && mkdir genotypeeval.buildbin-libdir && C:\Users\biocbuild\bbs-3.7-bioc\R\bin\R.exe CMD INSTALL --merge-multiarch --build --library=genotypeeval.buildbin-libdir genotypeeval_1.12.0.tar.gz && C:\Users\biocbuild\bbs-3.7-bioc\R\bin\R.exe CMD INSTALL genotypeeval_1.12.0.zip && rm genotypeeval_1.12.0.tar.gz genotypeeval_1.12.0.zip |
| StartedAt: 2018-10-16 20:06:25 -0400 (Tue, 16 Oct 2018) |
| EndedAt: 2018-10-16 20:07:35 -0400 (Tue, 16 Oct 2018) |
| EllapsedTime: 70.4 seconds |
| RetCode: 0 |
| Status: OK |
##############################################################################
##############################################################################
###
### Running command:
###
### C:\cygwin\bin\curl.exe -O https://malbec2.bioconductor.org/BBS/3.7/bioc/src/contrib/genotypeeval_1.12.0.tar.gz && rm -rf genotypeeval.buildbin-libdir && mkdir genotypeeval.buildbin-libdir && C:\Users\biocbuild\bbs-3.7-bioc\R\bin\R.exe CMD INSTALL --merge-multiarch --build --library=genotypeeval.buildbin-libdir genotypeeval_1.12.0.tar.gz && C:\Users\biocbuild\bbs-3.7-bioc\R\bin\R.exe CMD INSTALL genotypeeval_1.12.0.zip && rm genotypeeval_1.12.0.tar.gz genotypeeval_1.12.0.zip
###
##############################################################################
##############################################################################
% Total % Received % Xferd Average Speed Time Time Time Current
Dload Upload Total Spent Left Speed
0 0 0 0 0 0 0 0 --:--:-- --:--:-- --:--:-- 0
100 400k 100 400k 0 0 5999k 0 --:--:-- --:--:-- --:--:-- 6562k
install for i386
* installing *source* package 'genotypeeval' ...
** R
** inst
** byte-compile and prepare package for lazy loading
** help
*** installing help indices
converting help for package 'genotypeeval'
finding HTML links ... done
GoldData-class html
GoldDataFromGRanges html
GoldDataParam-class html
GoldDataParam html
ReadGoldData html
ReadVCFData html
ReadVCFDataChunk html
VCFData-class html
VCFEvaluate html
VCFQAParam-class html
VCFQAParam html
VCFQAReport-class html
admixture html
callbyChrPlot html
calltypePlot html
chunkData html
computeTiTv html
didSamplePass html
didSamplePassOverall html
genotypeQualityPlot html
getCoefs html
getName html
getPlots html
getResults html
getVR html
goldCompare html
hetGap html
hetsMasked html
homrefPlot html
meanGQ html
myf html
numberCalls html
numberOfHets html
numberOfHomRefs html
numberOfHomVars html
percentHets html
percentInTarget html
rareCompare html
readDepth html
readVcfGold html
readdepthPlot html
reformatData html
titv html
** building package indices
** installing vignettes
** testing if installed package can be loaded
In R CMD INSTALL
install for x64
* installing *source* package 'genotypeeval' ...
** testing if installed package can be loaded
* MD5 sums
packaged installation of 'genotypeeval' as genotypeeval_1.12.0.zip
* DONE (genotypeeval)
In R CMD INSTALL
In R CMD INSTALL
* installing to library 'C:/Users/biocbuild/bbs-3.7-bioc/R/library'
package 'genotypeeval' successfully unpacked and MD5 sums checked
In R CMD INSTALL