| Back to Multiple platform build/check report for BioC 3.7 |
|
This page was generated on 2018-10-17 08:38:04 -0400 (Wed, 17 Oct 2018).
| Package 575/1561 | Hostname | OS / Arch | INSTALL | BUILD | CHECK | BUILD BIN | ||||||
| geneRxCluster 1.16.0 Charles Berry
| malbec2 | Linux (Ubuntu 16.04.1 LTS) / x86_64 | OK | OK | OK | |||||||
| tokay2 | Windows Server 2012 R2 Standard / x64 | OK | OK | OK | [ OK ] | |||||||
| merida2 | OS X 10.11.6 El Capitan / x86_64 | OK | OK | OK | OK |
| Package: geneRxCluster |
| Version: 1.16.0 |
| Command: rm -rf geneRxCluster.buildbin-libdir && mkdir geneRxCluster.buildbin-libdir && C:\Users\biocbuild\bbs-3.7-bioc\R\bin\R.exe CMD INSTALL --merge-multiarch --build --library=geneRxCluster.buildbin-libdir geneRxCluster_1.16.0.tar.gz |
| StartedAt: 2018-10-17 06:22:27 -0400 (Wed, 17 Oct 2018) |
| EndedAt: 2018-10-17 06:22:48 -0400 (Wed, 17 Oct 2018) |
| EllapsedTime: 20.6 seconds |
| RetCode: 0 |
| Status: OK |
| PackageFile: geneRxCluster_1.16.0.zip |
| PackageFileSize: 272.1 KiB |
##############################################################################
##############################################################################
###
### Running command:
###
### rm -rf geneRxCluster.buildbin-libdir && mkdir geneRxCluster.buildbin-libdir && C:\Users\biocbuild\bbs-3.7-bioc\R\bin\R.exe CMD INSTALL --merge-multiarch --build --library=geneRxCluster.buildbin-libdir geneRxCluster_1.16.0.tar.gz
###
##############################################################################
##############################################################################
install for i386
* installing *source* package 'geneRxCluster' ...
** libs
C:/Rtools/mingw_32/bin/gcc -I"C:/Users/BIOCBU˜1/BBS-3˜1.7-B/R/include" -DNDEBUG -I"C:/extsoft/include" -O3 -Wall -std=gnu99 -mtune=generic -c cluster.c -o cluster.o
cluster.c: In function 'cutptClean_new_elt':
cluster.c:80:6: warning: suggest explicit braces to avoid ambiguous 'else' [-Wparentheses]
if (*pvj!=NOTAIL)
^
cluster.c: In function 'gRxC_cluster':
cluster.c:682:2: warning: 'cutptFunRes' may be used uninitialized in this function [-Wmaybe-uninitialized]
SET_VECTOR_ELT(final,2,cutptFunRes);
^
C:/Rtools/mingw_32/bin/gcc -shared -s -static-libgcc -o geneRxCluster.dll tmp.def cluster.o -LC:/extsoft/lib/i386 -LC:/extsoft/lib -LC:/Users/BIOCBU˜1/BBS-3˜1.7-B/R/bin/i386 -lR
installing to C:/Users/biocbuild/bbs-3.7-bioc/meat/geneRxCluster.buildbin-libdir/geneRxCluster/libs/i386
** R
** inst
** byte-compile and prepare package for lazy loading
** help
*** installing help indices
converting help for package 'geneRxCluster'
finding HTML links ... done
critVal.alpha html
critVal.power html
critVal.target html
gRxCluster-object html
finding level-2 HTML links ... done
gRxCluster html
gRxPlot html
gRxPlotClumps html
gRxSummary html
geneRxCluster html
noprune html
plot.cutpoints html
prune.loglik html
** building package indices
** installing vignettes
** testing if installed package can be loaded
In R CMD INSTALL
install for x64
* installing *source* package 'geneRxCluster' ...
** libs
C:/Rtools/mingw_64/bin/gcc -I"C:/Users/BIOCBU˜1/BBS-3˜1.7-B/R/include" -DNDEBUG -I"C:/extsoft/include" -O2 -Wall -std=gnu99 -mtune=generic -c cluster.c -o cluster.o
cluster.c: In function 'cutptClean_new_elt':
cluster.c:80:6: warning: suggest explicit braces to avoid ambiguous 'else' [-Wparentheses]
if (*pvj!=NOTAIL)
^
cluster.c: In function 'gRxC_cluster':
cluster.c:682:2: warning: 'cutptFunRes' may be used uninitialized in this function [-Wmaybe-uninitialized]
SET_VECTOR_ELT(final,2,cutptFunRes);
^
C:/Rtools/mingw_64/bin/gcc -shared -s -static-libgcc -o geneRxCluster.dll tmp.def cluster.o -LC:/extsoft/lib/x64 -LC:/extsoft/lib -LC:/Users/BIOCBU˜1/BBS-3˜1.7-B/R/bin/x64 -lR
installing to C:/Users/biocbuild/bbs-3.7-bioc/meat/geneRxCluster.buildbin-libdir/geneRxCluster/libs/x64
** testing if installed package can be loaded
* MD5 sums
packaged installation of 'geneRxCluster' as geneRxCluster_1.16.0.zip
* DONE (geneRxCluster)
In R CMD INSTALL
In R CMD INSTALL