| Back to Multiple platform build/check report for BioC 3.7 |
|
This page was generated on 2018-10-17 08:57:03 -0400 (Wed, 17 Oct 2018).
| Package 560/1561 | Hostname | OS / Arch | INSTALL | BUILD | CHECK | BUILD BIN | ||||||
| geneAttribution 1.6.0 Arthur Wuster
| malbec2 | Linux (Ubuntu 16.04.1 LTS) / x86_64 | OK | OK | OK | |||||||
| tokay2 | Windows Server 2012 R2 Standard / x64 | OK | OK | OK | OK | |||||||
| merida2 | OS X 10.11.6 El Capitan / x86_64 | OK | OK | OK | [ OK ] |
| Package: geneAttribution |
| Version: 1.6.0 |
| Command: rm -rf geneAttribution.buildbin-libdir && mkdir geneAttribution.buildbin-libdir && /Users/biocbuild/BBS/utils/build-universal.sh geneAttribution_1.6.0.tar.gz /Library/Frameworks/R.framework/Versions/Current/Resources/bin/R geneAttribution.buildbin-libdir |
| StartedAt: 2018-10-17 01:22:41 -0400 (Wed, 17 Oct 2018) |
| EndedAt: 2018-10-17 01:23:35 -0400 (Wed, 17 Oct 2018) |
| EllapsedTime: 53.7 seconds |
| RetCode: 0 |
| Status: OK |
| PackageFile: geneAttribution_1.6.0.tgz |
| PackageFileSize: 62.29 KiB |
############################################################################## ############################################################################## ### ### Running command: ### ### rm -rf geneAttribution.buildbin-libdir && mkdir geneAttribution.buildbin-libdir && /Users/biocbuild/BBS/utils/build-universal.sh geneAttribution_1.6.0.tar.gz /Library/Frameworks/R.framework/Versions/Current/Resources/bin/R geneAttribution.buildbin-libdir ### ############################################################################## ############################################################################## >>>>>>> >>>>>>> INSTALLATION WITH 'R CMD INSTALL --preclean --no-multiarch --library=geneAttribution.buildbin-libdir geneAttribution_1.6.0.tar.gz' >>>>>>> * installing *source* package ‘geneAttribution’ ... ** R ** inst ** byte-compile and prepare package for lazy loading ** help *** installing help indices ** building package indices ** installing vignettes ** testing if installed package can be loaded * DONE (geneAttribution)