| Back to Multiple platform build/check report for BioC 3.7 |
|
This page was generated on 2018-10-17 08:38:33 -0400 (Wed, 17 Oct 2018).
| Package 545/1561 | Hostname | OS / Arch | INSTALL | BUILD | CHECK | BUILD BIN | ||||||
| gaucho 1.16.0 Alex Murison
| malbec2 | Linux (Ubuntu 16.04.1 LTS) / x86_64 | OK | OK | ERROR | |||||||
| tokay2 | Windows Server 2012 R2 Standard / x64 | OK | OK | ERROR | [ OK ] | |||||||
| merida2 | OS X 10.11.6 El Capitan / x86_64 | OK | OK | ERROR | OK |
| Package: gaucho |
| Version: 1.16.0 |
| Command: rm -rf gaucho.buildbin-libdir && mkdir gaucho.buildbin-libdir && C:\Users\biocbuild\bbs-3.7-bioc\R\bin\R.exe CMD INSTALL --merge-multiarch --build --library=gaucho.buildbin-libdir gaucho_1.16.0.tar.gz |
| StartedAt: 2018-10-17 06:21:28 -0400 (Wed, 17 Oct 2018) |
| EndedAt: 2018-10-17 06:21:41 -0400 (Wed, 17 Oct 2018) |
| EllapsedTime: 12.5 seconds |
| RetCode: 0 |
| Status: OK |
| PackageFile: gaucho_1.16.0.zip |
| PackageFileSize: 429.4 KiB |
##############################################################################
##############################################################################
###
### Running command:
###
### rm -rf gaucho.buildbin-libdir && mkdir gaucho.buildbin-libdir && C:\Users\biocbuild\bbs-3.7-bioc\R\bin\R.exe CMD INSTALL --merge-multiarch --build --library=gaucho.buildbin-libdir gaucho_1.16.0.tar.gz
###
##############################################################################
##############################################################################
install for i386
* installing *source* package 'gaucho' ...
** R
** inst
** byte-compile and prepare package for lazy loading
** help
*** installing help indices
converting help for package 'gaucho'
finding HTML links ... done
BYB1_G07_pruned html
finding level-2 HTML links ... done
gaucho html
gauchoReport html
gaucho_hidden_data html
gaucho_simple_data html
gaucho_synth_data html
gaucho_synth_data_jittered html
** building package indices
** installing vignettes
** testing if installed package can be loaded
In R CMD INSTALL
install for x64
* installing *source* package 'gaucho' ...
** testing if installed package can be loaded
* MD5 sums
packaged installation of 'gaucho' as gaucho_1.16.0.zip
* DONE (gaucho)
In R CMD INSTALL
In R CMD INSTALL