| Back to Multiple platform build/check report for BioC 3.7 |
|
This page was generated on 2018-10-17 08:39:45 -0400 (Wed, 17 Oct 2018).
| Package 643/1561 | Hostname | OS / Arch | INSTALL | BUILD | CHECK | BUILD BIN | ||||||
| gQTLstats 1.12.0 VJ Carey
| malbec2 | Linux (Ubuntu 16.04.1 LTS) / x86_64 | OK | OK | OK | |||||||
| tokay2 | Windows Server 2012 R2 Standard / x64 | [ OK ] | OK | WARNINGS | OK | |||||||
| merida2 | OS X 10.11.6 El Capitan / x86_64 | OK | OK | OK | OK |
| Package: gQTLstats |
| Version: 1.12.0 |
| Command: C:\cygwin\bin\curl.exe -O https://malbec2.bioconductor.org/BBS/3.7/bioc/src/contrib/gQTLstats_1.12.0.tar.gz && rm -rf gQTLstats.buildbin-libdir && mkdir gQTLstats.buildbin-libdir && C:\Users\biocbuild\bbs-3.7-bioc\R\bin\R.exe CMD INSTALL --merge-multiarch --build --library=gQTLstats.buildbin-libdir gQTLstats_1.12.0.tar.gz && C:\Users\biocbuild\bbs-3.7-bioc\R\bin\R.exe CMD INSTALL gQTLstats_1.12.0.zip && rm gQTLstats_1.12.0.tar.gz gQTLstats_1.12.0.zip |
| StartedAt: 2018-10-16 20:14:16 -0400 (Tue, 16 Oct 2018) |
| EndedAt: 2018-10-16 20:17:45 -0400 (Tue, 16 Oct 2018) |
| EllapsedTime: 208.6 seconds |
| RetCode: 0 |
| Status: OK |
##############################################################################
##############################################################################
###
### Running command:
###
### C:\cygwin\bin\curl.exe -O https://malbec2.bioconductor.org/BBS/3.7/bioc/src/contrib/gQTLstats_1.12.0.tar.gz && rm -rf gQTLstats.buildbin-libdir && mkdir gQTLstats.buildbin-libdir && C:\Users\biocbuild\bbs-3.7-bioc\R\bin\R.exe CMD INSTALL --merge-multiarch --build --library=gQTLstats.buildbin-libdir gQTLstats_1.12.0.tar.gz && C:\Users\biocbuild\bbs-3.7-bioc\R\bin\R.exe CMD INSTALL gQTLstats_1.12.0.zip && rm gQTLstats_1.12.0.tar.gz gQTLstats_1.12.0.zip
###
##############################################################################
##############################################################################
% Total % Received % Xferd Average Speed Time Time Time Current
Dload Upload Total Spent Left Speed
0 0 0 0 0 0 0 0 --:--:-- --:--:-- --:--:-- 0
0 62.6M 0 0 0 0 0 0 --:--:-- 0:00:01 --:--:-- 0
89 62.6M 89 55.8M 0 0 34.4M 0 0:00:01 0:00:01 --:--:-- 34.5M
100 62.6M 100 62.6M 0 0 33.7M 0 0:00:01 0:00:01 --:--:-- 33.8M
install for i386
* installing *source* package 'gQTLstats' ...
** R
** data
** inst
** byte-compile and prepare package for lazy loading
** help
*** installing help indices
converting help for package 'gQTLstats'
finding HTML links ... done
FDRsupp-class html
TransStore-class html
Rd warning: C:/Users/biocbuild/bbs-3.7-bioc/tmpdir/RtmpoPGPw7/R.INSTALL20745a0f479b/gQTLstats/man/TransStore-class.Rd:19: file link 'Registry' in package 'BatchJobs' does not exist and so has been treated as a topic
TransStore html
Rd warning: C:/Users/biocbuild/bbs-3.7-bioc/tmpdir/RtmpoPGPw7/R.INSTALL20745a0f479b/gQTLstats/man/TransStore.Rd:18: file link 'Registry' in package 'BatchJobs' does not exist and so has been treated as a topic
cisAssoc html
Rd warning: C:/Users/biocbuild/bbs-3.7-bioc/tmpdir/RtmpoPGPw7/R.INSTALL20745a0f479b/gQTLstats/man/cisAssoc.Rd:37: file link 'RangedSummarizedExperiment' in package 'SummarizedExperiment' does not exist and so has been treated as a topic
Rd warning: C:/Users/biocbuild/bbs-3.7-bioc/tmpdir/RtmpoPGPw7/R.INSTALL20745a0f479b/gQTLstats/man/cisAssoc.Rd:40: file link 'TabixFile' in package 'Rsamtools' does not exist and so has been treated as a topic
Rd warning: C:/Users/biocbuild/bbs-3.7-bioc/tmpdir/RtmpoPGPw7/R.INSTALL20745a0f479b/gQTLstats/man/cisAssoc.Rd:63: file link 'col.summary' in package 'snpStats' does not exist and so has been treated as a topic
Rd warning: C:/Users/biocbuild/bbs-3.7-bioc/tmpdir/RtmpoPGPw7/R.INSTALL20745a0f479b/gQTLstats/man/cisAssoc.Rd:75: file link 'isSNV' in package 'VariantAnnotation' does not exist and so has been treated as a topic
clipPCs html
Rd warning: C:/Users/biocbuild/bbs-3.7-bioc/tmpdir/RtmpoPGPw7/R.INSTALL20745a0f479b/gQTLstats/man/clipPCs.Rd:24: file link 'RangedSummarizedExperiment' in package 'SummarizedExperiment' does not exist and so has been treated as a topic
Rd warning: C:/Users/biocbuild/bbs-3.7-bioc/tmpdir/RtmpoPGPw7/R.INSTALL20745a0f479b/gQTLstats/man/clipPCs.Rd:50: file link 'RangedSummarizedExperiment' in package 'SummarizedExperiment' does not exist and so has been treated as a topic
directPlot html
enumerateByFDR html
finding level-2 HTML links ... done
eqBox2 html
Rd warning: C:/Users/biocbuild/bbs-3.7-bioc/tmpdir/RtmpoPGPw7/R.INSTALL20745a0f479b/gQTLstats/man/eqBox2.Rd:27: file link 'RangedSummarizedExperiment' in package 'SummarizedExperiment' does not exist and so has been treated as a topic
filtFDR html
gQTLs html
Rd warning: C:/Users/biocbuild/bbs-3.7-bioc/tmpdir/RtmpoPGPw7/R.INSTALL20745a0f479b/gQTLstats/man/gQTLs.Rd:29: file link 'readVcf' in package 'VariantAnnotation' does not exist and so has been treated as a topic
gQTLstats-package html
hmm878 html
manhWngr html
Rd warning: C:/Users/biocbuild/bbs-3.7-bioc/tmpdir/RtmpoPGPw7/R.INSTALL20745a0f479b/gQTLstats/man/manhWngr.Rd:28: file link 'GRanges' in package 'GenomicRanges' does not exist and so has been treated as a topic
mixedVCFtoSnpMatrix html
Rd warning: C:/Users/biocbuild/bbs-3.7-bioc/tmpdir/RtmpoPGPw7/R.INSTALL20745a0f479b/gQTLstats/man/mixedVCFtoSnpMatrix.Rd:18: file link 'CollapsedVCF-class' in package 'VariantAnnotation' does not exist and so has been treated as a topic
Rd warning: C:/Users/biocbuild/bbs-3.7-bioc/tmpdir/RtmpoPGPw7/R.INSTALL20745a0f479b/gQTLstats/man/mixedVCFtoSnpMatrix.Rd:24: file link 'genotypeToSnpMatrix' in package 'VariantAnnotation' does not exist and so has been treated as a topic
Rd warning: C:/Users/biocbuild/bbs-3.7-bioc/tmpdir/RtmpoPGPw7/R.INSTALL20745a0f479b/gQTLstats/man/mixedVCFtoSnpMatrix.Rd:32: file link 'genotypeToSnpMatrix' in package 'VariantAnnotation' does not exist and so has been treated as a topic
Rd warning: C:/Users/biocbuild/bbs-3.7-bioc/tmpdir/RtmpoPGPw7/R.INSTALL20745a0f479b/gQTLstats/man/mixedVCFtoSnpMatrix.Rd:50: file link 'genotypeToSnpMatrix' in package 'VariantAnnotation' does not exist and so has been treated as a topic
pifdr html
qqStore html
Rd warning: C:/Users/biocbuild/bbs-3.7-bioc/tmpdir/RtmpoPGPw7/R.INSTALL20745a0f479b/gQTLstats/man/qqStore.Rd:28: file link 'storeToQuantiles' in package 'gQTLstats' does not exist and so has been treated as a topic
queryVCF html
Rd warning: C:/Users/biocbuild/bbs-3.7-bioc/tmpdir/RtmpoPGPw7/R.INSTALL20745a0f479b/gQTLstats/man/queryVCF.Rd:29: file link 'genotypeToSnpMatrix' in package 'VariantAnnotation' does not exist and so has been treated as a topic
senstab html
setFDRfunc html
storeToStats html
tqbrowser html
transAssoc html
transBrowse html
tsByRank html
Rd warning: C:/Users/biocbuild/bbs-3.7-bioc/tmpdir/RtmpoPGPw7/R.INSTALL20745a0f479b/gQTLstats/man/tsByRank.Rd:52: file link 'GRanges' in package 'GenomicRanges' does not exist and so has been treated as a topic
txsPlot html
** building package indices
** installing vignettes
** testing if installed package can be loaded
In R CMD INSTALL
install for x64
* installing *source* package 'gQTLstats' ...
** testing if installed package can be loaded
* MD5 sums
packaged installation of 'gQTLstats' as gQTLstats_1.12.0.zip
* DONE (gQTLstats)
In R CMD INSTALL
In R CMD INSTALL
* installing to library 'C:/Users/biocbuild/bbs-3.7-bioc/R/library'
package 'gQTLstats' successfully unpacked and MD5 sums checked
In R CMD INSTALL